BEGIN:VCALENDAR
VERSION:2.0
PRODID:-//Lubin - Portal Miasta - ECPv6.10.2//NONSGML v1.0//EN
CALSCALE:GREGORIAN
METHOD:PUBLISH
X-ORIGINAL-URL:https://www.lubin.pl
X-WR-CALDESC:Wydarzenia dla Lubin - Portal Miasta
REFRESH-INTERVAL;VALUE=DURATION:PT1H
X-Robots-Tag:noindex
X-PUBLISHED-TTL:PT1H
BEGIN:VTIMEZONE
TZID:Europe/Warsaw
BEGIN:DAYLIGHT
TZOFFSETFROM:+0100
TZOFFSETTO:+0200
TZNAME:CEST
DTSTART:20250330T010000
END:DAYLIGHT
BEGIN:STANDARD
TZOFFSETFROM:+0200
TZOFFSETTO:+0100
TZNAME:CET
DTSTART:20251026T010000
END:STANDARD
END:VTIMEZONE
BEGIN:VEVENT
DTSTART;TZID=Europe/Warsaw:20251128T110000
DTEND;TZID=Europe/Warsaw:20251128T130000
DTSTAMP:20260419T165017
CREATED:20251119T075502Z
LAST-MODIFIED:20251119T075502Z
UID:10001046-1764327600-1764334800@www.lubin.pl
SUMMARY:Senior.art || CDT w Lubinie
DESCRIPTION:Senior.art to wspólna inicjatywa Centrum Działań Twórczych i Domu Dziennego Pobytu „Senior” działającego w strukturze Miejskiego Ośrodka Pomocy Społecznej w Lubinie\, która ma na celu stworzenie przestrzeni do wspólnego przeżywania sztuki\, spotkań i wymiany doświadczeń osób dojrzałych. \nTo wyjątkowe przedsięwzięcie jest kontynuacją działań podejmowanych przez lokalne instytucje na rzecz osób starszych – tym razem w formie artystycznego święta\, które łączy pokolenia i podkreśla znaczenie seniorów w życiu społecznym i kulturalnym Lubina. \nW programie zaplanowano występy zespołów artystycznych i solistów związanych z lubińskim środowiskiem senioralnym. Na scenie pojawią się: \n\nZespół teatralny „Pozytywni”\, który przedstawi spektakl pełen humoru i refleksji\,\nZespół wokalny „Wrzos”\, prezentujący nastrojowe utwory w pięknej harmonii głosów\,\nZespół wokalny „Bez Nazwy”\, znany z energicznych i wzruszających interpretacji\,\nZespół ludowy „Hosadyna od Lubina”\, wprowadzający w atmosferę tradycyjnej muzyki ludowej\,\noraz indywidualni wykonawcy\, którzy zaprezentują własne występy muzyczne i poetyckie.\n\nW wydarzeniu weźmie udział wielu artystów\, reprezentujących różne formy ekspresji i wrażliwości twórczej. Ich występy będą dowodem pasji\, zaangażowania i miłości do sztuki. Senior.art pokazuje\, że kreatywność nie zna ma wieku\, a uczestnictwo w kulturze stanowi ważny element aktywnego i pełnego życia. \nOrganizatorami wydarzenia są: Centrum Działań Twórczych w Lubinie\, Miejski Ośrodek Pomocy Społecznej w Lubinie oraz Powiat Lubiński\, którzy od lat podejmują inicjatywy na rzecz seniorów\, wspierając ich rozwój\, integrację i uczestnictwo w życiu społecznym. \nWstęp bezpłatny – wejściówki dostępne są w sekretariacie CDT (liczba miejsc ograniczona).
URL:https://www.lubin.pl/wydarzenie/senior-art-cdt-w-lubinie/
LOCATION:Centrum Działań Twórczych w Lubinie\, ul. Komisji Edukacji Narodowej 6A\, Lubin\, 59-300
ATTACH;FMTTYPE=image/png:https://www.lubin.pl/wp-content/uploads/2025/11/SENIOR-fb-2.png
END:VEVENT
BEGIN:VEVENT
DTSTART;TZID=Europe/Warsaw:20251128T170000
DTEND;TZID=Europe/Warsaw:20251128T183000
DTSTAMP:20260419T165017
CREATED:20250808T082554Z
LAST-MODIFIED:20251114T091212Z
UID:10001041-1764349200-1764354600@www.lubin.pl
SUMMARY:Spektakl "Rodzinne rewolucje" – Spektaklove || CK Muza
DESCRIPTION:„Rodzinne rewolucje” to błyskotliwa komedia\, która w prosty sposób pokazuje\, co kieruje naszymi instynktami i wpływa na rodzinne relacje. Niezwykłe życie rodzeństwa Luizy i Roberta splatają nici głębokiej\, rodzinnej miłości. Gdy ich rodzice\, Jeanne i Vincent Gauthier\, niespodziewanie wzywają swoje dzieci do rodzinnego domu\, rodzeństwo staje przed niespodzianką\, mającą na zawsze zmienić wzajemne relacje. Jakie wiadomości czekają na nich w przepełnionej niezapomnianymi wspomnieniami domowej atmosferze? Jakie cechy każdego z bohaterów ujawnia nieoczekiwana zmiana okoliczności? Zaskakujące zwroty akcji prowokują do refleksji nad tym\, jak pewne wydarzenia testują granice rodzinnej lojalności i zrozumienia. Warto przeżyć taki scenariusz w bezpiecznej pozycji widza teatralnego. A nuż się przyda? \nAutor: Emmanuel Patron i Armelle Patron\nPrzekład: Witold Stefaniak\nReżyseria: Wojciech Malajkat \nObsada: Małgorzata Potocka\, Olaf Lubaszenko\, Paweł Małaszyński\, Marcin Stępniak\, Karolina Bacia \nduża sala\, bilety: 150 i 140 zł (ostatni rząd) 
URL:https://www.lubin.pl/wydarzenie/spektakl-rodzinne-rewolucje-spektaklove-ck-muza/2025-11-28/
LOCATION:Centrum Kultury „Muza” w Lubinie\, ul. Armii Krajowej 1\, Lubin\, 59-300
ORGANIZER;CN="Centrum Kultury 'Muza' w Lubinie":MAILTO:sekretariat@ckmuza.pl
END:VEVENT
BEGIN:VEVENT
DTSTART;TZID=Europe/Warsaw:20251128T184500
DTEND;TZID=Europe/Warsaw:20251128T200000
DTSTAMP:20260419T165017
CREATED:20251114T093227Z
LAST-MODIFIED:20251114T093227Z
UID:10001043-1764355500-1764360000@www.lubin.pl
SUMMARY:"Musica solacium est" koncert organowy || Narodowa Orkiestra Dęta
DESCRIPTION:Wystąpią:\nPatrycjusz Gruszecki – trąbka\nAntoni Pokora – organy
URL:https://www.lubin.pl/wydarzenie/musica-solacium-est-koncert-organowy-narodowa-orkiestra-deta/
END:VEVENT
BEGIN:VEVENT
DTSTART;TZID=Europe/Warsaw:20251130T123000
DTEND;TZID=Europe/Warsaw:20251130T140000
DTSTAMP:20260419T165017
CREATED:20251121T103458Z
LAST-MODIFIED:20251121T103458Z
UID:10001047-1764505800-1764511200@www.lubin.pl
SUMMARY:ORLEN Superliga Mężczyzn: MKS Zagłębie Lubin vs. Corotop Gwardia Opole
DESCRIPTION:Kup bilet TUTAJ
URL:https://www.lubin.pl/wydarzenie/orlen-superliga-mezczyzn-mks-zaglebie-lubin-vs-corotop-gwardia-opole/
LOCATION:Hala Widowiskowo – Sportowa RCS w Lubinie\, Odrodzenia 28b\, Lubin\, 59-300
ATTACH;FMTTYPE=image/jpeg:https://www.lubin.pl/wp-content/uploads/2025/11/1120x600_CuprumArena_SLM-GWARDIA-1.jpg
END:VEVENT
BEGIN:VEVENT
DTSTART;TZID=Europe/Warsaw:20251130T150000
DTEND;TZID=Europe/Warsaw:20251130T163000
DTSTAMP:20260419T165017
CREATED:20250404T111535Z
LAST-MODIFIED:20250404T111535Z
UID:10000797-1764514800-1764520200@www.lubin.pl
SUMMARY:NutkoSfera – CeZik dzieciom – koncert
DESCRIPTION:„Joł\, joł Jowisz!” – tymi słowami wita się z Wami jedna z planet naszego Układu Słonecznego… Aby poznać lepiej duże i „Małe ciała niebieskie” oraz dowiedzieć się\, czemu samolot lata\, statek pływa\, Słońce świeci a głowa myśli\, spotkaj się z nami podczas wyjątkowego koncertu. Zabierz ze sobą uśmiech i dołącz do wspólnej zabawy! \nCzas trwania: ok. 90 minut (bez przerwy) \nDuża sala\, bilety: \ndo końca maja 2025 r.: 75 zł – dzieci (od 0 do 16 lat)\, 90 zł – dorośli\nod 1 czerwca 2025 r.: 85 zł – dzieci (od 0 do 16 lat)\, 99 zł – dorośli \nBilety do nabycia w kasie MUZY oraz w sprzedaży internetowej. \nWięcej informacji TUTAJ.
URL:https://www.lubin.pl/wydarzenie/nutkosfera-cezik-dzieciom-koncert/
LOCATION:Centrum Kultury „Muza” w Lubinie\, ul. Armii Krajowej 1\, Lubin\, 59-300
END:VEVENT
END:VCALENDAR