BEGIN:VCALENDAR
VERSION:2.0
PRODID:-//Lubin - Portal Miasta - ECPv6.10.2//NONSGML v1.0//EN
CALSCALE:GREGORIAN
METHOD:PUBLISH
X-ORIGINAL-URL:https://www.lubin.pl
X-WR-CALDESC:Wydarzenia dla Lubin - Portal Miasta
REFRESH-INTERVAL;VALUE=DURATION:PT1H
X-Robots-Tag:noindex
X-PUBLISHED-TTL:PT1H
BEGIN:VTIMEZONE
TZID:Europe/Warsaw
BEGIN:DAYLIGHT
TZOFFSETFROM:+0100
TZOFFSETTO:+0200
TZNAME:CEST
DTSTART:20250330T010000
END:DAYLIGHT
BEGIN:STANDARD
TZOFFSETFROM:+0200
TZOFFSETTO:+0100
TZNAME:CET
DTSTART:20251026T010000
END:STANDARD
END:VTIMEZONE
BEGIN:VEVENT
DTSTART;TZID=Europe/Warsaw:20251103T190000
DTEND;TZID=Europe/Warsaw:20251103T210000
DTSTAMP:20260419T180939
CREATED:20250808T084925Z
LAST-MODIFIED:20250808T084925Z
UID:10000961-1762196400-1762203600@www.lubin.pl
SUMMARY:Spektakl "Czułe słówka" – Och-Teatr || CK Muza
DESCRIPTION:Teatralna wersja wielkiego kinowego hitu obsypanego Oscarami. Historia bohaterów tej opowieści pokazuje\, jak różne relacje mogą wpływać na nas; jak czasem kłamiemy\, bo nie umiemy inaczej albo jesteśmy szczerzy za bardzo\, aż do bólu\, szukając uwagi\, czy prowokując konflikty. Czułe słówka łagodzą trudną relację matki z córką\, w której toksyczność miesza się z miłością i potrzebą bliskości. Historia opowiedziana wzruszająco\, ale nie ckliwie; momentami refleksyjna\, momentami komiczna. Idealny materiał na wspaniałe kreacje aktorskie\, które obsada Och-Teatru gwarantuje. \n„(…) Spektakl Paszty intryguje i wciąga. Reżyser\, co mu się chwali\, nie usiłuje konkurować z nagradzanym Oscarami hitem filmowym z lat osiemdziesiątych. Tworzy rzecz autonomiczną – balansującą między humorem (znakomita scena rozmowy Garretta z lekarzem)\, a dramatem wydarzeń – choć równie wzruszającą jak pierwowzór. (…)”\nMarta Żelazowska\, Nowa Siła Krytyczna / 2 lipca 2024 \n„W pierwszej części publiczność często reaguje śmiechem\, obserwując utarczki zaborczej matki z córką\, a potem początki romansu matki z sąsiadem astronautą. W części drugiej widownia milknie i płacze – tak ma być\, ktokolwiek widział „Czułe słówka” z Shirley MacLaine\, Debrą Winger i Jackiem Nicholsonem wie\, że inaczej nie można. (…) Umiejętne skróty i umowne znaki teatralne\, sugestywna ilustracja muzyczna i scenografia tworzą mikroświat\, w którym uczucia wchodzą na najwyższe obroty. Ulega im publiczność\, a pomaga w tym umiejętnie dozowany mały realizm i szczypta melodramatyzmu. Pierwszorzędna robota.”\nTomasz Miłkowski\, „Przegląd” nr 30/2024\n \nAutor: Larry McMurtry\nAdaptacja: Dan Gordon\nTłumaczenie: Rubi Birden\nReżyseria: Paweł Paszta \nObsada: Alicja Czerniewicz\, Katarzyna Gniewkowska\, Eliza Rycembel\, Krzysztof Dracz\, Sławomir Holland\, Karol Lelek  \nduża sala\, bilety: 140 zł i 130 zł (ostatni rząd)
URL:https://www.lubin.pl/wydarzenie/spektakl-czule-slowka-och-teatr-ck-muza/
LOCATION:Centrum Kultury „Muza” w Lubinie\, ul. Armii Krajowej 1\, Lubin\, 59-300
ORGANIZER;CN="Centrum Kultury 'Muza' w Lubinie":MAILTO:sekretariat@ckmuza.pl
END:VEVENT
BEGIN:VEVENT
DTSTART;TZID=Europe/Warsaw:20251105T100000
DTEND;TZID=Europe/Warsaw:20251105T104500
DTSTAMP:20260419T180939
CREATED:20251027T121227Z
LAST-MODIFIED:20251027T121250Z
UID:10001017-1762336800-1762339500@www.lubin.pl
SUMMARY:III Lubiński Przegląd Filmów Ornitologicznych || ZOO Lubin
DESCRIPTION:Ogród Zoologiczny w Lubinie zaprasza do udziału w III Lubińskim Przeglądzie Filmów Ornitologicznych. Przegląd odbędzie się w sali audiowizualnej w Ogrodzie Zoologicznym w Lubinie\, w dniach 5-7 listopada 2025 r. Partnerem wydarzenia jest Studio Leśne w Bedoniu\, natomiast patronem OTOP – Ogólnopolskie Towarzystwo Ochrony Ptaków. \nRano zapraszamy grupy przedszkolne na poranki z Wróblem Ćwirkiem (zapisy telefoniczne\, wstęp bezpłatny)\, natomiast starszych uczestników napraszamy na popołudniowe prelekcje i seanse (bez zapisów\, wstęp bezpłatny). \n  \n5 listopada 2025 (środa) – Edukacja przedszkolna z Wróblem Ćwirkiem \n(grupy przedszkolne\, zapisy telefoniczne: 734 170 991\, udział bezpłatny) \n10.00-10.45 – „Przygód kilka wróbla Ćwirka” \nodc. 2 – Sianokosy \nodc. 15 – Jak w puchu \nodc. 26 – Gdzie dwóch się bije
URL:https://www.lubin.pl/wydarzenie/iii-lubinski-przeglad-filmow-ornitologicznych-zoo-lubin/
LOCATION:ZOO Lubin\, ul. Ignacego Paderewskiego 99\, Lubin\, 59-300
ATTACH;FMTTYPE=image/jpeg:https://www.lubin.pl/wp-content/uploads/2025/07/07.ZOO_LPFO.jpg
END:VEVENT
BEGIN:VEVENT
DTSTART;TZID=Europe/Warsaw:20251106T100000
DTEND;TZID=Europe/Warsaw:20251106T183000
DTSTAMP:20260419T180939
CREATED:20251027T121546Z
LAST-MODIFIED:20251027T121546Z
UID:10001018-1762423200-1762453800@www.lubin.pl
SUMMARY:III Lubiński Przegląd Filmów Ornitologicznych || ZOO Lubin
DESCRIPTION:Ogród Zoologiczny w Lubinie zaprasza do udziału w III Lubińskim Przeglądzie Filmów Ornitologicznych. Przegląd odbędzie się w sali audiowizualnej w Ogrodzie Zoologicznym w Lubinie\, w dniach 5-7 listopada 2025 r. Partnerem wydarzenia jest Studio Leśne w Bedoniu\, natomiast patronem OTOP – Ogólnopolskie Towarzystwo Ochrony Ptaków. \nRano zapraszamy grupy przedszkolne na poranki z Wróblem Ćwirkiem (zapisy telefoniczne\, wstęp bezpłatny)\, natomiast starszych uczestników napraszamy na popołudniowe prelekcje i seanse (bez zapisów\, wstęp bezpłatny). \n6 listopada 2025 (czwartek) – Edukacja przedszkolna z Wróblem Ćwirkiem \n(grupy przedszkolne\, zapisy telefoniczne: 734 170 991\, udział bezpłatny) \n10.00-10.45 – „Przygód kilka wróbla Ćwirka” \nodc. 30 – Czarna rodzinka \nodc. 32 – Kraksa pod chmurką \nodc. 34 – Towarzystwo na zimę \nPrelekcje popołudniowe \n(uczestnicy indywidualni\, bez zapisów\, udział bezpłatny) \n15.00 – Adam Zbyryt „Dlaczego ptaki osiedlają się w miastach?” \n17.00 – Tomasz Kłosowski „Jak bracia z braćmi” \nWydarzenie dodatkowe: wystawa fotografii przyrodniczej Tomasza Kłosowskiego\, hol siedziby zoo
URL:https://www.lubin.pl/wydarzenie/iii-lubinski-przeglad-filmow-ornitologicznych-zoo-lubin-2/
LOCATION:ZOO Lubin\, ul. Ignacego Paderewskiego 99\, Lubin\, 59-300
ATTACH;FMTTYPE=image/jpeg:https://www.lubin.pl/wp-content/uploads/2025/07/07.ZOO_LPFO.jpg
END:VEVENT
BEGIN:VEVENT
DTSTART;TZID=Europe/Warsaw:20251106T110000
DTEND;TZID=Europe/Warsaw:20251106T123000
DTSTAMP:20260419T180939
CREATED:20250808T085241Z
LAST-MODIFIED:20250808T085241Z
UID:10000962-1762426800-1762432200@www.lubin.pl
SUMMARY:Spektakl "Frankenstein" – Teatr AVATAR || CK Muza
DESCRIPTION:„Frankenstein” to spektakl inny niż dotychczasowe. Zanurzony w gotyckim klimacie powieści Mary S. Shelley\, porzuca popkulturowe schematy\, by na nowo opowiedzieć historię nie potwora i szalonego naukowca\, lecz człowieka i jego granic. Odbijające niepokoje i nadzieje choreografie taneczno-akrobatyczne\, przejmujące obrazy teatru cieni oraz mroczna scenografia przeniosą widzów do pełnego napięcia świata Frankensteina – świata\, w którym rodzą się pytania o człowieczeństwo\, samotność i odpowiedzialność za własne czyny. \nZa realizację nowego przedstawienia Teatru AVATAR odpowiada duet artystyczny: reżyser Kamil J. Przyboś oraz choreografka Ada Pankowska-Michalczyk – twórcy takich przedstawień jak „Dziewczynka z zapałkami”\, „Syrena”\, „Nowe Szaty Króla” czy „Opowieść Wigilijna”. \nSpektakl dla osób powyżej 15. roku życia \nduża sala\, bilety: 50 zł (ulgowy – młodzież od 15 lat)\, 60 zł (normalny)\, dla grup zorganizowanych na godz 11:00: 40 zł
URL:https://www.lubin.pl/wydarzenie/spektakl-frankenstein-teatr-avatar-ck-muza/2025-11-06/1/
LOCATION:Centrum Kultury „Muza” w Lubinie\, ul. Armii Krajowej 1\, Lubin\, 59-300
ORGANIZER;CN="Centrum Kultury 'Muza' w Lubinie":MAILTO:sekretariat@ckmuza.pl
END:VEVENT
BEGIN:VEVENT
DTSTART;TZID=Europe/Warsaw:20251106T180000
DTEND;TZID=Europe/Warsaw:20251106T193000
DTSTAMP:20260419T180939
CREATED:20250808T085241Z
LAST-MODIFIED:20250808T085241Z
UID:10000963-1762452000-1762457400@www.lubin.pl
SUMMARY:Spektakl "Frankenstein" – Teatr AVATAR || CK Muza
DESCRIPTION:„Frankenstein” to spektakl inny niż dotychczasowe. Zanurzony w gotyckim klimacie powieści Mary S. Shelley\, porzuca popkulturowe schematy\, by na nowo opowiedzieć historię nie potwora i szalonego naukowca\, lecz człowieka i jego granic. Odbijające niepokoje i nadzieje choreografie taneczno-akrobatyczne\, przejmujące obrazy teatru cieni oraz mroczna scenografia przeniosą widzów do pełnego napięcia świata Frankensteina – świata\, w którym rodzą się pytania o człowieczeństwo\, samotność i odpowiedzialność za własne czyny. \nZa realizację nowego przedstawienia Teatru AVATAR odpowiada duet artystyczny: reżyser Kamil J. Przyboś oraz choreografka Ada Pankowska-Michalczyk – twórcy takich przedstawień jak „Dziewczynka z zapałkami”\, „Syrena”\, „Nowe Szaty Króla” czy „Opowieść Wigilijna”. \nSpektakl dla osób powyżej 15. roku życia \nduża sala\, bilety: 50 zł (ulgowy – młodzież od 15 lat)\, 60 zł (normalny)\, dla grup zorganizowanych na godz 11:00: 40 zł
URL:https://www.lubin.pl/wydarzenie/spektakl-frankenstein-teatr-avatar-ck-muza/2025-11-06/2/
LOCATION:Centrum Kultury „Muza” w Lubinie\, ul. Armii Krajowej 1\, Lubin\, 59-300
ORGANIZER;CN="Centrum Kultury 'Muza' w Lubinie":MAILTO:sekretariat@ckmuza.pl
END:VEVENT
BEGIN:VEVENT
DTSTART;TZID=Europe/Warsaw:20251107T100000
DTEND;TZID=Europe/Warsaw:20251107T183000
DTSTAMP:20260419T180939
CREATED:20251027T121816Z
LAST-MODIFIED:20251027T121816Z
UID:10001019-1762509600-1762540200@www.lubin.pl
SUMMARY:III Lubiński Przegląd Filmów Ornitologicznych || ZOO Lubin
DESCRIPTION:Ogród Zoologiczny w Lubinie zaprasza do udziału w III Lubińskim Przeglądzie Filmów Ornitologicznych. Przegląd odbędzie się w sali audiowizualnej w Ogrodzie Zoologicznym w Lubinie\, w dniach 5-7 listopada 2025 r. Partnerem wydarzenia jest Studio Leśne w Bedoniu\, natomiast patronem OTOP – Ogólnopolskie Towarzystwo Ochrony Ptaków. \nRano zapraszamy grupy przedszkolne na poranki z Wróblem Ćwirkiem (zapisy telefoniczne\, wstęp bezpłatny)\, natomiast starszych uczestników napraszamy na popołudniowe prelekcje i seanse (bez zapisów\, wstęp bezpłatny). \n7 listopada 2025 (piątek) – Edukacja przedszkolna z Wróblem Ćwirkiem \n(grupy przedszkolne\, zapisy telefoniczne: 734 170 991\, udział bezpłatny) \n10.00-10.45 – „Przygód kilka wróbla Ćwirka” \nodc. 37 – To moje podwórko \nodc. 38 – Czarodziejka \nodc. 39 – Kuracja \nPrelekcje popołudniowe \n(uczestnicy indywidualni\, bez zapisów\, udział bezpłatny): \n15.00 – Sławomir Skupiński\, Michał Ogrodowczyk „Ochrona kuraków w Lasach Państwowych na przykładzie cietrzewia i głuszca – dokumentacja filmowa” \n(po prelekcji film: „Cietrzew. Ptak wielu odcieni”\, reż. M. Ogrodowczyk) \n16.30 – otwarcie wystawy fotografii Mieczysława Michalaka „Ptaki”\, hol siedziby zoo \n17.00 – Łukasz Bożycki „Ptaki w fotografii przyrodniczej” \nwydarzenia dodatkowe:\nwystawa fotografii przyrodniczej Tomasza Kłosowskiego oraz wystawa fotografii Mieczysława Michalaka „Ptaki” – hol siedziby Ogrodu Zoologicznego w Lubinie
URL:https://www.lubin.pl/wydarzenie/iii-lubinski-przeglad-filmow-ornitologicznych-zoo-lubin-3/
LOCATION:ZOO Lubin\, ul. Ignacego Paderewskiego 99\, Lubin\, 59-300
ATTACH;FMTTYPE=image/jpeg:https://www.lubin.pl/wp-content/uploads/2025/07/07.ZOO_LPFO.jpg
END:VEVENT
BEGIN:VEVENT
DTSTART;TZID=Europe/Warsaw:20251107T190000
DTEND;TZID=Europe/Warsaw:20251107T202000
DTSTAMP:20260419T180939
CREATED:20250808T085721Z
LAST-MODIFIED:20250808T085721Z
UID:10000964-1762542000-1762546800@www.lubin.pl
SUMMARY:Koncert - Richie Ros || CK Muza
DESCRIPTION:Zapraszamy na koncert Richiego Rosa\, irlandzkiego gitarzysty\, którego droga życiowa jest świadectwem dobrego ducha i oczyszczającej natury muzyki. Richie dorastał w państwowym sierocińcu w mieście Limerick. Na 11. urodziny dostał gitarę i od tego wszystko się zaczęło. Pierwszym utworem\, którego nauczył go grać jego nauczyciel był „Johnny Be Goode”. Aby poradzić sobie z emocjami\, jakie nim wówczas targały Richie zaczął pisać i wykonywać własne piosenki i rozwinął swój własny wewnętrzny świat\, w którym swoje przeżycia wyrażał poprzez muzykę. Pomimo traumy z wczesnych lat dzieciństwa Richie nie pozwolił\, aby jego przeszłość go definiowała. Nie miał kontroli nad minionymi wydarzeniami w swoim życiu\, ale mógł zmienić nastawienie. Los go znalazł: David Odlum\, zdobywca nagrody Grammy\, były producent The Frames\, któremu spodobało się demo\, zgodził się wyprodukować debiutancki album Richiego w studiu Black Box we Francji. Album nosi tytuł „Odyssey” – podróż młodego chłopca\, który pomimo wszystkich przeciwności losu\, pracował nad stworzeniem własnej bajki. Muzyka w jego duszy\, jak sam powiedział\, w końcu „go uwolniła”. \n\nRestauracja MUZA\, duża sala\, bilety: 50 zł / 60 zł (w dniu koncertu)
URL:https://www.lubin.pl/wydarzenie/koncert-richie-ros-ck-muza/
LOCATION:Centrum Kultury „Muza” w Lubinie\, ul. Armii Krajowej 1\, Lubin\, 59-300
ORGANIZER;CN="Centrum Kultury 'Muza' w Lubinie":MAILTO:sekretariat@ckmuza.pl
END:VEVENT
BEGIN:VEVENT
DTSTART;TZID=Europe/Warsaw:20251108T120000
DTEND;TZID=Europe/Warsaw:20251108T140000
DTSTAMP:20260419T180939
CREATED:20251017T060026Z
LAST-MODIFIED:20251017T060026Z
UID:10001011-1762603200-1762610400@www.lubin.pl
SUMMARY:Spotkania z Ludźmi Gór: Moje cztery wyprawy narodowe || CK Muza
DESCRIPTION:Piotr Snopczyński urodził się 19 maja 1950 r. w Świdwinie. Studiował na Akademii Wychowania Fizycznego we Wrocławiu. Był ratownikiem Górskiego Ochotniczego Pogotowia Ratunkowego\, a w latach 1998-2002 pełnił funkcję wiceprezesa tej organizacji. Instruktor\, himalaista\, fotograf\, sportowiec\, specjalista od robót na wysokości\, pedagog. Jest pomysłodawcą świdnickich „Dni Gór”\, które organizuje wraz ze Świdnickim Ośrodkiem Kultury. \nWażniejsze wyprawy\, w których brał udział:\n• 1984 – Latok II (Karakorum)\n• 1985 – Latok I (Karakorum)\n• 1991 – Rakaposhi\n• 1991 – Mount Everest – zachodnim żebrem\n• 28 lipca 1993 – Gasherbrum II – podczas zejścia ze szczytu odmroził palce u stóp w konsekwencji czego trzeba było je wszystkie amputować po powrocie do kraju\n• 1996 – K2 – od strony północnej\n• 1997 – Mount Everest – od strony północnej\n• 1998/99 – Nanga Parbat – narodowa wyprawa zimowa\n• 2000/2001 – zimowa wyprawa na Makalu\n• 2005 – Gasherbrum II\n• 2006 – Sziszapangma – samotne wejście na przedwierzchołek\n• 2006 – Aconcagua\n• 2007 – Broad Peak\n• 2007 – Tilitso Peak\n• 2008 – Dhaulagiri\n• 2009 – Broad Peak\n• 2012 – Manaslu\n• 2013 – Broad Peak – zimowa wyprawa\n• 2013 – Manaslu\n• 2014 – K2 \n \nOrganizator: CK Muza\, Klub Górski PROBLEM\nsala kameralna\, wstęp wolny
URL:https://www.lubin.pl/wydarzenie/spotkania-z-ludzmi-gor-moje-cztery-wyprawy-narodowe-ck-muza/
LOCATION:Centrum Kultury „Muza” w Lubinie\, ul. Armii Krajowej 1\, Lubin\, 59-300
ORGANIZER;CN="Centrum Kultury 'Muza' w Lubinie":MAILTO:sekretariat@ckmuza.pl
END:VEVENT
BEGIN:VEVENT
DTSTART;TZID=Europe/Warsaw:20251109T190000
DTEND;TZID=Europe/Warsaw:20251109T201500
DTSTAMP:20260419T180939
CREATED:20250808T090254Z
LAST-MODIFIED:20250808T090254Z
UID:10000965-1762714800-1762719300@www.lubin.pl
SUMMARY:Koncert - Urszula Dudziak || CK Muza
DESCRIPTION:Urszula Dudziak to jedna z najbardziej rozpoznawalnych polskich wokalistek na świecie. Przez wiele lat mieszkała w Nowym Jorku\, gdzie nagrała dziesiątki płyt z Michałem Urbaniakiem dla takich firm płytowych jak: Colubia Records\, Atlantic Records\, Arista Records. Jej utwór „Papaya” stał się światowym hitem. Artystka wykonuje go brawurowo podczas koncertów w niespotykanej\, oryginalnej technice wokalnej. \nUrszula Dudziak jest bardzo aktywną i twórczą kobietą\, autorką dwóch książek „Wyśpiewam wam wszystko” i „Wyśpiewam wam więcej”. Aktualnie pracuje nad kolejną. Artystka podczas koncertu występuje z towarzyszeniem instrumentu elektronicznego generującego głosy\, dźwięki i brzmienia współgrające z ludzkim głosem. Emanuje energią i pełną optymizmu witalnością\, co pozwala jej nawiązać bliską więź z publicznością. \nduża sala\, bilety: 100 zł / 110 zł (w dniu koncertu) 
URL:https://www.lubin.pl/wydarzenie/koncert-urszula-dudziak-ck-muza/
LOCATION:Centrum Kultury „Muza” w Lubinie\, ul. Armii Krajowej 1\, Lubin\, 59-300
ORGANIZER;CN="Centrum Kultury 'Muza' w Lubinie":MAILTO:sekretariat@ckmuza.pl
END:VEVENT
END:VCALENDAR