BEGIN:VCALENDAR
VERSION:2.0
PRODID:-//Lubin - Portal Miasta - ECPv6.10.2//NONSGML v1.0//EN
CALSCALE:GREGORIAN
METHOD:PUBLISH
X-ORIGINAL-URL:https://www.lubin.pl
X-WR-CALDESC:Wydarzenia dla Lubin - Portal Miasta
REFRESH-INTERVAL;VALUE=DURATION:PT1H
X-Robots-Tag:noindex
X-PUBLISHED-TTL:PT1H
BEGIN:VTIMEZONE
TZID:Europe/Warsaw
BEGIN:DAYLIGHT
TZOFFSETFROM:+0100
TZOFFSETTO:+0200
TZNAME:CEST
DTSTART:20250330T010000
END:DAYLIGHT
BEGIN:STANDARD
TZOFFSETFROM:+0200
TZOFFSETTO:+0100
TZNAME:CET
DTSTART:20251026T010000
END:STANDARD
END:VTIMEZONE
BEGIN:VEVENT
DTSTART;TZID=Europe/Warsaw:20251022T080000
DTEND;TZID=Europe/Warsaw:20251022T133000
DTSTAMP:20260421T114120
CREATED:20250808T084126Z
LAST-MODIFIED:20250808T084154Z
UID:10000957-1761120000-1761139800@www.lubin.pl
SUMMARY:Dolnośląski Festiwal Nauki 2025 || CK Muza
DESCRIPTION:„Nauka jest chrobra”– to hasło XXVIII Dolnośląskiego Festiwalu Nauki\, na który w tym roku zapraszamy 22 i 23 października 2025 r. \nPrzygotowaliśmy dla Was wiele ciekawych spotkań i warsztatów. \nWykład inauguracyjny poprowadzi znany popularyzator astronomii p. Karol Wójcicki\, interaktywne show przedstawi najmłodszym Centrum Nauki Kopernik z Warszawy\, a o poprawności językowej opowie popularny redaktor p. Maciej Makselon. Będą naukowe zabawy w Małym Centrum Nauki SOWA przygotowane przez ZOO Lubin – Ogród Zoologiczny w Lubinie\, warsztaty z fizyki\, z chemii\, bio-laboratorium\, kosmiczne ciekawostki i wiele innych. \nSZCZEGÓŁOWY PROGRAM TUTAJ \nNa wszystkie propozycje festiwalowe wstęp jest bezpłatny\, wymagane zapisy. \nZapisy przyjmujemy w terminie 15 września – 21 października 2025 r. \nmailowo: marketing@ckmuza.pl lub tel. 76 746 22 70 pn. – pt. w godz. 9:00 – 15:00. \nPartnerzy DFN w Lubinie:\n• KGHM Polska Miedź S.A.\n• ZOO LUBIN – Ogród Zoologiczny w Lubinie
URL:https://www.lubin.pl/wydarzenie/dolnoslaski-festiwal-nauki-2025-ck-muza/2025-10-22/
LOCATION:Centrum Kultury „Muza” w Lubinie\, ul. Armii Krajowej 1\, Lubin\, 59-300
ORGANIZER;CN="Centrum Kultury 'Muza' w Lubinie":MAILTO:sekretariat@ckmuza.pl
END:VEVENT
BEGIN:VEVENT
DTSTART;TZID=Europe/Warsaw:20251022T203000
DTEND;TZID=Europe/Warsaw:20251022T220000
DTSTAMP:20260421T114120
CREATED:20251013T084504Z
LAST-MODIFIED:20251022T064617Z
UID:10001008-1761165000-1761170400@www.lubin.pl
SUMMARY:ORLEN Superliga Kobiet: KGHM MKS Zagłebie Lubin vs KPR Gminy Kobierzyce
DESCRIPTION:Już w środę kibiców piłki ręcznej czeka kolejne emocjonujące starcie w hali RCS w Lubinie. W meczu 8. serii ORLEN Superligi Kobiet zmierzymy się z ubiegłorocznym brązowym medalistą – KPR Gminy Kobierzyce. \nKup bilet TUTAJ
URL:https://www.lubin.pl/wydarzenie/orlen-superliga-kobiet-kghm-mks-zaglebie-lubin-vs-kpr-gminy-kobierzyce-2/
LOCATION:Hala Widowiskowo – Sportowa RCS w Lubinie\, Odrodzenia 28b\, Lubin\, 59-300
END:VEVENT
BEGIN:VEVENT
DTSTART;TZID=Europe/Warsaw:20251023T080000
DTEND;TZID=Europe/Warsaw:20251023T133000
DTSTAMP:20260421T114120
CREATED:20250808T084126Z
LAST-MODIFIED:20250808T084154Z
UID:10000958-1761206400-1761226200@www.lubin.pl
SUMMARY:Dolnośląski Festiwal Nauki 2025 || CK Muza
DESCRIPTION:„Nauka jest chrobra”– to hasło XXVIII Dolnośląskiego Festiwalu Nauki\, na który w tym roku zapraszamy 22 i 23 października 2025 r. \nPrzygotowaliśmy dla Was wiele ciekawych spotkań i warsztatów. \nWykład inauguracyjny poprowadzi znany popularyzator astronomii p. Karol Wójcicki\, interaktywne show przedstawi najmłodszym Centrum Nauki Kopernik z Warszawy\, a o poprawności językowej opowie popularny redaktor p. Maciej Makselon. Będą naukowe zabawy w Małym Centrum Nauki SOWA przygotowane przez ZOO Lubin – Ogród Zoologiczny w Lubinie\, warsztaty z fizyki\, z chemii\, bio-laboratorium\, kosmiczne ciekawostki i wiele innych. \nSZCZEGÓŁOWY PROGRAM TUTAJ \nNa wszystkie propozycje festiwalowe wstęp jest bezpłatny\, wymagane zapisy. \nZapisy przyjmujemy w terminie 15 września – 21 października 2025 r. \nmailowo: marketing@ckmuza.pl lub tel. 76 746 22 70 pn. – pt. w godz. 9:00 – 15:00. \nPartnerzy DFN w Lubinie:\n• KGHM Polska Miedź S.A.\n• ZOO LUBIN – Ogród Zoologiczny w Lubinie
URL:https://www.lubin.pl/wydarzenie/dolnoslaski-festiwal-nauki-2025-ck-muza/2025-10-23/
LOCATION:Centrum Kultury „Muza” w Lubinie\, ul. Armii Krajowej 1\, Lubin\, 59-300
ORGANIZER;CN="Centrum Kultury 'Muza' w Lubinie":MAILTO:sekretariat@ckmuza.pl
END:VEVENT
BEGIN:VEVENT
DTSTART;TZID=Europe/Warsaw:20251023T200000
DTEND;TZID=Europe/Warsaw:20251023T213000
DTSTAMP:20260421T114120
CREATED:20251013T084637Z
LAST-MODIFIED:20251013T084637Z
UID:10001009-1761249600-1761255000@www.lubin.pl
SUMMARY:ORLEN Superliga Mężczyzn: MKS Zagłębie Lubin vs Zepter KPR Legionowo
DESCRIPTION:
URL:https://www.lubin.pl/wydarzenie/orlen-superliga-mezczyzn-mks-zaglebie-lubin-vs-zepter-kpr-legionowo/
LOCATION:Hala Widowiskowo – Sportowa RCS w Lubinie\, Odrodzenia 28b\, Lubin\, 59-300
END:VEVENT
BEGIN:VEVENT
DTSTART;TZID=Europe/Warsaw:20251024T200000
DTEND;TZID=Europe/Warsaw:20251024T233000
DTSTAMP:20260421T114120
CREATED:20250404T093642Z
LAST-MODIFIED:20250404T093642Z
UID:10000793-1761336000-1761348600@www.lubin.pl
SUMMARY:Lubin Stand-up Festival™ 2025
DESCRIPTION:Już 24 października w Hali Widowiskowo – Sportowej w Lubinie wystąpi specjalnie dla Was czołówka polskich komików. \nNa scenie pojawią się: \n\nKacper Ruciński\nPiotrek Szumowski\nWiolka Walaszczyk\nPaweł Chałupka\nAdam Van Bendler\nBłażej Krajewski\nDarek Gadowski\nCzarek Sikora\nFalcon1\n\nPrzygotuj się na potężną porcję fenomenalnego humoru. \nBilety można kupić TUTAJ
URL:https://www.lubin.pl/wydarzenie/lubin-stand-up-festival-2025/
LOCATION:Hala Widowiskowo – Sportowa RCS w Lubinie\, Odrodzenia 28b\, Lubin\, 59-300
END:VEVENT
BEGIN:VEVENT
DTSTART;TZID=Europe/Warsaw:20251025T190000
DTEND;TZID=Europe/Warsaw:20251025T210000
DTSTAMP:20260421T114120
CREATED:20250417T113846Z
LAST-MODIFIED:20250417T113846Z
UID:10000803-1761418800-1761426000@www.lubin.pl
SUMMARY:Marcin Kydryński prezentuje SIESTA w drodze: Lura
DESCRIPTION:25 października 2025 roku w ramach wyjątkowej trasy SIESTA w drodze wystąpi Lura – ikona muzyki z Cabo Verde\, mistrzyni morny i symbol luzońskiej zmysłowości. Jej głęboki\, nasycony emocjami głos oraz hipnotyzujące brzmienia poruszają duszę i ciało. Artystka\, która miała zostać pływaczką\, przez przypadek trafiła do studia – dziś koncertuje na całym świecie i współpracuje z takimi gwiazdami jak Bonga\, Richard Bona czy Angelique Kidjo. \nSIESTA w drodze\, prowadzona przez Marcina Kydryńskiego\, to cykl koncertów prezentujących artystów znanych z audycji „Pora Siesty” i kultowych kompilacji Siesta. Projekt promuje piękno światowych kultur\, ich dialog i muzyczne pojednanie – a Lura jest jedną z jego najjaśniejszych gwiazd. \nBilety do nabycia w kasie MUZY oraz TUTAJ
URL:https://www.lubin.pl/wydarzenie/marcin-kydrynski-prezentuje-siesta-w-drodze-lura/
LOCATION:Centrum Kultury „Muza” w Lubinie\, ul. Armii Krajowej 1\, Lubin\, 59-300
END:VEVENT
BEGIN:VEVENT
DTSTART;TZID=Europe/Warsaw:20251025T190000
DTEND;TZID=Europe/Warsaw:20251025T235900
DTSTAMP:20260421T114120
CREATED:20250612T081921Z
LAST-MODIFIED:20250612T081921Z
UID:10000874-1761418800-1761436740@www.lubin.pl
SUMMARY:Babski Wieczór - Wyspy Kobiecości || CK Muza
DESCRIPTION:BABSKI WIECZÓR w październiku? Oczywiście! Już po raz drugi Centrum Kultury Muza organizuje swoją sztandarową imprezę Wiosny Kobiet również jesienią\, aby przywołać słońce i spotkać się w miłym\, kobiecym gronie.  \nTym razem hasłem wieczoru są Wyspy Kobiecości. CK Muza odwołuje się do natury\, sensualności\, gorących rytmów\, które zapewni Siesta w drodze\, a dokładnie LURA – bogini gorących rytmów i nieposkromionej natury\, ikona muzyki z Cabo Verde. W Restauracji MUZA czekać będzie poczęstunek\, niespodzianki i tańce z DJ Gabi – będzie się działo! Impreza potrwa do około 1:00 w nocy. \nMuza zachęca\, aby Panie w swoim stroju uwzględniły kolory zieleni – przyrody\, soczystości roślinności egzotycznych wysp i złota – kolor słońca\, piasku\, energii. Już nie możemy się doczekać! \nStoliki\, które wyróżnią się strojem mogą liczyć na atrakcyjne nagrody. \nBilety: 220 zł (w tym bilet na koncert SIESTA W DRODZE: LURA) \nSprzedaż i rezerwacja biletów wyłącznie w kasie CK MUZA. \nUwaga!!! Panie\, które już kupiły bilet na koncert Siesta w drodze\, a chciałyby wziąć udział w Babskim Wieczorze proszone są o przyjście do kasy z zakupionym biletem.
URL:https://www.lubin.pl/wydarzenie/babski-wieczor-wyspy-kobiecosci-ck-muza/
LOCATION:Centrum Kultury „Muza” w Lubinie\, ul. Armii Krajowej 1\, Lubin\, 59-300
ORGANIZER;CN="Centrum Kultury 'Muza' w Lubinie":MAILTO:sekretariat@ckmuza.pl
END:VEVENT
BEGIN:VEVENT
DTSTART;TZID=Europe/Warsaw:20251026T100000
DTEND;TZID=Europe/Warsaw:20251026T220000
DTSTAMP:20260421T114120
CREATED:20251021T101316Z
LAST-MODIFIED:20251027T084315Z
UID:10001012-1761472800-1761516000@www.lubin.pl
SUMMARY:Mistrzostwa Polski PTT w tańcach standardowych || HALA RCS
DESCRIPTION:W niedzielę\, 26 października\, hala Regionalnego Centrum Sportowego w Lubinie zamieni się w prawdziwą stolicę tańca. Odbędą się tu Mistrzostwa Polski PTT w tańcach standardowych\, które zgromadzą najlepsze pary z całego kraju.  \nUdział weźmie około 300 par z całego kraju. Cała impreza potrwa od godziny 10:00 do 22:00\, a publiczność będzie mogła oglądać zmagania w różnych blokach tanecznych \nWstęp na wydarzenie jest bezpłatny\, jednak na wieczorną galę należy odebrać darmowe zaproszenia w hali RCS. \nLiczba wejściówek jest ograniczona!
URL:https://www.lubin.pl/wydarzenie/mistrzostwa-polski-ptt-w-tancach-standardowych-hala-rcs/
LOCATION:Hala Widowiskowo – Sportowa RCS w Lubinie\, Odrodzenia 28b\, Lubin\, 59-300
END:VEVENT
BEGIN:VEVENT
DTSTART;TZID=Europe/Warsaw:20251026T160000
DTEND;TZID=Europe/Warsaw:20251026T190000
DTSTAMP:20260421T114120
CREATED:20250808T081504Z
LAST-MODIFIED:20250808T081504Z
UID:10000951-1761494400-1761505200@www.lubin.pl
SUMMARY:André Rieu. Przetańczyć całą noc! – retransmisja letniego koncertu z Maastricht 2025 || CK Muza
DESCRIPTION:Najnowszy koncert „Przetańczyć całą noc!” uświetnią znakomici goście króla walca\, z rozwijającą swoją niezwykłą karierę Emmą Kok na czele. Wielka miłość André Rieu do polskiej publiczności zaowocowała po raz kolejny wyjątkową gratką dla wszystkich widzów znad Wisły: gospodynią i prowadzącą show maestra znów będzie Maja Jasińska\, flecistka z jego Orkiestry Johanna Straussa. Tegoroczny kinowy koncert będzie ze wszech miar niepowtarzalny\, bowiem w 2025 roku przypada 200. rocznica urodzin Johanna Straussa – patrona wspaniałej orkiestry André Rieu i osobistego idola samego maestra. W takich okolicznościach Straussowski walc „Nad pięknym modrym Dunajem” wybrzmi jeszcze donioślej i piękniej. Poza tym najsłynniejszym walcem świata posłuchasz również innych klasycznych melodii\, a także premierowych wykonań szlagierów muzyki pop oraz filmowej. Daj się porwać do tańca najbardziej romantycznemu kinowemu wydarzeniu roku! Zabierz do kina drugą połowę\, rodzinę\, przyjaciół oraz znajomych! Obejmij najbliższe Ci osoby w tali i w rytm muzyki André Rieu przetańczcie całą noc! \nWersja językowa: polsko-holenderska z polskimi napisami\nBez ograniczeń wiekowych \nduża sala\, bilety 45 zł (normalny)\, 38 zł (ulgowy – dzieci\, młodzież\, emeryci\, renciści\, posiadacze Karty Dużej Rodziny) \nBilety w kasie CK Muza oraz TUTAJ
URL:https://www.lubin.pl/wydarzenie/andre-rieu-przetanczyc-cala-noc-retransmisja-letniego-koncertu-z-maastricht-2025-ck-muza/2025-10-26/
LOCATION:Centrum Kultury „Muza” w Lubinie\, ul. Armii Krajowej 1\, Lubin\, 59-300
ORGANIZER;CN="Centrum Kultury 'Muza' w Lubinie":MAILTO:sekretariat@ckmuza.pl
END:VEVENT
END:VCALENDAR