BEGIN:VCALENDAR
VERSION:2.0
PRODID:-//Lubin - Portal Miasta - ECPv6.10.2//NONSGML v1.0//EN
CALSCALE:GREGORIAN
METHOD:PUBLISH
X-WR-CALNAME:Lubin - Portal Miasta
X-ORIGINAL-URL:https://www.lubin.pl
X-WR-CALDESC:Wydarzenia dla Lubin - Portal Miasta
REFRESH-INTERVAL;VALUE=DURATION:PT1H
X-Robots-Tag:noindex
X-PUBLISHED-TTL:PT1H
BEGIN:VTIMEZONE
TZID:Europe/Warsaw
BEGIN:DAYLIGHT
TZOFFSETFROM:+0100
TZOFFSETTO:+0200
TZNAME:CEST
DTSTART:20250330T010000
END:DAYLIGHT
BEGIN:STANDARD
TZOFFSETFROM:+0200
TZOFFSETTO:+0100
TZNAME:CET
DTSTART:20251026T010000
END:STANDARD
END:VTIMEZONE
BEGIN:VEVENT
DTSTART;TZID=Europe/Warsaw:20251016T110000
DTEND;TZID=Europe/Warsaw:20251016T130000
DTSTAMP:20260421T162505
CREATED:20251013T083136Z
LAST-MODIFIED:20251013T083136Z
UID:10001007-1760612400-1760619600@www.lubin.pl
SUMMARY:Międzypokoleniowa Prezentacja Form Literackich
DESCRIPTION:16 października o godz. 11.00 w Centrum Kultury „Muza” odbędzie się wyjątkowe wydarzenie – Międzypokoleniowa Prezentacja Form Literackich. \nOrganizatorem spotkania jest Miejski Ośrodek Pomocy Społecznej w Lubinie\, który realizuje projekt dzięki dofinansowaniu ze środków budżetu Samorządu Województwa Dolnośląskiego w ramach Dolnośląskiej Inicjatywy Międzypokoleniowej. Wydarzenie łączy pokolenia – do udziału zostali zaproszeni seniorzy oraz uczestnicy warsztatów terapii zajęciowej. Spotkanie będzie okazją do prezentacji twórczości literackiej\, integracji\, wymiany doświadczeń oraz wspólnego odkrywania słowa pisanego oraz poezji śpiewanej. \nSerdecznie zapraszamy do udziału w tym wydarzeniu – bezpłatne wejściówki dostępne będą od 01 października w DDP „Senior”\, ul. Sienkiewicza 3. \nWięcej informacji pod nr 76-746-83-61 lub 782-704-400
URL:https://www.lubin.pl/wydarzenie/miedzypokoleniowa-prezentacja-form-literackich/
LOCATION:Centrum Kultury „Muza” w Lubinie\, ul. Armii Krajowej 1\, Lubin\, 59-300
END:VEVENT
BEGIN:VEVENT
DTSTART;TZID=Europe/Warsaw:20251018T190000
DTEND;TZID=Europe/Warsaw:20251018T203000
DTSTAMP:20260421T162505
CREATED:20250808T082915Z
LAST-MODIFIED:20250808T082915Z
UID:10000955-1760814000-1760819400@www.lubin.pl
SUMMARY:Koncert "Paris! Najpiękniejsze piosenki francuskie" – Natalia Lubrano z zespołem || CK Muza
DESCRIPTION:Zapraszamy na muzyczne wędrówki paryskimi uliczkami z ponadczasowymi\, poetyckimi kompozycjami\, na których wychowało się już kilka pokoleń entuzjastów francuskiej piosenki. Wśród znanych szerokiej publiczności utworów\, usłyszymy te najpiękniejsze artystów takich jak: Edith Piaf\, Charles Aznavour\, Enzo Enzo\, Joe Dassin\, ZAZ czy Claude François. Program Natalii Lubrano z akompaniamentem Sceny 104 (piano\, akordeon\, bas\, perkusja) stanowi ukłon w stronę największych nazwisk tworzących obraz francuskiej muzyki. Tego wieczoru z pewnością nie zabraknie czułych emocji i wzruszeń\, a powrót do kultowych utworów znad Sekwany zachęci nas do romantycznej zadumy\, chwili uśmiechu czy wspaniałych wspomnień. \nNatalia Lubrano – wokalistka związana z wrocławską sceną muzyczną\, autorka tekstów i muzyki. Przez ponad dekadę mieszkała we Francji. Szerszej publiczności znana z V edycji programu „The Voice of Poland” oraz z X edycji „Must be the Music”. Ukończyła Państwową Szkołę Muzyczną I stopnia im. Grażyny Bacewicz we Wrocławiu oraz prywatną szkołę jazzu „Jazz à Tours” we Francji. Wystąpiła m. in. na Krajowym Festiwalu Polskiej Piosenki w Opolu\, Przeglądzie Piosenki Aktorskiej we Wrocławiu\, Festiwalu Ballady i Piosenki Filmowej w Toruniu. W 2012 roku nakładem wytwórni Kayax ukazała się autorska płyta wokalistki „R.E.S.P.E.C.T.” \n\nduża sala\, bilety: 70 zł / 80 zł (w dniu koncertu) 
URL:https://www.lubin.pl/wydarzenie/koncert-paris-najpiekniejsze-piosenki-francuskie-natalia-lubrano-z-zespolem-ck-muza/
LOCATION:Centrum Kultury „Muza” w Lubinie\, ul. Armii Krajowej 1\, Lubin\, 59-300
ORGANIZER;CN="Centrum Kultury 'Muza' w Lubinie":MAILTO:sekretariat@ckmuza.pl
END:VEVENT
BEGIN:VEVENT
DTSTART;TZID=Europe/Warsaw:20251019T100000
DTEND;TZID=Europe/Warsaw:20251019T130000
DTSTAMP:20260421T162505
CREATED:20251010T121519Z
LAST-MODIFIED:20251010T121519Z
UID:10001006-1760868000-1760878800@www.lubin.pl
SUMMARY:39. Bieg Barbórkowy o Lampkę Górniczą
DESCRIPTION:Jedno z najbardziej rozpoznawalnych wydarzeń sportowych w regionie powraca! 39. edycja Biegu Barbórkowego o „Lampkę Górniczą” to impreza z wieloletnią tradycją\, która łączy pasję do biegania z górniczym duchem naszego miasta.\nNa 10-kilometrowej trasie wyznaczonej ulicami Lubina rywalizować będą zarówno amatorzy\, jak i doświadczeni zawodnicy z całej Polski i zagranicy.
URL:https://www.lubin.pl/wydarzenie/39-bieg-barborkowy-o-lampke-gornicza/
LOCATION:Hala Widowiskowo – Sportowa RCS w Lubinie\, Odrodzenia 28b\, Lubin\, 59-300
END:VEVENT
BEGIN:VEVENT
DTSTART;TZID=Europe/Warsaw:20251019T130000
DTEND;TZID=Europe/Warsaw:20251019T140000
DTSTAMP:20260421T162505
CREATED:20250808T083209Z
LAST-MODIFIED:20250808T083209Z
UID:10000956-1760878800-1760882400@www.lubin.pl
SUMMARY:Spektakl "Królewna z drewna" – Zdrojowy Teatr Animacji w Jeleniej Górze im. Bogdana Nauki || CK Muza
DESCRIPTION: Opowieść w wykonaniu aktorów Zdrojowego Teatru Animacji ma to wszystko\, co powinna mieć baśń: magię\, czary\, walkę dobra ze złem. Ekscytujące przygody połączone z nauką o lesie\, drzewach\, ale także o przyjaźni i poświęceniu. Mała\, psotna sosenka\, córka królewskiej pary\, wyrusza w głąb ciemnego lasu\, aby uratować swoich rodziców i wszystkie drzewa przed straszliwym niebezpieczeństwem. Przeżywa wiele przygód\, poznaje przyjaźń\, miłość i ze zdumieniem odkrywa\, czym jest prawdziwe szczęście. Czy jej wyprawa zakończy się sukcesem? \n \nAutor: Waldemar Wolański\nReżyseria: Waldemar Wolański \nObsada: Aga Ejsmont\, Diana Jonkisz\, Sylwester Kuper\, Lidia Lisowicz\, Jacek Maksimowicz\, Sławomir Mozolewski \nSpektakl dla dzieci od 4 lat \n\nduża sala\, bilety: 40 zł (ulgowy – dzieci\, młodzież do 15 lat)\, 50 zł (normalny)
URL:https://www.lubin.pl/wydarzenie/spektakl-krolewna-z-drewna-zdrojowy-teatr-animacji-w-jeleniej-gorze-im-bogdana-nauki-ck-muza/
LOCATION:Centrum Kultury „Muza” w Lubinie\, ul. Armii Krajowej 1\, Lubin\, 59-300
ORGANIZER;CN="Centrum Kultury 'Muza' w Lubinie":MAILTO:sekretariat@ckmuza.pl
END:VEVENT
BEGIN:VEVENT
DTSTART;TZID=Europe/Warsaw:20251019T180000
DTEND;TZID=Europe/Warsaw:20251019T190000
DTSTAMP:20260421T162505
CREATED:20251016T080822Z
LAST-MODIFIED:20251016T090323Z
UID:10001010-1760896800-1760900400@www.lubin.pl
SUMMARY:Koncert Chopinowski - Daniel Lewicki || CK Muza
DESCRIPTION:W Warszawie trwa XIX Międzynarodowy Konkurs Chopinowski. To bardzo ważne wydarzenie w kulturze naszego kraju. Chcemy Państwu podarować trochę klimatu tego wydarzenia. Zapraszamy do posłuchania utworów Fryderyka Chopina w wykonaniu lubinianina Daniela Lewickiego. Podczas recitalu pianista wykona wybrane utwory Chopina\, zabierając publiczność w podróż przez różnorodne emocje. Od delikatnych i subtelnych dźwięków\, po dynamiczne i ekscytujące fragmenty\, każdy utwór odsłoni przed nami ogromne bogactwo muzycznych doznań. To wyjątkowa okazja\, by delektować się niezwykłymi kompozycjami tego wielkiego mistrza. \nDaniel Lewicki pasję do fortepianu odkrył jako 9-letni chłopiec. Po trzech latach od zakończenia edukacji muzycznej w PSM I stopnia w Lubinie\, nawiązał współpracę z Centrum Kultury MUZA w Lubinie. Mogliśmy go wielokrotnie słuchać w Restauracji MUZA grającego recitale z utworami Fryderyka Chopina\, muzyki filmowej oraz utworami rozrywkowymi. Daniel Lewicki był uczestnikiem Międzynarodowego Konkursu im. Fryderyka Chopina dla Pianistów Amatorów w 2024 r.
URL:https://www.lubin.pl/wydarzenie/koncert-chopinowski-daniel-lewicki-ck-muza/
LOCATION:Centrum Kultury „Muza” w Lubinie\, ul. Armii Krajowej 1\, Lubin\, 59-300
ORGANIZER;CN="Centrum Kultury 'Muza' w Lubinie":MAILTO:sekretariat@ckmuza.pl
END:VEVENT
END:VCALENDAR