BEGIN:VCALENDAR
VERSION:2.0
PRODID:-//Lubin - Portal Miasta - ECPv6.10.2//NONSGML v1.0//EN
CALSCALE:GREGORIAN
METHOD:PUBLISH
X-WR-CALNAME:Lubin - Portal Miasta
X-ORIGINAL-URL:https://www.lubin.pl
X-WR-CALDESC:Wydarzenia dla Lubin - Portal Miasta
REFRESH-INTERVAL;VALUE=DURATION:PT1H
X-Robots-Tag:noindex
X-PUBLISHED-TTL:PT1H
BEGIN:VTIMEZONE
TZID:Europe/Warsaw
BEGIN:DAYLIGHT
TZOFFSETFROM:+0100
TZOFFSETTO:+0200
TZNAME:CEST
DTSTART:20250330T010000
END:DAYLIGHT
BEGIN:STANDARD
TZOFFSETFROM:+0200
TZOFFSETTO:+0100
TZNAME:CET
DTSTART:20251026T010000
END:STANDARD
END:VTIMEZONE
BEGIN:VEVENT
DTSTART;TZID=Europe/Warsaw:20251004T190000
DTEND;TZID=Europe/Warsaw:20251004T213000
DTSTAMP:20260421T133133
CREATED:20250808T082200Z
LAST-MODIFIED:20250924T082140Z
UID:10000952-1759604400-1759613400@www.lubin.pl
SUMMARY:Inauguracja XVII Jesieni Teatralnej: spektakl "Piąta strona świata" – Teatr Śląski || CK Muza
DESCRIPTION:Jedno z najważniejszych przedstawień w Teatrze Śląskim ostatniej dekady i głośne wydarzenie w skali kraju. Teatr opowieści zrealizowany z ogromną wrażliwością na to\, co lokalne i zarazem uniwersalne. \nKazimierz Kutz\, wybitny reżyser filmowy i teatralny\, zawarł w swojej debiutanckiej powieści bogaty i barwny obraz życia mieszkańców\, pełen zdarzeń codziennych\, ale też tych o dziejowym znaczeniu. Rejestrując miejscowe anegdoty i portrety zwykłych ludzi\, stworzył niepowtarzalną historię wartą upamiętnienia. Powstała w ten sposób fascynująca i gęsta od wydarzeń opowieść o miejscu bliskim sercu głównego bohatera\, jego „Piątej stronie świata”. \n„Spektakl\, na który będzie się chodzić (…)\, o którym się będzie mówić\, który będzie się przeżywać.”\nKatarzyna Pachelska „Polska Dziennik Zachodni” \nTekst: Kazimierz Kutz\nAdaptacja i reżyseria: Robert Talarczyk\nDramaturgia: Irena Świtalska\nScenografia\, kostiumy i rysunki: Ewa Satalecka\nMuzyka: Przemysław Sokół \nObsada: Dariusz Chojnacki\, Artur Święs\, Bartłomiej Błaszczyński\, Mateusz Znaniecki\, Andrzej Dopierała\, Barbara Lubos\, Ewa Leśniak\, Grażyna Bułka\, Alina Chechelska\, Violetta Smolińska\, Marcin Szaforz\, Agnieszka Radzikowska\, Aleksandra Przybył\, Katarzyna Błaszczyńska\, Dorota Chaniecka\, Ewa Kutynia\, Anna Kadulska\, Andrzej Warcaba\, Adam Kopciuszewski\, Wiesław Kupczak\, Marcin Gaweł\, Zbigniew Wróbel\, Marek Rachoń\, Grzegorz Lamik\, Marek Andrysek\, Arkadiusz Machel oraz statyści zespołu technicznego \nduża sala\, bilety: 150 i 140 zł (ostatni rząd)
URL:https://www.lubin.pl/wydarzenie/inauguracja-jesieni-teatralnej-spektakl-piata-strona-swiata-teatr-slaski-ck-muza/
LOCATION:Centrum Kultury „Muza” w Lubinie\, ul. Armii Krajowej 1\, Lubin\, 59-300
ORGANIZER;CN="Centrum Kultury 'Muza' w Lubinie":MAILTO:sekretariat@ckmuza.pl
END:VEVENT
BEGIN:VEVENT
DTSTART;TZID=Europe/Warsaw:20251005T160000
DTEND;TZID=Europe/Warsaw:20251005T190000
DTSTAMP:20260421T133133
CREATED:20250808T081504Z
LAST-MODIFIED:20250808T081504Z
UID:10000950-1759680000-1759690800@www.lubin.pl
SUMMARY:André Rieu. Przetańczyć całą noc! – retransmisja letniego koncertu z Maastricht 2025 || CK Muza
DESCRIPTION:Najnowszy koncert „Przetańczyć całą noc!” uświetnią znakomici goście króla walca\, z rozwijającą swoją niezwykłą karierę Emmą Kok na czele. Wielka miłość André Rieu do polskiej publiczności zaowocowała po raz kolejny wyjątkową gratką dla wszystkich widzów znad Wisły: gospodynią i prowadzącą show maestra znów będzie Maja Jasińska\, flecistka z jego Orkiestry Johanna Straussa. Tegoroczny kinowy koncert będzie ze wszech miar niepowtarzalny\, bowiem w 2025 roku przypada 200. rocznica urodzin Johanna Straussa – patrona wspaniałej orkiestry André Rieu i osobistego idola samego maestra. W takich okolicznościach Straussowski walc „Nad pięknym modrym Dunajem” wybrzmi jeszcze donioślej i piękniej. Poza tym najsłynniejszym walcem świata posłuchasz również innych klasycznych melodii\, a także premierowych wykonań szlagierów muzyki pop oraz filmowej. Daj się porwać do tańca najbardziej romantycznemu kinowemu wydarzeniu roku! Zabierz do kina drugą połowę\, rodzinę\, przyjaciół oraz znajomych! Obejmij najbliższe Ci osoby w tali i w rytm muzyki André Rieu przetańczcie całą noc! \nWersja językowa: polsko-holenderska z polskimi napisami\nBez ograniczeń wiekowych \nduża sala\, bilety 45 zł (normalny)\, 38 zł (ulgowy – dzieci\, młodzież\, emeryci\, renciści\, posiadacze Karty Dużej Rodziny) \nBilety w kasie CK Muza oraz TUTAJ
URL:https://www.lubin.pl/wydarzenie/andre-rieu-przetanczyc-cala-noc-retransmisja-letniego-koncertu-z-maastricht-2025-ck-muza/2025-10-05/
LOCATION:Centrum Kultury „Muza” w Lubinie\, ul. Armii Krajowej 1\, Lubin\, 59-300
ORGANIZER;CN="Centrum Kultury 'Muza' w Lubinie":MAILTO:sekretariat@ckmuza.pl
END:VEVENT
BEGIN:VEVENT
DTSTART;TZID=Europe/Warsaw:20251005T170000
DTEND;TZID=Europe/Warsaw:20251005T210000
DTSTAMP:20260421T133133
CREATED:20250404T092832Z
LAST-MODIFIED:20251001T111724Z
UID:10000792-1759683600-1759698000@www.lubin.pl
SUMMARY:Polska Noc Kabaretowa 2025
DESCRIPTION:W 2025 roku zapraszamy Was do królestwa uśmiechu! \nPrzygotujcie się na prawdziwą ucztę humoru\, bo na scenie wystąpią giganci polskiej sceny kabaretowej: Kabaret Skeczów Męczących\, Kabaret Nowaki\, Kabaret Młodych Panów\, Kabaret Smile\, Igor Kwiatkowski\, Kabaret K2\, Ewa Błachnio! A całość poprowadzi niepowtarzalny Bartosz Klauzinski. \nTa królewska obsada rozbawi Was do łez! \nZakładajcie korony uśmiechu i dołączcie do nas na największym kabaretowym wydarzeniu roku! Przekonajcie się sami\, jak wielką wartość ma uśmiech w Waszym życiu. \nBILETY DOSTĘPNE W KASIE SQUASH W HALI WIDOWISKOWO-SPORTOWEJ!
URL:https://www.lubin.pl/wydarzenie/polska-noc-kabaretowa-2025/
LOCATION:Hala Widowiskowo – Sportowa RCS w Lubinie\, Odrodzenia 28b\, Lubin\, 59-300
END:VEVENT
END:VCALENDAR