BEGIN:VCALENDAR
VERSION:2.0
PRODID:-//Lubin - Portal Miasta - ECPv6.10.2//NONSGML v1.0//EN
CALSCALE:GREGORIAN
METHOD:PUBLISH
X-ORIGINAL-URL:https://www.lubin.pl
X-WR-CALDESC:Wydarzenia dla Lubin - Portal Miasta
REFRESH-INTERVAL;VALUE=DURATION:PT1H
X-Robots-Tag:noindex
X-PUBLISHED-TTL:PT1H
BEGIN:VTIMEZONE
TZID:Europe/Warsaw
BEGIN:DAYLIGHT
TZOFFSETFROM:+0100
TZOFFSETTO:+0200
TZNAME:CEST
DTSTART:20250330T010000
END:DAYLIGHT
BEGIN:STANDARD
TZOFFSETFROM:+0200
TZOFFSETTO:+0100
TZNAME:CET
DTSTART:20251026T010000
END:STANDARD
END:VTIMEZONE
BEGIN:VEVENT
DTSTART;TZID=Europe/Warsaw:20250801T090000
DTEND;TZID=Europe/Warsaw:20250801T100000
DTSTAMP:20260420T045041
CREATED:20250724T074842Z
LAST-MODIFIED:20250729T120526Z
UID:10000923-1754038800-1754042400@www.lubin.pl
SUMMARY:OKIEM ARTYSTY... Powiatowy Plener Artystyczny 2025 - RYSUNEK I GRAFIKA! || CDT w Lubinie
DESCRIPTION:Lubin na trzy dni zamieni się w pracownię pod gołym niebem. Już w sierpniu rusza kolejna edycja projektu „Okiem Artysty…”\, tym razem poświęcona rysunkowi i grafice.  \nTo nie tylko okazja do pracy twórczej w przestrzeni miejskiej\, ale też możliwość rozwijania artystycznego warsztatu pod okiem doświadczonego artysty i zaprezentowania swoich prac szerokiej publiczności.  \nJeśli tworzysz – nie możesz tego przegapić. \nUWAGA! Ilość miejsc ograniczona! \nPo fotograficznej edycji pleneru z 2024 roku  i akwarelowej z 2023 roku\, projekt „Okiem Artysty… Powiatowe Plenery Artystyczne” powraca w nowej formule. Tym razem tematem przewodnim będzie rysunek i grafika\, a twórcze działania skupią się na terenie Lubina. Plener odbędzie się w dniach 1–3 sierpnia 2025 roku i będzie kolejnym krokiem w trzyletnim cyklu wspierającym artystów-amatorów z regionu. \nPlener „Okiem Artysty…” to wyjątkowa okazja\, by: \n– rozwijać warsztat pod okiem doświadczonego artysty – Krzysztofa Rodaka\, \n– pracować w plenerze wśród inspirującej miejskiej scenerii\, \n– poznać ludzi z artystycznym zacięciem i wymienić się doświadczeniem. \nKrzysztof Rodak to artysta plastyk\, grafik i wykładowca\, od lat związany z edukacją artystyczną i promocją sztuk wizualnych. Jego prace były prezentowane na licznych wystawach indywidualnych i zbiorowych\, a doświadczenie dydaktyczne i kuratorskie czyni go doskonałym przewodnikiem w twórczym procesie. \nOrganizatorami wydarzenia są Centrum Działań Twórczych w Lubinie oraz Fundacja „KULTUROLUBNI”\, a partnerem – Urząd Marszałkowski Województwa Dolnośląskiego.\nZadanie współfinansowane jest ze środków otrzymanych z budżetu Samorządu Województwa Dolnośląskiego w ramach programu #mojedolnośląskie
URL:https://www.lubin.pl/wydarzenie/okiem-artysty-powiatowy-plener-artystyczny-2025-rysunek-i-grafika/2025-08-01/
LOCATION:Centrum Działań Twórczych w Lubinie\, ul. Komisji Edukacji Narodowej 6A\, Lubin\, 59-300
END:VEVENT
BEGIN:VEVENT
DTSTART;TZID=Europe/Warsaw:20250801T170000
DTEND;TZID=Europe/Warsaw:20250801T180000
DTSTAMP:20260420T045041
CREATED:20250730T083526Z
LAST-MODIFIED:20250730T083543Z
UID:10000945-1754067600-1754071200@www.lubin.pl
SUMMARY:Obchody 81. rocznicy Powstania Warszawskiego
DESCRIPTION:Podczas uroczystości\, śladem lat ubiegłych\, odbędą się rekonstrukcje przedstawione przez stowarzyszenie Rekonstrukcje Lubin\, a dla 100 mieszkańców posiadających przy sobie symbole patriotyczne przygotowano koszulki i parasole\, które będą przekazywane zaraz po zakończeniu uroczystości. \nPodczas obchodów czynna będzie również na miejscu poczta harcerska\, gdzie każdy będzie mógł wysłać kartkę okolicznościową pod wskazany przez siebie adres.
URL:https://www.lubin.pl/wydarzenie/obchody-81-rocznicy-powstania-warszawskiego/
LOCATION:Mur Pamięci\, ul. Mikołaja Pruzi\, Lubin\, 59-300
END:VEVENT
BEGIN:VEVENT
DTSTART;TZID=Europe/Warsaw:20250802T090000
DTEND;TZID=Europe/Warsaw:20250802T100000
DTSTAMP:20260420T045041
CREATED:20250724T074842Z
LAST-MODIFIED:20250729T120526Z
UID:10000924-1754125200-1754128800@www.lubin.pl
SUMMARY:OKIEM ARTYSTY... Powiatowy Plener Artystyczny 2025 - RYSUNEK I GRAFIKA! || CDT w Lubinie
DESCRIPTION:Lubin na trzy dni zamieni się w pracownię pod gołym niebem. Już w sierpniu rusza kolejna edycja projektu „Okiem Artysty…”\, tym razem poświęcona rysunkowi i grafice.  \nTo nie tylko okazja do pracy twórczej w przestrzeni miejskiej\, ale też możliwość rozwijania artystycznego warsztatu pod okiem doświadczonego artysty i zaprezentowania swoich prac szerokiej publiczności.  \nJeśli tworzysz – nie możesz tego przegapić. \nUWAGA! Ilość miejsc ograniczona! \nPo fotograficznej edycji pleneru z 2024 roku  i akwarelowej z 2023 roku\, projekt „Okiem Artysty… Powiatowe Plenery Artystyczne” powraca w nowej formule. Tym razem tematem przewodnim będzie rysunek i grafika\, a twórcze działania skupią się na terenie Lubina. Plener odbędzie się w dniach 1–3 sierpnia 2025 roku i będzie kolejnym krokiem w trzyletnim cyklu wspierającym artystów-amatorów z regionu. \nPlener „Okiem Artysty…” to wyjątkowa okazja\, by: \n– rozwijać warsztat pod okiem doświadczonego artysty – Krzysztofa Rodaka\, \n– pracować w plenerze wśród inspirującej miejskiej scenerii\, \n– poznać ludzi z artystycznym zacięciem i wymienić się doświadczeniem. \nKrzysztof Rodak to artysta plastyk\, grafik i wykładowca\, od lat związany z edukacją artystyczną i promocją sztuk wizualnych. Jego prace były prezentowane na licznych wystawach indywidualnych i zbiorowych\, a doświadczenie dydaktyczne i kuratorskie czyni go doskonałym przewodnikiem w twórczym procesie. \nOrganizatorami wydarzenia są Centrum Działań Twórczych w Lubinie oraz Fundacja „KULTUROLUBNI”\, a partnerem – Urząd Marszałkowski Województwa Dolnośląskiego.\nZadanie współfinansowane jest ze środków otrzymanych z budżetu Samorządu Województwa Dolnośląskiego w ramach programu #mojedolnośląskie
URL:https://www.lubin.pl/wydarzenie/okiem-artysty-powiatowy-plener-artystyczny-2025-rysunek-i-grafika/2025-08-02/
LOCATION:Centrum Działań Twórczych w Lubinie\, ul. Komisji Edukacji Narodowej 6A\, Lubin\, 59-300
END:VEVENT
BEGIN:VEVENT
DTSTART;TZID=Europe/Warsaw:20250803T090000
DTEND;TZID=Europe/Warsaw:20250803T100000
DTSTAMP:20260420T045041
CREATED:20250724T074842Z
LAST-MODIFIED:20250729T120526Z
UID:10000925-1754211600-1754215200@www.lubin.pl
SUMMARY:OKIEM ARTYSTY... Powiatowy Plener Artystyczny 2025 - RYSUNEK I GRAFIKA! || CDT w Lubinie
DESCRIPTION:Lubin na trzy dni zamieni się w pracownię pod gołym niebem. Już w sierpniu rusza kolejna edycja projektu „Okiem Artysty…”\, tym razem poświęcona rysunkowi i grafice.  \nTo nie tylko okazja do pracy twórczej w przestrzeni miejskiej\, ale też możliwość rozwijania artystycznego warsztatu pod okiem doświadczonego artysty i zaprezentowania swoich prac szerokiej publiczności.  \nJeśli tworzysz – nie możesz tego przegapić. \nUWAGA! Ilość miejsc ograniczona! \nPo fotograficznej edycji pleneru z 2024 roku  i akwarelowej z 2023 roku\, projekt „Okiem Artysty… Powiatowe Plenery Artystyczne” powraca w nowej formule. Tym razem tematem przewodnim będzie rysunek i grafika\, a twórcze działania skupią się na terenie Lubina. Plener odbędzie się w dniach 1–3 sierpnia 2025 roku i będzie kolejnym krokiem w trzyletnim cyklu wspierającym artystów-amatorów z regionu. \nPlener „Okiem Artysty…” to wyjątkowa okazja\, by: \n– rozwijać warsztat pod okiem doświadczonego artysty – Krzysztofa Rodaka\, \n– pracować w plenerze wśród inspirującej miejskiej scenerii\, \n– poznać ludzi z artystycznym zacięciem i wymienić się doświadczeniem. \nKrzysztof Rodak to artysta plastyk\, grafik i wykładowca\, od lat związany z edukacją artystyczną i promocją sztuk wizualnych. Jego prace były prezentowane na licznych wystawach indywidualnych i zbiorowych\, a doświadczenie dydaktyczne i kuratorskie czyni go doskonałym przewodnikiem w twórczym procesie. \nOrganizatorami wydarzenia są Centrum Działań Twórczych w Lubinie oraz Fundacja „KULTUROLUBNI”\, a partnerem – Urząd Marszałkowski Województwa Dolnośląskiego.\nZadanie współfinansowane jest ze środków otrzymanych z budżetu Samorządu Województwa Dolnośląskiego w ramach programu #mojedolnośląskie
URL:https://www.lubin.pl/wydarzenie/okiem-artysty-powiatowy-plener-artystyczny-2025-rysunek-i-grafika/2025-08-03/
LOCATION:Centrum Działań Twórczych w Lubinie\, ul. Komisji Edukacji Narodowej 6A\, Lubin\, 59-300
END:VEVENT
BEGIN:VEVENT
DTSTART;TZID=Europe/Warsaw:20250803T150000
DTEND;TZID=Europe/Warsaw:20250803T180000
DTSTAMP:20260420T045041
CREATED:20250730T071103Z
LAST-MODIFIED:20250730T074711Z
UID:10000938-1754233200-1754244000@www.lubin.pl
SUMMARY:"Maluj z falą" - Otwarte warsztaty artystyczne w porcie w Ścinawie || CDT w Lubinie
DESCRIPTION:Muzyczne wieczory\, teatralne emocje i kreatywne warsztaty – to wszystko czeka na Was w lipcu i sierpniu podczas trzeciej edycji Kulturalnego Lata w Powiecie Lubińskim!\nTen wyjątkowy projekt to seria bezpłatnych wydarzeń plenerowych\, które łączą dobrą zabawę z kulturą w najlepszym wydaniu. \nKameralne koncerty\, barwne spektakle i artystyczne działania w klimatycznych miejscach – idealny sposób na letni relaks z nutą twórczej energii. Nie trzeba wyjeżdżać daleko\, by przeżyć coś wyjątkowego. KULTURALNE LATO zaprasza – bądźcie z nami! \nWARSZTATY „MALUJ Z FALĄ” – Otwarte warsztaty artystyczne – Port w Ścinawie \nSztuka nad wodą? Czemu nie! Otwarte warsztaty „Maluj z falą” to idealna okazja\, by puścić wodze kreatywności w malowniczym otoczeniu portu. Wśród szumu rzeki i zieleni uczestnicy stworzą własne prace inspirowane naturą\, wodą i letnim klimatem.\nNie obowiązują zapisy – wystarczy przyjść i dać się ponieść artystycznej fali!\nAtmosfera portu sprzyja twórczemu relaksowi – to doskonały sposób na spędzenie letniego popołudnia w pięknym miejscu. \nProjekt „Kulturalne lato” to wspólna inicjatywa Fundacji „Kulturolubni” i Centrum Działań Twórczych w Lubinie. Jego realizacja jest możliwa dzięki dofinansowaniu ze środków Budżetu Samorządu Województwa Dolnośląskiego\, w ramach programu „Z kulturą na Ty!”. Projekt jest realizowany w latach 2023-2025\, w tym czasie zorganizujemy dla mieszkańców regionu łącznie 18 wydarzeń: 6 koncertów\, 5 spektakli teatralnych\, 7 warsztatów. \nSzczegóły i regulamin udziału na www.kulturolubni.pl i www.cdt.lubin.pl \nWstęp wolny na wszystkie wydarzenia. \nOrganizatorzy zastrzegają sobie prawo do zmian w programie.
URL:https://www.lubin.pl/wydarzenie/warsztaty-maluj-z-fala-otwarte-warsztaty-artystyczne-w-porcie-w-scinawie-cdt-w-lubinie/
END:VEVENT
BEGIN:VEVENT
DTSTART;TZID=Europe/Warsaw:20250803T180000
DTEND;TZID=Europe/Warsaw:20250803T190000
DTSTAMP:20260420T045041
CREATED:20250516T100513Z
LAST-MODIFIED:20250516T100513Z
UID:10000849-1754244000-1754247600@www.lubin.pl
SUMMARY:Piosenki\, które znamy – Old Cover || Muzyczna Altana
DESCRIPTION:Centrum Kultury „Muza” zaprasza na kolejny koncert z cyklu Letnie koncerty w Muzycznej Altanie. \nOld Cover istnieje od dwóch lat. Członkowie duetu to lubinianka Grażyna Szmalenberg oraz Krzysztof Ciesielski – emerytowany górnik z ZG Polkowice-Sieroszowice. Wykonują głównie piosenki z tzw. międzywojnia\, również kresowe oraz z lat 60. i 70. Ich nieco późno odkryta pasja sprawia im ogromną radość. Wspólnie z publicznością starają się ożywić piękne\, trochę zapomniane melodie. Mają za sobą wiele koncertów\, biorą też udział w przeglądach i konkursach. Publiczność na ich koncertach reaguje bardzo żywiołowo\, co motywuje ich do dalszej pracy. Od 2024 r. działają przy Teatrze im. Andreasa Gryphiusa w Głogowie\, a ich opiekunem i choreografem jest Bożena Rudzińska. \nAltana w Parku im. J. Piłsudskiego (za CK MUZA)\, wstęp wolny
URL:https://www.lubin.pl/wydarzenie/piosenki-ktore-znamy-old-cover-muzyczna-altana/
LOCATION:Altana w Parku im. J. Piłsudskiego\, Lubin\, 59-300
ORGANIZER;CN="Centrum Kultury 'Muza' w Lubinie":MAILTO:sekretariat@ckmuza.pl
END:VEVENT
END:VCALENDAR