BEGIN:VCALENDAR
VERSION:2.0
PRODID:-//Lubin - Portal Miasta - ECPv6.10.2//NONSGML v1.0//EN
CALSCALE:GREGORIAN
METHOD:PUBLISH
X-WR-CALNAME:Lubin - Portal Miasta
X-ORIGINAL-URL:https://www.lubin.pl
X-WR-CALDESC:Wydarzenia dla Lubin - Portal Miasta
REFRESH-INTERVAL;VALUE=DURATION:PT1H
X-Robots-Tag:noindex
X-PUBLISHED-TTL:PT1H
BEGIN:VTIMEZONE
TZID:Europe/Warsaw
BEGIN:DAYLIGHT
TZOFFSETFROM:+0100
TZOFFSETTO:+0200
TZNAME:CEST
DTSTART:20250330T010000
END:DAYLIGHT
BEGIN:STANDARD
TZOFFSETFROM:+0200
TZOFFSETTO:+0100
TZNAME:CET
DTSTART:20251026T010000
END:STANDARD
END:VTIMEZONE
BEGIN:VEVENT
DTSTART;TZID=Europe/Warsaw:20250719T200000
DTEND;TZID=Europe/Warsaw:20250719T235900
DTSTAMP:20260420T082538
CREATED:20250704T103251Z
LAST-MODIFIED:20250704T103251Z
UID:10000879-1752955200-1752969540@www.lubin.pl
SUMMARY:Dyskoteka – Silent Disco || CK Muza
DESCRIPTION:Zapraszamy na Silent Disco w nowej odsłonie – wyjątkową imprezę\, na której to Wy decydujecie\, do jakiej muzyki tańczycie! Impreza\, której nie słychać… dopóki nie założysz słuchawek! Każdy uczestnik otrzyma słuchawki bezprzewodowe i wybierze jeden z trzech kanałów muzycznych – każdy z nich to inna taneczna historia. W jednej przestrzeni spotkają się różne muzyczne światy\, tworząc wspólny parkiet pełen energii. \n3 kanały muzyczne:\n▪︎ Kanał Mamma Mia! – hity ABBY i taneczne lata 80′\n▪︎ Kanał hip hop\, R&B\, funk – klasyka i współczesne brzmienia\n▪︎ House / muzyka elektroniczna – pulsująca energia klubowych bitów  \nWypożyczenie słuchawek jest możliwe po podpisaniu umowy użyczenia i okazaniu dokumentu tożsamości ze zdjęciem. \nRazem stworzymy przestrzeń\, w której cisza staje się dźwiękiem\, a muzyka miejscem spotkania i radości. \nWejście na dyskotekę od godz. 19:00\nRestauracja MUZA\, bilety: 35 zł / 40 zł w dniu imprezy
URL:https://www.lubin.pl/wydarzenie/dyskoteka-silent-disco-ck-muza/
LOCATION:Centrum Kultury „Muza” w Lubinie\, ul. Armii Krajowej 1\, Lubin\, 59-300
ORGANIZER;CN="Centrum Kultury 'Muza' w Lubinie":MAILTO:sekretariat@ckmuza.pl
END:VEVENT
BEGIN:VEVENT
DTSTART;TZID=Europe/Warsaw:20250720T180000
DTEND;TZID=Europe/Warsaw:20250720T190000
DTSTAMP:20260420T082538
CREATED:20250516T102822Z
LAST-MODIFIED:20250516T103039Z
UID:10000850-1753034400-1753038000@www.lubin.pl
SUMMARY:Koncert SwingBastet || Muzyczna Altana
DESCRIPTION:Centrum Kultury „Muza” zaprasza na kolejny koncert z cyklu Letnie koncerty w Muzycznej Altanie. \nSwingBastet to zespół\, którego instrumentaliści współpracują ze sobą od 2018 r. Gdy do składu dołączyła wokalistka Barbara Pacanek\, rozpoczęli koncertować pod obecna nazwą. Repertuar grupy stanowią przede wszystkim tematy swingowe\, ale usłyszeć w nim można również jazz klasyczny\, funky\, rytmy latynoskie oraz „ujazzowione” tematy muzyki rozrywkowej. \nSkład zespołu:\nBarbara Pacanek – wokalistka\nMirostaw Sanecki – saksofonista\nRobert Sobstyl – pianista\nBogdan Feliczak – kontrabasista\nPaweł Kurek – perkusista \nAltana w Parku im. J. Piłsudskiego (za CK MUZA)\, wstęp wolny
URL:https://www.lubin.pl/wydarzenie/koncert-swingbastet-muzyczna-altana/
LOCATION:Altana w Parku im. J. Piłsudskiego\, Lubin\, 59-300
ORGANIZER;CN="Centrum Kultury 'Muza' w Lubinie":MAILTO:sekretariat@ckmuza.pl
END:VEVENT
END:VCALENDAR