BEGIN:VCALENDAR
VERSION:2.0
PRODID:-//Lubin - Portal Miasta - ECPv6.10.2//NONSGML v1.0//EN
CALSCALE:GREGORIAN
METHOD:PUBLISH
X-ORIGINAL-URL:https://www.lubin.pl
X-WR-CALDESC:Wydarzenia dla Lubin - Portal Miasta
REFRESH-INTERVAL;VALUE=DURATION:PT1H
X-Robots-Tag:noindex
X-PUBLISHED-TTL:PT1H
BEGIN:VTIMEZONE
TZID:Europe/Warsaw
BEGIN:DAYLIGHT
TZOFFSETFROM:+0100
TZOFFSETTO:+0200
TZNAME:CEST
DTSTART:20250330T010000
END:DAYLIGHT
BEGIN:STANDARD
TZOFFSETFROM:+0200
TZOFFSETTO:+0100
TZNAME:CET
DTSTART:20251026T010000
END:STANDARD
END:VTIMEZONE
BEGIN:VEVENT
DTSTART;TZID=Europe/Warsaw:20250623T180000
DTEND;TZID=Europe/Warsaw:20250623T200000
DTSTAMP:20260420T195125
CREATED:20250612T083228Z
LAST-MODIFIED:20250612T083228Z
UID:10000876-1750701600-1750708800@www.lubin.pl
SUMMARY:URBAN PULSE – występ uczestników Studia Tańca CARMEN || CK Muza
DESCRIPTION:Jeden rytm. Wiele pokoleń. Całe miasto tańczy. Studio Tańca Carmen Agnieszki Wójcik-Margiewicz zaprasza na wyjątkowy pokaz taneczny\, w którym spotykają się dzieci\, młodzież i dorośli\, uczniowie wielu pokoleń\, połączeni jednym pulsem: pasją do tańca. Taniec to język ciała\, który nie zna granic. W czasie koncertu zobaczycie choreografie i historie\, które tworzyli przez cały rok. Przed Wami pokaz talentu\, pasji i radości z bycia razem. Czekają na Was emocje\, rytm\, ruch i energia miasta zaklęta w tanecznych krokach. Przyjdź i poczuj puls tańca! \nduża sala\, bilety: 35 zł / 30 zł (ostatni rząd) \nBilety do nabycia w kasie MUZY oraz w sprzedaży internetowej
URL:https://www.lubin.pl/wydarzenie/urban-pulse-wystep-uczestnikow-studia-tanca-carmen-ck-muza/
LOCATION:Centrum Kultury „Muza” w Lubinie\, ul. Armii Krajowej 1\, Lubin\, 59-300
ORGANIZER;CN="Centrum Kultury 'Muza' w Lubinie":MAILTO:sekretariat@ckmuza.pl
END:VEVENT
BEGIN:VEVENT
DTSTART;TZID=Europe/Warsaw:20250623T190000
DTEND;TZID=Europe/Warsaw:20250623T210000
DTSTAMP:20260420T195125
CREATED:20250618T110601Z
LAST-MODIFIED:20250618T110601Z
UID:10000889-1750705200-1750712400@www.lubin.pl
SUMMARY:„Czekając na Godota” || CDT Lubin
DESCRIPTION:Centrum Działań Twórczych w Lubinie zaprasza na wyjątkową interpretację klasyki teatru absurdu – dramatu Samuela Becketta „Czekając na Godota”. \nNa scenie sali widowiskowej zaprezentują się uczestnicy warsztatów aktorskich dla młodzieży\, działających przy Centrum Działań Twórczych w Lubinie. Pod kierunkiem aktora Teatru im. Heleny Modrzejewskiej w Legnicy – Mateusza Krzyka młodzi aktorzy przeniosą nas w przestrzeń pełną niepokoju\, ciszy i pytań o sens ludzkiej egzystencji. \nW przygotowanej inscenizacji młodzież podkreśla uniwersalne przesłanie sztuki: samotność człowieka\, potrzebę drugiego i wieczne oczekiwanie na coś\, co nigdy nie nadchodzi. Minimalistyczna scenografia i sugestywna gra aktorów pozwolą skupić się na słowie\, geście i emocji. \nPrzyjdźcie i zobaczcie młodych adeptów sztuki teatralnej w akcji. Zobaczcie grę pełną pasji\, rozmów\, humoru\, goryczy i filozoficznej zadumy\, odsłaniają kruchość ludzkiej nadziei i bezradność wobec upływającego czasu. \nObsada:\nZuzanna Anopczenko\nWojciech Bielasik\nHanna Chrzan\nKlaudia Klin\nMateusz Nimczyk\nEmilia Ogonowska\nMaja Pomierny\nDominika Rudak\nJulia Samoluk\nJulia Sarwuta\nOlivia Stefaniak\nNina Urban \nWydarzenie skłoni do refleksji i na długo pozostanie w Waszej pamięci. \nWstęp wolny. \nSala widowiskowa Centrum Działań Twórczych w Lubinie.
URL:https://www.lubin.pl/wydarzenie/czekajac-na-godota-cdt-lubin/
LOCATION:Centrum Działań Twórczych w Lubinie\, ul. Komisji Edukacji Narodowej 6A\, Lubin\, 59-300
END:VEVENT
BEGIN:VEVENT
DTSTART;TZID=Europe/Warsaw:20250624T170000
DTEND;TZID=Europe/Warsaw:20250624T190000
DTSTAMP:20260420T195125
CREATED:20250612T083518Z
LAST-MODIFIED:20250612T083615Z
UID:10000877-1750784400-1750791600@www.lubin.pl
SUMMARY:Wielki Finał zajęć wokalnych Akademii Śpiewu\, Studio Piosenki dla Dzieci i Młodzieży || CK Muza
DESCRIPTION:
URL:https://www.lubin.pl/wydarzenie/wielki-final-zajec-wokalnych-akademii-spiewu-studio-piosenki-dla-dzieci-i-mlodziezy-ck-muza/
LOCATION:Centrum Kultury „Muza” w Lubinie\, ul. Armii Krajowej 1\, Lubin\, 59-300
ORGANIZER;CN="Centrum Kultury 'Muza' w Lubinie":MAILTO:sekretariat@ckmuza.pl
END:VEVENT
BEGIN:VEVENT
DTSTART;TZID=Europe/Warsaw:20250626T180000
DTEND;TZID=Europe/Warsaw:20250626T200000
DTSTAMP:20260420T195125
CREATED:20250612T084003Z
LAST-MODIFIED:20250612T084003Z
UID:10000878-1750960800-1750968000@www.lubin.pl
SUMMARY:Finał Młodzieżowych Warsztatów Wokalnych i Warsztatów Wokalnych dla Dorosłych || CK Muza
DESCRIPTION:
URL:https://www.lubin.pl/wydarzenie/final-mlodziezowych-warsztatow-wokalnych-i-warsztatow-wokalnych-dla-doroslych-ck-muza/
LOCATION:Centrum Kultury „Muza” w Lubinie\, ul. Armii Krajowej 1\, Lubin\, 59-300
ORGANIZER;CN="Centrum Kultury 'Muza' w Lubinie":MAILTO:sekretariat@ckmuza.pl
END:VEVENT
BEGIN:VEVENT
DTSTART;TZID=Europe/Warsaw:20250627T130000
DTEND;TZID=Europe/Warsaw:20250628T235900
DTSTAMP:20260420T195125
CREATED:20250401T083349Z
LAST-MODIFIED:20250602T060231Z
UID:10000784-1751029200-1751155140@www.lubin.pl
SUMMARY:DNI LUBINA 2025
DESCRIPTION:Szykujcie się na dwa dni pełne muzyki\, zabawy i niespodzianek! 27 i 28 czerwca lubińskie błonia zamienią się w centrum rozrywki – koncerty topowych artystów\, atrakcje dla dzieci\, pyszne jedzenie i energetyczna dyskoteka na zakończenie każdego dnia. Wstęp? Oczywiście bezpłatny! \nWięcej informacji szukajcie tutaj! \nNie może Was zabraknąć!
URL:https://www.lubin.pl/wydarzenie/dni-lubina-2025/2025-06-27/1/
LOCATION:lubińskie błonia\, ul. Piastowska\, Lubin\, 59-300
END:VEVENT
BEGIN:VEVENT
DTSTART;TZID=Europe/Warsaw:20250627T153000
DTEND;TZID=Europe/Warsaw:20250627T235900
DTSTAMP:20260420T195125
CREATED:20250401T083349Z
LAST-MODIFIED:20250602T060231Z
UID:10000785-1751038200-1751068740@www.lubin.pl
SUMMARY:DNI LUBINA 2025
DESCRIPTION:Szykujcie się na dwa dni pełne muzyki\, zabawy i niespodzianek! 27 i 28 czerwca lubińskie błonia zamienią się w centrum rozrywki – koncerty topowych artystów\, atrakcje dla dzieci\, pyszne jedzenie i energetyczna dyskoteka na zakończenie każdego dnia. Wstęp? Oczywiście bezpłatny! \nWięcej informacji szukajcie tutaj! \nNie może Was zabraknąć!
URL:https://www.lubin.pl/wydarzenie/dni-lubina-2025/2025-06-27/3/
LOCATION:lubińskie błonia\, ul. Piastowska\, Lubin\, 59-300
END:VEVENT
BEGIN:VEVENT
DTSTART;TZID=Europe/Warsaw:20250629T170000
DTEND;TZID=Europe/Warsaw:20250629T200000
DTSTAMP:20260420T195125
CREATED:20250417T122146Z
LAST-MODIFIED:20250618T120027Z
UID:10000810-1751216400-1751227200@www.lubin.pl
SUMMARY:WNIEBODĘTE! Festiwal im. Marka Garcarza
DESCRIPTION:Zapraszamy serdecznie na V edycję koncertu\, podczas którego Narodowa Orkiestra Dęta pod batutą Justyny Chmielek-Korbut zapewni niezapomniane przeżycia muzyczne. Przyjdź i poczuj się częścią wspólnoty!  \nWystąpi Narodowa Orkiestra Dęta\, Chór Narodowej oraz Gabi Gąsior i inni zaproszeni goście! Koncert poprowadzą Anna Madej i Maciej Kita!  \nOdkryj nowe brzmienia i zanurz się w magicznej atmosferze muzyki!  \nWstęp bezpłatny!
URL:https://www.lubin.pl/wydarzenie/wniebodete-festiwal-im-marka-garcarza/
LOCATION:lubińskie błonia\, ul. Piastowska\, Lubin\, 59-300
END:VEVENT
END:VCALENDAR