BEGIN:VCALENDAR
VERSION:2.0
PRODID:-//Lubin - Portal Miasta - ECPv6.10.2//NONSGML v1.0//EN
CALSCALE:GREGORIAN
METHOD:PUBLISH
X-WR-CALNAME:Lubin - Portal Miasta
X-ORIGINAL-URL:https://www.lubin.pl
X-WR-CALDESC:Wydarzenia dla Lubin - Portal Miasta
REFRESH-INTERVAL;VALUE=DURATION:PT1H
X-Robots-Tag:noindex
X-PUBLISHED-TTL:PT1H
BEGIN:VTIMEZONE
TZID:Europe/Warsaw
BEGIN:DAYLIGHT
TZOFFSETFROM:+0100
TZOFFSETTO:+0200
TZNAME:CEST
DTSTART:20250330T010000
END:DAYLIGHT
BEGIN:STANDARD
TZOFFSETFROM:+0200
TZOFFSETTO:+0100
TZNAME:CET
DTSTART:20251026T010000
END:STANDARD
END:VTIMEZONE
BEGIN:VEVENT
DTSTART;TZID=Europe/Warsaw:20250610T173000
DTEND;TZID=Europe/Warsaw:20250610T190000
DTSTAMP:20260420T210728
CREATED:20250417T115025Z
LAST-MODIFIED:20250516T063128Z
UID:10000804-1749576600-1749582000@www.lubin.pl
SUMMARY:Prestiż – spektakl komediowy
DESCRIPTION:Luksus\, perfekcja\, skandale – świat\, w którym wszystko jest na sprzedaż\, poza prawdą. Przygotuj się na najbardziej wybuchową komedię roku! \n„Prestiż” to spektakl\, który rozbiera współczesny kult sukcesu na czynniki pierwsze – z humorem ostrym jak brzytwa i absurdem\, który wbije Cię w fotel. Domy za miliony\, idealne ciała\, egzotyczne kokosy z Zanzibaru – to codzienność bohaterów\, którzy robią wszystko\, by ich życie wyglądało perfekcyjnie. Ale co naprawdę kryje się za tym blichtrem? To widowisko pełne pikantnych dialogów\, zaskakujących zwrotów akcji i sytuacji tak komicznych\, że popłaczesz się ze śmiechu! Zdrady\, sukcesy\, pieniądze i seks – tu nic nie jest święte. A kiedy kurz śmiechu opadnie\, zostaniesz z pytaniem\, którego nie możesz zignorować: czy za maską perfekcji jest cokolwiek prawdziwego? \nKup bilet na godzinę 17:30 TUTAJ \nUwaga! Z przyczyn niezależnych od organizatora spektakl Prestiż o godz. 20:00 został odwołany. Zwrot biletów zakupionych w kasie MUZY przyjmowany będzie do dnia spektaklu do godz. 20:00.\nZa niedogodności serdecznie przepraszamy.
URL:https://www.lubin.pl/wydarzenie/prestiz-spektakl-komediowy/
LOCATION:Centrum Kultury „Muza” w Lubinie\, ul. Armii Krajowej 1\, Lubin\, 59-300
END:VEVENT
BEGIN:VEVENT
DTSTART;TZID=Europe/Warsaw:20250612T110000
DTEND;TZID=Europe/Warsaw:20250612T130000
DTSTAMP:20260420T210728
CREATED:20250612T073706Z
LAST-MODIFIED:20250612T073706Z
UID:10000868-1749726000-1749733200@www.lubin.pl
SUMMARY:"Piękno w różnorodności" wernisaż fotografii Adama Śliwińskiego || Galeria Pałacyk
DESCRIPTION:Wystawa „Piękno w różnorodności” to wyjątkowa opowieść o młodzieży ze Specjalnego OśrodkaSzkolno-Wychowawczego im. Przyjaciół Dzieci w Lubinie — uczniach z niepełnosprawnością intelektualną\, którzy swoją codziennością pokazują\, jak wiele radości\, wrażliwości i prawdziwego piękna kryje się w prostych gestach\, autentycznych relacjach i wspólnym byciu razem. \nNa fotografiach cenionego artysty Adama Śliwińskiego zobaczyć można nie tylko uczniów\, ale i ich świat — pełen bliskości\, zrozumienia i szczerej obecności. To klasa\, która od lat tworzy swoją małą społeczność w ramach większej\, szkolnej rodziny — z oddaną wychowawczynią\, która towarzyszy im w tej wspólnej podróży. Ich codzienność\, choć różna od tej\, którą znamy na co dzień\, ma w sobie coś\, co głęboko porusza i skłania do refleksji nad tym\, czym naprawdę jest piękno. \nW duchu japońskiej filozofii\, która odnajduje piękno w niedoskonałości\, kruchości i autentyczności\, ta wystawa przypomina nam\, że różnorodność nie tylko wzbogaca — ona tworzy. „Piękno w różnorodności” to nie tylko zbiór zdjęć\, to hołd dla każdego ucznia\, każdej relacji i każdej chwili\, która uczy nas patrzeć sercem. \nAdam Śliwiński to polski fotograf\, który specjalizuje się w fotografii reportażowej i portretowej. Jego prace często koncentrują się na ludzkich emocjach i codziennych sytuacjach\, ukazując je w sposób autentyczny i pełen głębi. Śliwiński często angażuje się w projekty dokumentalne\, które mają na celu opowiedzenie historii ludzi i społeczności. Jego zdjęcia są cenione za umiejętność uchwycenia prawdziwego życia oraz za estetykę\, która łączy klasykę z nowoczesnością.
URL:https://www.lubin.pl/wydarzenie/piekno-w-roznorodnosci-wernisaz-fotografii-adama-sliwinskiego-galeria-palacyk/
LOCATION:Galeria Pałacyk\, ul. M. Skłodowskiej-Curie 6 (parter)\, Lubin\, dolnośląskie\, 59-300\, Poland
END:VEVENT
BEGIN:VEVENT
DTSTART;TZID=Europe/Warsaw:20250613T180000
DTEND;TZID=Europe/Warsaw:20250613T220000
DTSTAMP:20260420T210728
CREATED:20250612T072519Z
LAST-MODIFIED:20250621T065719Z
UID:10000867-1749837600-1749852000@www.lubin.pl
SUMMARY:Koncert „Alternatywa w Centrum” || CDT w Lubinie
DESCRIPTION:Lubin znów zapulsuje rytmem niezależnej muzyki! Po świetnie przyjętej pierwszej edycji\, „Alternatywa w Centrum” powraca – z jeszcze mocniejszym składem\, większą energią i tą samą\, bezpretensjonalną atmosferą. \nTHE VETS\nWrocławski skład\, który powstał z potrzeby grania punkskareggae bez spiny i schematów. Sami o sobie mówią: „skinohipy” i „weterani podziemia”\, co zresztą świetnie oddaje ducha zespołu. Ich koncerty to żywioł\, sekcja dęta\, energia i dystans\, który przywraca wiarę w szczere granie. \nTHE LESS\nZespół z historią sięgającą 1987 roku\, który po ponad dwóch dekadach wrócił na scenę\, łącząc klasyczny repertuar z nowym\, mroczniejszym brzmieniem. Grają muzykę alternatywną z pogranicza post-punku i zimnej fali\, a ich koncerty to emocjonalna podróż. Klimatycznie\, głęboko i z charakterem. \nBAŁAGAN\nLubin reprezentuje Bałagan – muzyczne zderzenie ska\, reggae i punka\, buntu\, dystansu i pasji. Grają z ogniem i luzem – w ich kawałkach punk spotyka ska i reggae\, a scena zamienia się w festiwal autentyczności. \nDlaczego warto?\nBo to wieczór bez zadęcia! Leżaki\, znajomi i muzyka\, którą można poczuć – a nie tylko usłyszeć. Trzy zespoły\, trzy różne brzmienia i jedno miejsce\, gdzie można po prostu być\, posłuchać\, pobujać się i złapać dobry klimat. Bez biletów\, bez barierek\, bez nadęcia. \nAlternatywa to przestrzeń otwarta – dosłownie i w przenośni. \nWstęp bezpłatny!
URL:https://www.lubin.pl/wydarzenie/koncert-alternatywa-w-centrum-cdt-w-lubinie/
LOCATION:Centrum Działań Twórczych w Lubinie\, ul. Komisji Edukacji Narodowej 6A\, Lubin\, 59-300
END:VEVENT
BEGIN:VEVENT
DTSTART;TZID=Europe/Warsaw:20250613T184500
DTEND;TZID=Europe/Warsaw:20250613T190000
DTSTAMP:20260420T210728
CREATED:20250522T094523Z
LAST-MODIFIED:20250522T094523Z
UID:10000860-1749840300-1749841200@www.lubin.pl
SUMMARY:"Z głębi barokowej duszy" koncert organowy Hanny Dys || Narodowa Orkiestra Dęta
DESCRIPTION:Zapraszamy na niezwykły wieczór z muzyką dawną – koncert organowy Narodowej Orkiestry Dętej\, zatytułowany „Z głębi barokowej duszy”\, podczas którego na organach zagra Hanna Dys. Artystka zabierze słuchaczy w podróż przez pełne ekspresji i duchowości dzieła największych kompozytorów epoki baroku. \nW programie znajdą się utwory mistrzów północnoniemieckiej szkoły organowej\, takich jak Franz Tunder\, Dietrich Buxtehude\, Johann Adam Reinken\, Matthias Weckmann\, Johann Jakob Froberger\, Georg Muffat\, oraz oczywiście niezrównanego Johanna Sebastiana Bacha. Koncert zamknie monumentalne Preludium i fuga G-dur BWV 541 – jedna z najwspanialszych kompozycji organowych Bacha. \nWSTĘP WOLNY \nProgram koncertu:\n– Johann Sebastian Bach – Komm\, Gott Schöpfer\, heiliger Geist BWV 667\n– Franz Tunder – Canzona\n– Dietrich Buxtehude – Prelude in g BuxWV 149\n– Dietrich Buxtehude – Komm heiliger Geist BuxWV 199\n– Johann Adam Reinken – Fuga in g\n– Matthias Weckmann – Fantasia ex D\n– Johann Jakob Froberger – Toccata FbWV 102\n– Georg Muffat – Toccata duodecima et ultima\n– Johann Sebastian Bach – Allein Gott in der Höh sei Ehr BWV 662\n– Johann Sebastian Bach – Preludium i fuga G-dur BWV 541 \nHanna Dys – wybitna organistka\, pedagog i animatorka życia muzycznego. Profesor Akademii Muzycznej w Gdańsku\, dyrektor Festiwalu Muzyki Organowej i Kameralnej w Grudziądzu oraz inicjatorka wielu projektów kulturalnych. Absolwentka akademii muzycznych w Gdańsku i Hamburgu\, stypendystka prestiżowych programów artystycznych\, laureatka konkursu „Muzyczne Orły 2020”\, odznaczona Srebrnym Krzyżem Zasługi (2025) oraz wyróżniona odznaką „Zasłużony dla Kultury Polskiej”. \nArtystka występuje na renomowanych festiwalach w kraju i za granicą\, z pasją promując polską muzykę organową. Jej dorobek fonograficzny obejmuje nagrania solowe i kameralne\, w tym dzieła Mieczysława Surzyńskiego\, Feliksa Nowowiejskiego czy Daniela Magnusa Gronaua. Pedagog\, mentor i jurorka\, z oddaniem dzieli się swoją wiedzą z młodymi muzykami. \n„Z głębi barokowej duszy” to propozycja nie tylko dla koneserów muzyki dawnej\, ale i dla tych\, którzy pragną na nowo odkryć siłę duchowej ekspresji baroku.
URL:https://www.lubin.pl/wydarzenie/z-glebi-barokowej-duszy-koncert-organowy-hanny-dys-narodowa-orkiestra-deta/
LOCATION:Kościół pw. Matki Bożej Częstochowskiej w Lubinie\, ul. Hugo Kołłątaja 4\, Lubin\, 59-300\, Poland
END:VEVENT
BEGIN:VEVENT
DTSTART;TZID=Europe/Warsaw:20250614T100000
DTEND;TZID=Europe/Warsaw:20250614T200000
DTSTAMP:20260420T210728
CREATED:20250612T064611Z
LAST-MODIFIED:20250612T064611Z
UID:10000864-1749895200-1749931200@www.lubin.pl
SUMMARY:Otwarcie basenów zewnętrznych || RCS Lubin
DESCRIPTION:Regionalne Centrum Sportowe w Lubinie rozpoczyna sezon letni na basenach zewnętrznych! \nTradycyjnie\, w dzień otwarcia – wstęp na obiekt jest darmowy dla wszystkich. \nZapraszamy przez cały weekend od 10:00 do 20:00.
URL:https://www.lubin.pl/wydarzenie/otwarcie-basenow-zewnetrznych-rcs-lubin/
LOCATION:baseny zewnętrzne RCS Lubin\, Odrodzenia 28b\, Lubin\, 59-300
END:VEVENT
BEGIN:VEVENT
DTSTART;TZID=Europe/Warsaw:20250614T120000
DTEND;TZID=Europe/Warsaw:20250614T143000
DTSTAMP:20260420T210728
CREATED:20250513T132352Z
LAST-MODIFIED:20250513T132352Z
UID:10000830-1749902400-1749911400@www.lubin.pl
SUMMARY:Śniadanie przy fortepianie – występ młodych pianistów z CAE „ZG-Muzyk” || CK Muza
DESCRIPTION:Czy muzykę można traktować jak przyprawę? Profesor Charles Spense z Uniwersytetu w Oksfordzie od lat udowadnia\, że smak żywności może się zmieniać w zależności od tego\, jaki rodzaj dźwięku dociera do nas podczas jedzenia. Według Spencera muzyka jest jednym z ważniejszych czynników wpływających na zadowolenie z posiłku… \nZatem… zapraszamy do Restauracji MUZA na muzyczną ucztę młodych pianistów CAE „ZG-Muzyk”. \nRestauracja MUZA\, wstęp wolny
URL:https://www.lubin.pl/wydarzenie/sniadanie-przy-fortepianie-wystep-mlodych-pianistow-z-cae-zg-muzyk-ck-muza/
LOCATION:Centrum Kultury „Muza” w Lubinie\, ul. Armii Krajowej 1\, Lubin\, 59-300
END:VEVENT
BEGIN:VEVENT
DTSTART;TZID=Europe/Warsaw:20250614T120000
DTEND;TZID=Europe/Warsaw:20250614T170000
DTSTAMP:20260420T210728
CREATED:20250602T054648Z
LAST-MODIFIED:20250612T063144Z
UID:10000862-1749902400-1749920400@www.lubin.pl
SUMMARY:Parkowa Biblioteka || Miejska Biblioteka Publiczna w Lubinie
DESCRIPTION:Miejska Biblioteka Publiczna po raz kolejny zaprasza mieszkańców Lubina i okolic na plenerową imprezę pod nazwą Parkowa Biblioteka. \nZapraszamy wszystkich odwiedzających w tym dniu ZOO i naszą bibliotekę do skorzystania z bogatej oferty m.in. : warsztatów tworzenia szklanej biżuterii „Mały Jubiler”\, edukacyjnych i chemicznych „ Tworzenie świec sojowych” \, oraz zajęć z cyklu „Jak powstaje książka”. O uśmiech na twarzach naszych najmłodszych zadbają animatorki z Animanii \,które zaprezentują pokaz baniek mydlanych oraz wyczarują piękne malunki na skórze. Podczas trwania imprezy kreatywne bibliotekarki poprowadzą interesujące zajęcia plastyczne. \nOczywiście będzie również możliwości upolowania sobie wielu interesujących pozycji gdyż przygotowaliśmy wiele kartonów książek do rozdania.
URL:https://www.lubin.pl/wydarzenie/parkowa-biblioteka/
END:VEVENT
BEGIN:VEVENT
DTSTART;TZID=Europe/Warsaw:20250615T160000
DTEND;TZID=Europe/Warsaw:20250615T190000
DTSTAMP:20260420T210728
CREATED:20250516T072227Z
LAST-MODIFIED:20250516T072227Z
UID:10000842-1750003200-1750014000@www.lubin.pl
SUMMARY:Madame Butterfly z Opera National de Paris – retransmisja || CK Muza
DESCRIPTION:Przedstawienie zarejestrowano w Opéra Bastille 28 września 2024 r. „Madame Butterfly” to jedno z najbardziej rozpoznawalnych i cenionych dzieł w historii opery. Puccini zdołał stworzyć kompozycję wyjątkowo poruszającą. Jej uniwersalność i trwała siła oddziaływania na widzów z różnych kultur zapewnia jej stałe miejsce we wszystkich teatrach operowych świata. My na wielkim ekranie zobaczymy subtelną i wysmakowaną inscenizację Roberta Wilsona\, opartą na tradycji teatru japońskiego. \nSpecyfiką „Madame Butterfly” jest to\, że nie wybacza ona błędu w obsadzie tytułowej roli\, a Eleonora Buratto w paryskim spektaklu spisuje się w niej wybornie. Włoska sopranistka uznawana jest za jedną z czołowych śpiewaczek swojego pokolenia. Od debiutu w nowojorskiej The Metropolitan Opera kontynuuje międzynarodową karierę\, występując w najważniejszych teatrach operowych świata. Jest znana z wyrazistego głosu\, którym dobrze odnajduje się zarówno w lirycznych\, jak i dramatycznych partiach. To właśnie za rolę Madame Butterfly\, w którą wciela się od niedawna\, zbiera szczególnie entuzjastyczne recenzje. \nMotyw kobiety uwiedzionej i porzuconej przez igrającego z jej uczuciami mężczyznę dotyka najwrażliwszych sfer naszej emocjonalności. Jedni mogą się z przeżyciami bohaterki utożsamić\, dla innych będą one uosobieniem głęboko skrywanych lęków. \nOpera Pucciniego porusza tematykę zderzenia kultur Wschodu i Zachodu\, co otworzyło przestrzeń do debat na temat orientalizmu\, stereotypów oraz różnic kulturowych. Choć współczesne spojrzenie krytycznie ocenia niektóre aspekty przedstawienia kultury azjatyckiej w „Madame Butterfly”\, to dzieło nadal pobudza dyskusję nad sposobem\, w jaki kultura wpływa na tożsamość i relacje międzyludzkie. \nWersja z polskimi napisami.\n \nBilety można kupić w kasie oraz TUTAJ \nDuża sala\, bilety: 38 zł (normalny)\, 35 zł (ulgowy – dzieci\, młodzież\, emeryci\, renciści\, posiadacze Karty Dużej Rodziny)
URL:https://www.lubin.pl/wydarzenie/madame-butterfly-z-opera-national-de-paris-retransmisja-ck-muza/
LOCATION:Centrum Kultury „Muza” w Lubinie\, ul. Armii Krajowej 1\, Lubin\, 59-300
ORGANIZER;CN="Centrum Kultury 'Muza' w Lubinie":MAILTO:sekretariat@ckmuza.pl
END:VEVENT
END:VCALENDAR