BEGIN:VCALENDAR
VERSION:2.0
PRODID:-//Lubin - Portal Miasta - ECPv6.10.2//NONSGML v1.0//EN
CALSCALE:GREGORIAN
METHOD:PUBLISH
X-WR-CALNAME:Lubin - Portal Miasta
X-ORIGINAL-URL:https://www.lubin.pl
X-WR-CALDESC:Wydarzenia dla Lubin - Portal Miasta
REFRESH-INTERVAL;VALUE=DURATION:PT1H
X-Robots-Tag:noindex
X-PUBLISHED-TTL:PT1H
BEGIN:VTIMEZONE
TZID:Europe/Warsaw
BEGIN:DAYLIGHT
TZOFFSETFROM:+0100
TZOFFSETTO:+0200
TZNAME:CEST
DTSTART:20260329T010000
END:DAYLIGHT
BEGIN:STANDARD
TZOFFSETFROM:+0200
TZOFFSETTO:+0100
TZNAME:CET
DTSTART:20261025T010000
END:STANDARD
END:VTIMEZONE
BEGIN:VEVENT
DTSTART;TZID=Europe/Warsaw:20260427T173000
DTEND;TZID=Europe/Warsaw:20260427T203000
DTSTAMP:20260421T165746
CREATED:20260421T113310Z
LAST-MODIFIED:20260421T113310Z
UID:10001178-1777311000-1777321800@www.lubin.pl
SUMMARY:Wieczorek Taneczny dla Seniorów || CK Muza
DESCRIPTION:Centrum Kultury „Muza” zaprasza na wieczór z muzyką i tańcem. Spotkanie w Restauracji Muza to przestrzeń do rozmowy\, wspólnej zabawy i powrotu do dobrze znanych melodii.\n\nTrzy godziny na parkiecie — bez pośpiechu\, w swobodnej atmosferze.\n\nBilety: 25 zł\nSprzedaż biletów od 20 kwietnia tylko w kasie kina (od godz. 14:00).\n\nJedna osoba może zakupić maksymalnie cztery bilety.\nLiczba miejsc jest ograniczona.
URL:https://www.lubin.pl/wydarzenie/wieczorek-taneczny-dla-seniorow-ck-muza/
LOCATION:Centrum Kultury „Muza” w Lubinie\, ul. Armii Krajowej 1\, Lubin\, 59-300
ATTACH;FMTTYPE=image/jpeg:https://www.lubin.pl/wp-content/uploads/2026/04/641165870_1489216046544167_5324590411121908309_n.jpg
ORGANIZER;CN="Centrum Kultury 'Muza' w Lubinie":MAILTO:sekretariat@ckmuza.pl
END:VEVENT
BEGIN:VEVENT
DTSTART;TZID=Europe/Warsaw:20260427T190000
DTEND;TZID=Europe/Warsaw:20260427T210000
DTSTAMP:20260421T165746
CREATED:20260421T112923Z
LAST-MODIFIED:20260421T112923Z
UID:10001177-1777316400-1777323600@www.lubin.pl
SUMMARY:Dyskusyjny Klub Książki || CK Muza
DESCRIPTION:Lubisz czytać? To coś dla Ciebie! Dyskusyjny Klub Książki zaprasza wszystkich chętnych na comiesięczne spotkania w CK MUZA. Dyskusje odbywają się w każdy ostatni poniedziałek miesiąca (27 kwietnia) o godz. 19:00. W każdym miesiącu omawiamy jedną wybraną książkę. \nKsiążka na kwiecień: „Odrzania. Podróż po Ziemiach Odzyskanych” – autorstwa Zbigniewa Rokity. \nWięcej informacji na grupie Dyskusyjny Klub Książki w Lubinie \nwstęp wolny\, sala błękitna (I piętro)
URL:https://www.lubin.pl/wydarzenie/dyskusyjny-klub-ksiazki-ck-muza/
LOCATION:Centrum Kultury „Muza” w Lubinie\, ul. Armii Krajowej 1\, Lubin\, 59-300
ATTACH;FMTTYPE=image/jpeg:https://www.lubin.pl/wp-content/uploads/2026/04/662610954_27352462787687674_1642997261989072207_n.jpg
ORGANIZER;CN="Centrum Kultury 'Muza' w Lubinie":MAILTO:sekretariat@ckmuza.pl
END:VEVENT
BEGIN:VEVENT
DTSTART;TZID=Europe/Warsaw:20260429T090000
DTEND;TZID=Europe/Warsaw:20260429T120000
DTSTAMP:20260421T165746
CREATED:20260421T125949Z
LAST-MODIFIED:20260421T125949Z
UID:10001189-1777453200-1777464000@www.lubin.pl
SUMMARY:Nauka ma głos: Tłuszcze pod lupę - spotkanie z mgr inż. Oliwią Paroń || ZOO Lubin
DESCRIPTION:ZOO Lubin zaprasza na spotkanie „Tłuszcze pod lupą”\, które poprowadzi mgr inż. Oliwia Paroń – doktorantka w Szkole Doktorskiej Uniwersytetu Ekonomicznego we Wrocławiu na kierunku Technologia Żywności i Żywienia\, w Katedrze Biotechnologii i Analizy Żywności.\nTo okazja\, żeby przyjrzeć się bliżej temu\, co trafia na nasze talerze i co często budzi sporo wątpliwości. Czy tłuszcze naprawdę są takie złe\, jak się czasem mówi? Które warto wybierać\, a których unikać? Jaką rolę odgrywają w naszym organizmie?\n \nPodczas spotkania będzie można nie tylko posłuchać\, ale też zapytać\, podyskutować i skonfrontować popularne przekonania z aktualną wiedzą naukową. Dowiemy się m.in.:\nże możliwe jest uzyskanie materiału stałego z ciekłego oleju bez chemicznej modyfikacji\,\nże produkty o bardzo podobnym składzie mogą mieć zupełnie inne właściwości w zależności od swojej struktury\, także\, że nowoczesna technologia żywności korzysta z rozwiązań z pogranicza chemii\, fizyki i inżynierii materiałowej. Co więcej – takie systemy są już dziś badane jako alternatywy dla tradycyjnych tłuszczów.\nPo spotkaniu wiele osób z pewnością spojrzy na jedzenie trochę inaczej – nie tylko jak na zbiór składników\, ale jak na struktury\, które można projektować. To też dobra okazja\, żeby zobaczyć\, że nauka o żywności to coś więcej niż gotowanie – to fascynujące połączenie różnych dziedzin nauki.\n \nCzekamy na Was w lubińskiej Strefie SOWA!\nUdział bezpłatny.\nSpotkanie przeznaczone jedynie dla 3 klas szkół ponadpodstawowych!\nPo jednej klasie na wyznaczoną godzinę:\n9:00\, 10:00 lub 11:00\nZapisy telefoniczne: 734 170 991\n————–\nProjekt „Nauka ma głos” jest realizowany i finansowany w ramach wspólnego Programu Ministra Nauki i Szkolnictwa Wyższego oraz Centrum Nauki Kopernik pod nazwą Nauka dla Ciebie. Inicjatywa „SOWA – Strefa Odkrywania\, Wyobraźni i Aktywności” finansowana jest w ramach dotacji Ministra Nauki i Szkolnictwa Wyższego\, na podstawie umowy Nr 1/CNK-SOWA/2021 z dnia 2 marca 2021 r. w sprawie uruchomienia przez Centrum Nauki Kopernik 50 lokalnych Stref Odkrywania\, Wyobraźni i Aktywności (SOWA) w latach 2021-2028
URL:https://www.lubin.pl/wydarzenie/nauka-ma-glos-tluszcze-pod-lupe-spotkanie-z-mgr-inz-oliwia-paron-zoo-lubin/
LOCATION:ZOO Lubin\, ul. Ignacego Paderewskiego 99\, Lubin\, 59-300
ATTACH;FMTTYPE=image/jpeg:https://www.lubin.pl/wp-content/uploads/2026/04/678227169_1374141897891569_7850214100360030597_n.jpg
END:VEVENT
BEGIN:VEVENT
DTSTART;TZID=Europe/Warsaw:20260511T090000
DTEND;TZID=Europe/Warsaw:20260511T140000
DTSTAMP:20260421T165746
CREATED:20260414T073821Z
LAST-MODIFIED:20260414T073821Z
UID:10001174-1778490000-1778508000@www.lubin.pl
SUMMARY:Akcja POSPRZĄTAJMY ZIMNICĘ
DESCRIPTION:11 maja 2026 r. odbędzie się akcja sprzątania rzeki Zimnicy i jej okolic na odcinku sąsiadującym z Ogrodem Zoologicznym w Lubinie. Wspólna inicjatywa ZOO i Odpady Lubin organizowana jest z okazji Dnia Bez Śmiecenia i ma na celu wspólne zadbanie o lokalne środowisko. \nUczestnicy spotkają się o godz. 9:00 przy parkingu przy ZOO i MPWiK\, gdzie dostępny będzie punkt wydawania worków i rękawiczek. W wydarzeniu mogą wziąć udział zarówno osoby indywidualne\, jak i grupy zorganizowane – bez wcześniejszych zapisów.
URL:https://www.lubin.pl/wydarzenie/akcja-posprzatajmy-zimnice/
LOCATION:dolnośląskie
ATTACH;FMTTYPE=image/jpeg:https://www.lubin.pl/wp-content/uploads/2026/04/Zimnica_fb-1.jpg
END:VEVENT
BEGIN:VEVENT
DTSTART;TZID=Europe/Warsaw:20260511T173000
DTEND;TZID=Europe/Warsaw:20260511T190000
DTSTAMP:20260421T165746
CREATED:20260421T113614Z
LAST-MODIFIED:20260421T113614Z
UID:10001179-1778520600-1778526000@www.lubin.pl
SUMMARY:Kabaret Ani Mru-Mru w najnowszym programie „Mniej więcej” || CK Muza
DESCRIPTION:Kabaret Ani Mru-Mru ma w swoim dorobku więcej kultowych skeczy niż… Zabrakło nam porównania. Ale panowie z Ani Mru Mru będą mieć masę świetnych puent! W swoim najnowszym programie znów zaskakują\, eksplorując absurdy codzienności. To co\, masz już plany na wieczór? \nduża sala\, bilety: 150 zł \nBilety do nabycia w kasie MUZY oraz w sprzedaży internetowej
URL:https://www.lubin.pl/wydarzenie/kabaret-ani-mru-mru-w-najnowszym-programie-mniej-wiecej-ck-muza/
LOCATION:Centrum Kultury „Muza” w Lubinie\, ul. Armii Krajowej 1\, Lubin\, 59-300
ATTACH;FMTTYPE=image/jpeg:https://www.lubin.pl/wp-content/uploads/2026/04/615453966_1453183643480741_319812069659984737_n.jpg
ORGANIZER;CN="Centrum Kultury 'Muza' w Lubinie":MAILTO:sekretariat@ckmuza.pl
END:VEVENT
BEGIN:VEVENT
DTSTART;TZID=Europe/Warsaw:20260512T170000
DTEND;TZID=Europe/Warsaw:20260512T190000
DTSTAMP:20260421T165746
CREATED:20260421T121253Z
LAST-MODIFIED:20260421T121253Z
UID:10001184-1778605200-1778612400@www.lubin.pl
SUMMARY:"Vestigium - Pozostałość" - finisaż wystawy Tomasza Hanoffa || CK Muza
DESCRIPTION:Vestigium – Pozostałość: Idea wystawy „Vestigium – Pozostałość” opiera się na refleksji nad śladem\, jaki pozostawia po sobie człowiek\, oraz na zatrzymaniu się w momencie uważnej obserwacji i wyobrażeń dotyczących tego\, co przetrwa po naszym odejściu. Jest to naturalna kontynuacja i rozwinięcie wcześniejszego projektu „Monumenty”\, jednak w nowej odsłonie artysta odważniej sięga po formę\, intensyfikuje ekspresję malarską i poszerza zakres środków wyrazu. W prezentowanych pracach kluczowe znaczenie mają głębia i przestrzeń – zarówno w sensie formalnym\, jak i symbolicznym. Artysta eksperymentuje z formą\, proporcjami oraz wielowarstwową\, często ukrytą symboliką\, zapraszając widza do osobistej interpretacji i podróży w świat jutra – świat tego\, co pozostanie\, gdy człowiek zniknie z planety. \nTomasz Hanoff – interdyscyplinarny artysta pochodzący z Lubina\, którego twórczość łączy różnorodne media\, od malarstwa i kolażu\, przez fotografię inscenizowaną\, aż po prace multimedialne. Jego projekty wyróżnia głęboka refleksja nad pamięcią\, czasem i tożsamością\, a także otwartość na eksperyment i dialog z widzem. Artystyczna praktyka Hanoffa nie zna jednego ograniczenia formalnego – ze swobodą porusza się między różnymi technikami\, traktując każdy projekt jako osobną opowieść i pole do poszukiwań znaczeń. Tomasz Hanoff jest absolwentem PWSZ w Głogowie na kierunku Grafiki i Akademii Sztuk Pięknych im. Eugeniusza Gepperta we Wrocławiu\, gdzie ukończył katedrę sztuki mediów ze specjalizacją w fotografii i multimediach\, a jego dyplom magisterski z zakresu sztuki mediów został zaprezentowany także w kontekście ogólnopolskiego przeglądu najlepszych dyplomów WRO Art Center 2017 DRAFT SYSTEMS. \n\n 
URL:https://www.lubin.pl/wydarzenie/vestigium-pozostalosc-finisaz-wystawy-tomasza-hanoffa-ck-muza/
LOCATION:Centrum Kultury „Muza” w Lubinie\, ul. Armii Krajowej 1\, Lubin\, 59-300
ATTACH;FMTTYPE=image/jpeg:https://www.lubin.pl/wp-content/uploads/2026/04/668473016_1529924199140018_8246986390688086641_n.jpg
ORGANIZER;CN="Centrum Kultury 'Muza' w Lubinie":MAILTO:sekretariat@ckmuza.pl
END:VEVENT
BEGIN:VEVENT
DTSTART;TZID=Europe/Warsaw:20260515T173000
DTEND;TZID=Europe/Warsaw:20260515T184000
DTSTAMP:20260421T165746
CREATED:20260421T114122Z
LAST-MODIFIED:20260421T114122Z
UID:10001180-1778866200-1778870400@www.lubin.pl
SUMMARY:Inteligenci – spektakl || CK Muza
DESCRIPTION:Inteligenci to komediodramat teatralny w gwiazdorskiej obsadzie\, która w prosty\, a zarazem prowokujący do myślenia sposób zadaje trudne pytania. Czy mimo różnic w poglądach i sposobie życia współczesna rodzina może się porozumieć? \n„Inteligenci” – komedia teatralna w gwiazdorskiej obsadzie. Izabela Kuna\, Wojciech Malajkat i Magdalena Stużyńska tworzą w sztuce „Inteligenci” wyjątkowe role. Dzięki temu od samego początku wciągają nas w historię pełną emocji i humoru. Ten znakomity spektakl będziecie mogli zobaczyć w wielu miastach w całej Polsce. Polecamy zapoznać się z aktualnym repertuarem wydarzeń teatralnych\, aby zawsze wiedzieć\, co gramy w Waszej okolicy. \n \nObsada:\nAnna: Iza Kuna\nBożena: Magdalena Stużyńska\nSzczepan: Wojciech Malajkat\nŁukasz: Maciej Łączyński / Maciej Tomaszewski \nOrganizator: COPA.PL \nduża sala\, bilety: 150 zł \nBilety do nabycia w kasie MUZY oraz w sprzedaży internetowej.
URL:https://www.lubin.pl/wydarzenie/inteligenci-spektakl-ck-muza/2026-05-15/1/
LOCATION:Centrum Kultury „Muza” w Lubinie\, ul. Armii Krajowej 1\, Lubin\, 59-300
ATTACH;FMTTYPE=image/jpeg:https://www.lubin.pl/wp-content/uploads/2026/04/Inteligenci-2.jpg
END:VEVENT
BEGIN:VEVENT
DTSTART;TZID=Europe/Warsaw:20260515T200000
DTEND;TZID=Europe/Warsaw:20260515T211000
DTSTAMP:20260421T165746
CREATED:20260421T114122Z
LAST-MODIFIED:20260421T114122Z
UID:10001181-1778875200-1778879400@www.lubin.pl
SUMMARY:Inteligenci – spektakl || CK Muza
DESCRIPTION:Inteligenci to komediodramat teatralny w gwiazdorskiej obsadzie\, która w prosty\, a zarazem prowokujący do myślenia sposób zadaje trudne pytania. Czy mimo różnic w poglądach i sposobie życia współczesna rodzina może się porozumieć? \n„Inteligenci” – komedia teatralna w gwiazdorskiej obsadzie. Izabela Kuna\, Wojciech Malajkat i Magdalena Stużyńska tworzą w sztuce „Inteligenci” wyjątkowe role. Dzięki temu od samego początku wciągają nas w historię pełną emocji i humoru. Ten znakomity spektakl będziecie mogli zobaczyć w wielu miastach w całej Polsce. Polecamy zapoznać się z aktualnym repertuarem wydarzeń teatralnych\, aby zawsze wiedzieć\, co gramy w Waszej okolicy. \n \nObsada:\nAnna: Iza Kuna\nBożena: Magdalena Stużyńska\nSzczepan: Wojciech Malajkat\nŁukasz: Maciej Łączyński / Maciej Tomaszewski \nOrganizator: COPA.PL \nduża sala\, bilety: 150 zł \nBilety do nabycia w kasie MUZY oraz w sprzedaży internetowej.
URL:https://www.lubin.pl/wydarzenie/inteligenci-spektakl-ck-muza/2026-05-15/2/
LOCATION:Centrum Kultury „Muza” w Lubinie\, ul. Armii Krajowej 1\, Lubin\, 59-300
ATTACH;FMTTYPE=image/jpeg:https://www.lubin.pl/wp-content/uploads/2026/04/Inteligenci-2.jpg
END:VEVENT
BEGIN:VEVENT
DTSTART;TZID=Europe/Warsaw:20260526T150000
DTEND;TZID=Europe/Warsaw:20260526T160000
DTSTAMP:20260421T165746
CREATED:20260421T123318Z
LAST-MODIFIED:20260421T123318Z
UID:10001186-1779807600-1779811200@www.lubin.pl
SUMMARY:Jak Wróbelek nie mógł zdążyć na wesele – O!TEATR z Jaworzna || Altana w Parku im. J. Piłsudskiego
DESCRIPTION:Spektakl opowiada perypetie tytułowego wróbelka. Po otrzymaniu zaproszenia na sowie wesele\, ptaszek zaczyna przygotowania do wielkiego wydarzenia. Niestety nie wszystko idzie po jego myśli\, po drodze wpada w liczne\, zabawne tarapaty. W tej historii wróbelek (a wraz z nim dzieci) wiele się nauczy. A to o zasadach poruszania się na drodze\, a to\, jak powinno zachowywać się w szkole\, a to znów o sobie samym\, a na koniec\, dlaczego zachłanność może się źle skończyć… \nSpektakl oparty jest na motywach opowiadań o ptasich bohaterach bajek (m.in. o Wróbelku Elemelku) połączonych w jedną opowieść. Na scenie pojawią się duże kukiełki\, mupety i pacynki. \nReżyseria: Marek Stawarz\nObsada: Artyści z O!TEATR \nSpektakl dla dzieci od 3 lat. \nUwaga! W razie niepogody spektakl zostanie przeniesiony do dużej sali w CK MUZA
URL:https://www.lubin.pl/wydarzenie/jak-wrobelek-nie-mogl-zdazyc-na-wesele-oteatr-z-jaworzna-altana-w-parku-im-j-pilsudskiego/
LOCATION:Altana w Parku im. J. Piłsudskiego\, Lubin\, 59-300
ATTACH;FMTTYPE=image/jpeg:https://www.lubin.pl/wp-content/uploads/2026/04/672147087_1533184982147273_6294799597857310259_n.jpg
ORGANIZER;CN="Centrum Kultury 'Muza' w Lubinie":MAILTO:sekretariat@ckmuza.pl
END:VEVENT
BEGIN:VEVENT
DTSTART;TZID=Europe/Warsaw:20260526T190000
DTEND;TZID=Europe/Warsaw:20260526T203000
DTSTAMP:20260421T165746
CREATED:20260421T115043Z
LAST-MODIFIED:20260421T115348Z
UID:10001182-1779822000-1779827400@www.lubin.pl
SUMMARY:Gala Muzyki Filmowej - koncert na Dzień Matki || CK Muza
DESCRIPTION:Centrum Kultury „Muza” zaprasza na wyjątkowy koncert\, który wprowadzi Państwa w niezapomnianą atmosferę towarzyszącą ponadczasowym przebojom muzyki filmowej i musicalowej. Publiczność\, dzięki niezwykłym aranżacjom\, może przenieść się na pokład Titanica czy wytropić w Pradze tajne dokumenty z jednostki specjalnej Mission Impossible. Gwiazdą koncertu jest wrocławska sopranistka – Monika Gruszczyńska występująca z 11-osobowym BIG BANDEM – Wrocławscy Muzycy pod kierownictwem Piotra Natanka. Podczas koncertu zaprezentowane zostaną utwory ze znanych filmów takich jak: „Misja”\, „Kariera Nikodema Dyzmy”\, „Stawka większa niż życie”\, „Titanic”\, „James Bond”\, „Śniadanie u Tiffany’ego”\, a także z musicali „Cats” i „West side story”. Koncert poprowadzi Marta Hexel.  \nduża sala\, bilety: 70 zł / 80 zł (w dniu koncertu) \nBilety do nabycia w kasie MUZY oraz w sprzedaży internetowej.
URL:https://www.lubin.pl/wydarzenie/gala-muzyki-filmowej-koncert-na-dzien-matki-ck-muza/
LOCATION:Centrum Kultury „Muza” w Lubinie\, ul. Armii Krajowej 1\, Lubin\, 59-300
ATTACH;FMTTYPE=image/jpeg:https://www.lubin.pl/wp-content/uploads/2026/04/659071299_1521086493357122_7221845167337963332_n.jpg
ORGANIZER;CN="Centrum Kultury 'Muza' w Lubinie":MAILTO:sekretariat@ckmuza.pl
END:VEVENT
BEGIN:VEVENT
DTSTART;TZID=Europe/Warsaw:20260528T190000
DTEND;TZID=Europe/Warsaw:20260528T210000
DTSTAMP:20260421T165746
CREATED:20260421T120745Z
LAST-MODIFIED:20260421T120745Z
UID:10001183-1779994800-1780002000@www.lubin.pl
SUMMARY:Antoni Syrek-Dąbrowski - STAND UP - „O tym nie rozmawiamy” || CK Muza
DESCRIPTION:Czołem! Zapraszamy na wieczór komedii i konsternacji z Antonim Syrek-Dąbrowskim. „O tym nie rozmawiamy” opowiada o tym\, co siedzi w głowie\, kiedy myślimy\, że nikt nie słucha. Będzie trochę niezręcznie\, trochę głupio i bardzo ludzko. Wieczór raczej dla widzów dorosłych\, którzy rozumieją\, że czasem jedyną sensowną reakcją jest śmiech. \nSupport\, nieoczywisty\, Kuba Wilczek. \nUwaga!\n– Wydarzenie dla dorosłych!\n– Brak zgody na nagrywanie audio/video.\n– Osoby\, które będą przeszkadzać podczas wydarzenia zostaną wyproszone bez zwrotu pieniędzy za bilet. \nduża sala\, bilety od 89 zł \nBilety do nabycia w sprzedaży internetowej na https://kupbilecik.pl
URL:https://www.lubin.pl/wydarzenie/antoni-syrek-dabrowski-stand-up-o-tym-nie-rozmawiamy-ck-muza/
LOCATION:Centrum Kultury „Muza” w Lubinie\, ul. Armii Krajowej 1\, Lubin\, 59-300
ATTACH;FMTTYPE=image/jpeg:https://www.lubin.pl/wp-content/uploads/2026/04/642874552_1477092813779998_9037785835478619665_n.jpg
END:VEVENT
BEGIN:VEVENT
DTSTART;TZID=Europe/Warsaw:20260531T140000
DTEND;TZID=Europe/Warsaw:20260531T150000
DTSTAMP:20260421T165746
CREATED:20260421T121633Z
LAST-MODIFIED:20260421T121633Z
UID:10001185-1780236000-1780239600@www.lubin.pl
SUMMARY:Koziołek Matołek i jego przygody – Teatr PRYM ART || CK Muza
DESCRIPTION:Zapraszamy na muzyczną bajkę pełną ciekawych przygód i niezapomnianych wrażeń! Zabawne perypetie głównego bohatera\, wartka akcja\, we wspaniałej muzycznej oprawie czynią spektakl niezwykle ciekawym zarówno dla najmłodszych\, jak i dla tych starszych widzów. Spektakl jest oparty na motywach książki Kornela Makuszyńskiego i Mariana Walentynowicza. Wraz z zabawnym Koziołkiem Matołkiem dzieci zwiedzą różne zakamarki świata\, powalczą samurajskim mieczem\, odkryją słowne łamigłówki i poznają afrykańskie piosenki. \nWystęp rozśpiewanych artystów z Teatru PRYM ART uświetni Koncert Finałowy XXXII Dolnośląskiego Dziecięcego Konkursu Wokalnego „O Złotą Nutkę”\, można jednak przybyć na ich występ niezależnie. Wstęp na część konkursową\, która rozpocznie się o godz. 13:00 jest bezpłatny. \nSpektakl dla dzieci od 3 lat. \nduża sala\, bilety: 30 zł (ulgowy – dzieci do 15. roku życia) / 40 zł (normalny)  \nBilety do nabycia w kasie MUZY oraz w sprzedaży internetowej.
URL:https://www.lubin.pl/wydarzenie/koziolek-matolek-i-jego-przygody-teatr-prym-art-ck-muza/
LOCATION:Centrum Kultury „Muza” w Lubinie\, ul. Armii Krajowej 1\, Lubin\, 59-300
ATTACH;FMTTYPE=image/jpeg:https://www.lubin.pl/wp-content/uploads/2026/04/656903544_1515297370602701_1962122194883944986_n.jpg
ORGANIZER;CN="Centrum Kultury 'Muza' w Lubinie":MAILTO:sekretariat@ckmuza.pl
END:VEVENT
END:VCALENDAR