BEGIN:VCALENDAR
VERSION:2.0
PRODID:-//Lubin - Portal Miasta - ECPv6.10.2//NONSGML v1.0//EN
CALSCALE:GREGORIAN
METHOD:PUBLISH
X-ORIGINAL-URL:https://www.lubin.pl
X-WR-CALDESC:Wydarzenia dla Lubin - Portal Miasta
REFRESH-INTERVAL;VALUE=DURATION:PT1H
X-Robots-Tag:noindex
X-PUBLISHED-TTL:PT1H
BEGIN:VTIMEZONE
TZID:Europe/Warsaw
BEGIN:DAYLIGHT
TZOFFSETFROM:+0100
TZOFFSETTO:+0200
TZNAME:CEST
DTSTART:20260329T010000
END:DAYLIGHT
BEGIN:STANDARD
TZOFFSETFROM:+0200
TZOFFSETTO:+0100
TZNAME:CET
DTSTART:20261025T010000
END:STANDARD
END:VTIMEZONE
BEGIN:VEVENT
DTSTART;TZID=Europe/Warsaw:20260515T173000
DTEND;TZID=Europe/Warsaw:20260515T184000
DTSTAMP:20260421T162245
CREATED:20260421T114122Z
LAST-MODIFIED:20260421T114122Z
UID:10001180-1778866200-1778870400@www.lubin.pl
SUMMARY:Inteligenci – spektakl || CK Muza
DESCRIPTION:Inteligenci to komediodramat teatralny w gwiazdorskiej obsadzie\, która w prosty\, a zarazem prowokujący do myślenia sposób zadaje trudne pytania. Czy mimo różnic w poglądach i sposobie życia współczesna rodzina może się porozumieć? \n„Inteligenci” – komedia teatralna w gwiazdorskiej obsadzie. Izabela Kuna\, Wojciech Malajkat i Magdalena Stużyńska tworzą w sztuce „Inteligenci” wyjątkowe role. Dzięki temu od samego początku wciągają nas w historię pełną emocji i humoru. Ten znakomity spektakl będziecie mogli zobaczyć w wielu miastach w całej Polsce. Polecamy zapoznać się z aktualnym repertuarem wydarzeń teatralnych\, aby zawsze wiedzieć\, co gramy w Waszej okolicy. \n \nObsada:\nAnna: Iza Kuna\nBożena: Magdalena Stużyńska\nSzczepan: Wojciech Malajkat\nŁukasz: Maciej Łączyński / Maciej Tomaszewski \nOrganizator: COPA.PL \nduża sala\, bilety: 150 zł \nBilety do nabycia w kasie MUZY oraz w sprzedaży internetowej.
URL:https://www.lubin.pl/wydarzenie/inteligenci-spektakl-ck-muza/2026-05-15/1/
LOCATION:Centrum Kultury „Muza” w Lubinie\, ul. Armii Krajowej 1\, Lubin\, 59-300
ATTACH;FMTTYPE=image/jpeg:https://www.lubin.pl/wp-content/uploads/2026/04/Inteligenci-2.jpg
END:VEVENT
BEGIN:VEVENT
DTSTART;TZID=Europe/Warsaw:20260515T200000
DTEND;TZID=Europe/Warsaw:20260515T211000
DTSTAMP:20260421T162245
CREATED:20260421T114122Z
LAST-MODIFIED:20260421T114122Z
UID:10001181-1778875200-1778879400@www.lubin.pl
SUMMARY:Inteligenci – spektakl || CK Muza
DESCRIPTION:Inteligenci to komediodramat teatralny w gwiazdorskiej obsadzie\, która w prosty\, a zarazem prowokujący do myślenia sposób zadaje trudne pytania. Czy mimo różnic w poglądach i sposobie życia współczesna rodzina może się porozumieć? \n„Inteligenci” – komedia teatralna w gwiazdorskiej obsadzie. Izabela Kuna\, Wojciech Malajkat i Magdalena Stużyńska tworzą w sztuce „Inteligenci” wyjątkowe role. Dzięki temu od samego początku wciągają nas w historię pełną emocji i humoru. Ten znakomity spektakl będziecie mogli zobaczyć w wielu miastach w całej Polsce. Polecamy zapoznać się z aktualnym repertuarem wydarzeń teatralnych\, aby zawsze wiedzieć\, co gramy w Waszej okolicy. \n \nObsada:\nAnna: Iza Kuna\nBożena: Magdalena Stużyńska\nSzczepan: Wojciech Malajkat\nŁukasz: Maciej Łączyński / Maciej Tomaszewski \nOrganizator: COPA.PL \nduża sala\, bilety: 150 zł \nBilety do nabycia w kasie MUZY oraz w sprzedaży internetowej.
URL:https://www.lubin.pl/wydarzenie/inteligenci-spektakl-ck-muza/2026-05-15/2/
LOCATION:Centrum Kultury „Muza” w Lubinie\, ul. Armii Krajowej 1\, Lubin\, 59-300
ATTACH;FMTTYPE=image/jpeg:https://www.lubin.pl/wp-content/uploads/2026/04/Inteligenci-2.jpg
END:VEVENT
END:VCALENDAR