BEGIN:VCALENDAR
VERSION:2.0
PRODID:-//Lubin - Portal Miasta - ECPv6.10.2//NONSGML v1.0//EN
CALSCALE:GREGORIAN
METHOD:PUBLISH
X-WR-CALNAME:Lubin - Portal Miasta
X-ORIGINAL-URL:https://www.lubin.pl
X-WR-CALDESC:Wydarzenia dla Lubin - Portal Miasta
REFRESH-INTERVAL;VALUE=DURATION:PT1H
X-Robots-Tag:noindex
X-PUBLISHED-TTL:PT1H
BEGIN:VTIMEZONE
TZID:Europe/Warsaw
BEGIN:DAYLIGHT
TZOFFSETFROM:+0100
TZOFFSETTO:+0200
TZNAME:CEST
DTSTART:20260329T010000
END:DAYLIGHT
BEGIN:STANDARD
TZOFFSETFROM:+0200
TZOFFSETTO:+0100
TZNAME:CET
DTSTART:20261025T010000
END:STANDARD
END:VTIMEZONE
BEGIN:VEVENT
DTSTART;TZID=Europe/Warsaw:20260424T170000
DTEND;TZID=Europe/Warsaw:20260424T190000
DTSTAMP:20260424T113919
CREATED:20260421T125315Z
LAST-MODIFIED:20260421T125315Z
UID:10001188-1777050000-1777057200@www.lubin.pl
SUMMARY:Dyskusyjny Klub Przyrodniczy - Pod łuską GADZIEJ tajemnicy || ZOO Lubin
DESCRIPTION:Jak wyglądały gady miliony lat temu? Czy jaszczurki są dinozaurami? Ile gadów można spotkać w naszym kraju w naturze? \nNa kolejnym spotkaniu przegadamy temat związany z GADAMI w ramach comiesięcznego spotkania DKP. Poznacie tajemnice węży\, jaszczurek i żółwi. \nUdział bezpłatny (jednak dajcie znać\, że wpadniecie)\nZgłoszenie swojego przyjścia: 734 170 991\nZAPRASZAMY! \nDKP to comiesięczne popołudniowe spotkanie w tematyce przyrodniczej\, które odbywa się w naszym zoo. Temat dyskusji wybierają uczestnicy. To co Was ciekawi\, nurtuje. My zgłębiamy\, przedstawiamy pojęcie\, zapraszamy gości – Wy włączacie się do rozmowy.
URL:https://www.lubin.pl/wydarzenie/dyskusyjny-klub-przyrodniczy-pod-luska-gadziej-tajemnicy-zoo-lubin/
LOCATION:ZOO Lubin\, ul. Ignacego Paderewskiego 99\, Lubin\, 59-300
ATTACH;FMTTYPE=image/jpeg:https://www.lubin.pl/wp-content/uploads/2026/04/671760122_1369380398367719_1803998118270869091_n.jpg
END:VEVENT
BEGIN:VEVENT
DTSTART;TZID=Europe/Warsaw:20260424T180000
DTEND;TZID=Europe/Warsaw:20260424T200000
DTSTAMP:20260424T113919
CREATED:20260421T124303Z
LAST-MODIFIED:20260421T124303Z
UID:10001187-1777053600-1777060800@www.lubin.pl
SUMMARY:„Światło i przestrzeń. Bliżej natury” - wernisaż wystawy Bogusławy Różańskiej || CDT w Lubinie
DESCRIPTION:Są obrazy\, które oglądasz z odległości. I są takie\, które wciągają cię tak blisko\, że przestajesz widzieć drzewo\, łąkę czy rzekę – widzisz już tylko światło\, barwę i ruch. \nWłaśnie takie malarstwo prezentuje Bogusława Różańska w swojej najnowszej wystawie „Światło i przestrzeń. Bliżej natury” którą od 17 kwietnia do 15 maja 2026 roku można oglądać w Centrum Działań Twórczych w Lubinie. \nCaravaggio dramatyzował cieniem. Rembrandt malował złotem. Impresjoniści wyzwolili się od formy na rzecz chwili i wrażenia. Różańska idzie tą ścieżką po swojemu — zatapia się w naturze tak głęboko\, że jej płótna stają się czymś pomiędzy: między pejzażem a abstrakcją\, między uważnością a żywiołem. Gęste\, nasycone barwy\, śmiałe kompozycje i nieomylne wyczucie światła tworzą obrazy\, które — jak sama artystka — emanują energią i radością życia. \nBogusława Różańska to postać o imponującym dorobku: absolwentka Państwowej Wyższej Szkoły Sztuk Plastycznych w Poznaniu\, prezes Stowarzyszenia Nauczycieli Twórczych „JELO” w Pile\, członek Związku Plastyków Artystów Rzeczpospolitej Polskiej. Odznaczona Brązowym Krzyżem Zasługi\, Odznaką Honorową „Zasłużony dla Kultury Polskiej” i wyróżnieniem „Za zasługi dla województwa wielkopolskiego”. Na jej wystawienniczą mapę składa się udział w blisko 70 wystawach zbiorowych i kilkanaście ekspozycji indywidualnych — w galeriach w Pile\, Krotoszynie\, Poznaniu i wielu innych miejscach. \nWstęp wolny
URL:https://www.lubin.pl/wydarzenie/swiatlo-i-przestrzen-blizej-natury-wernisaz-wystawy-boguslawy-rozanskiej-cdt-w-lubinie/
LOCATION:Centrum Działań Twórczych w Lubinie\, ul. Komisji Edukacji Narodowej 6A\, Lubin\, 59-300
ATTACH;FMTTYPE=image/png:https://www.lubin.pl/wp-content/uploads/2026/04/tv-1.png
END:VEVENT
BEGIN:VEVENT
DTSTART;TZID=Europe/Warsaw:20260424T184500
DTEND;TZID=Europe/Warsaw:20260424T200000
DTSTAMP:20260424T113919
CREATED:20260420T065412Z
LAST-MODIFIED:20260420T065412Z
UID:10001175-1777056300-1777060800@www.lubin.pl
SUMMARY:"Taniec Dźwięków" - koncert organowy || Narodowa Orkiestra Dęta
DESCRIPTION:Narodowa Orkiestra Dęta w Lubinie zaprasza na wyjątkowy koncert organowy „Taniec Dźwięków”\, podczas którego usłyszymy zarówno organy Martina Benjamina Lieberherra\, jak i kwintet dęty drewniany. W programie znajdą się znane utwory muzyki klasycznej w interesujących aranżacjach\, m.in. dzieła Händla\, Mozarta czy Prokofiewa. Usłyszymy m.in. uwerturę do „Czarodziejskiego fletu”\, suitę z „Romea i Julii”\, a także lekkie\, taneczne formy\, jak słynne „Tango Jalousie” Jacoba Gade’a. \nWystąpią:\nDariusz Hajdukiewicz – organy \nKwintet dęty drewniany w składzie:\nAgata Gąsieniec – flet\nWiktoria Ulatowska – obój\nKonrad Kołtun – klarnet\nMałgorzata Wiszniowska – waltornia\nKasper Lechowski – fagot
URL:https://www.lubin.pl/wydarzenie/taniec-dzwiekow-koncert-organowy-narodowa-orkiestra-deta/
LOCATION:Kościół pw. Matki Bożej Częstochowskiej w Lubinie\, ul. Hugo Kołłątaja 4\, Lubin\, 59-300\, Poland
ATTACH;FMTTYPE=image/jpeg:https://www.lubin.pl/wp-content/uploads/2026/04/Organy-IG-post.jpg
END:VEVENT
END:VCALENDAR