BEGIN:VCALENDAR
VERSION:2.0
PRODID:-//Lubin - Portal Miasta - ECPv6.10.2//NONSGML v1.0//EN
CALSCALE:GREGORIAN
METHOD:PUBLISH
X-ORIGINAL-URL:https://www.lubin.pl
X-WR-CALDESC:Wydarzenia dla Lubin - Portal Miasta
REFRESH-INTERVAL;VALUE=DURATION:PT1H
X-Robots-Tag:noindex
X-PUBLISHED-TTL:PT1H
BEGIN:VTIMEZONE
TZID:Europe/Warsaw
BEGIN:DAYLIGHT
TZOFFSETFROM:+0100
TZOFFSETTO:+0200
TZNAME:CEST
DTSTART:20250330T010000
END:DAYLIGHT
BEGIN:STANDARD
TZOFFSETFROM:+0200
TZOFFSETTO:+0100
TZNAME:CET
DTSTART:20251026T010000
END:STANDARD
END:VTIMEZONE
BEGIN:VEVENT
DTSTART;TZID=Europe/Warsaw:20251214T180000
DTEND;TZID=Europe/Warsaw:20251214T191500
DTSTAMP:20260419T214712
CREATED:20250808T093110Z
LAST-MODIFIED:20250808T093110Z
UID:10000971-1765735200-1765739700@www.lubin.pl
SUMMARY:Koncert "Ludowo na nowo Vol. 2" - Chór Concordia z zespołem || CK Muza
DESCRIPTION:Dzień Kurtyny\, który obchodzimy od 2013 r. zawsze wiąże się z występem chóru Concordia\, który zwykle prezentuje „Pieśń o kurtynie” lub piosenkę o Muzie. W zeszłym roku mogli Państwo usłyszeć wspólny występ chóru z Leszkiem Możdżerem\, który zaproponował wykonanie znanego utworu „Ameno”. I tym razem nie zabraknie w Dniu Kurtyny muzyki chóralnej. Zapraszamy Państwa na wyjątkowy koncert Concordii z udziałem zespołu instrumentalnego. \nProjekt powstał z inicjatywy Emilii Ziegler-Opary – dyrygentki chóru działającego przy CK MUZA\, a także jednego z chórzystów i perkusisty zespołu Lub Jazztet – Jarosława Rybki. \n„Ludowo na nowo Vol. 2” to koncert\, podczas którego chór Concordia zaprezentuje muzykę ludową z różnych regionów Polski. Wśród nich usłyszymy utwory stworzone specjalnie na to wydarzenie. Za aranżacje chóralne odpowiada Emilia Ziegler-Opara\, natomiast o warstwę instrumentalną zadba Damian Zyber – pianista jazzowy i aranżer. Artystom chóru będzie towarzyszyć zespół instrumentalny w składzie: Damian Zyber (fortepian)\, Jarosław Rybka (perkusja)\, Mikołaj Główczyński (kontrabas). \n\nduża sala\, bilety: 40 zł / 50 zł (w dniu koncertu)
URL:https://www.lubin.pl/wydarzenie/koncert-ludowo-na-nowo-vol-2-chor-concordia-z-zespolem-ck-muza/
LOCATION:Centrum Kultury „Muza” w Lubinie\, ul. Armii Krajowej 1\, Lubin\, 59-300
ORGANIZER;CN="Centrum Kultury 'Muza' w Lubinie":MAILTO:sekretariat@ckmuza.pl
END:VEVENT
END:VCALENDAR