BEGIN:VCALENDAR
VERSION:2.0
PRODID:-//Lubin - Portal Miasta - ECPv6.10.2//NONSGML v1.0//EN
CALSCALE:GREGORIAN
METHOD:PUBLISH
X-WR-CALNAME:Lubin - Portal Miasta
X-ORIGINAL-URL:https://www.lubin.pl
X-WR-CALDESC:Wydarzenia dla Lubin - Portal Miasta
REFRESH-INTERVAL;VALUE=DURATION:PT1H
X-Robots-Tag:noindex
X-PUBLISHED-TTL:PT1H
BEGIN:VTIMEZONE
TZID:Europe/Warsaw
BEGIN:DAYLIGHT
TZOFFSETFROM:+0100
TZOFFSETTO:+0200
TZNAME:CEST
DTSTART:20250330T010000
END:DAYLIGHT
BEGIN:STANDARD
TZOFFSETFROM:+0200
TZOFFSETTO:+0100
TZNAME:CET
DTSTART:20251026T010000
END:STANDARD
END:VTIMEZONE
BEGIN:VEVENT
DTSTART;TZID=Europe/Warsaw:20251212T173000
DTEND;TZID=Europe/Warsaw:20251212T190000
DTSTAMP:20260419T232413
CREATED:20251203T082431Z
LAST-MODIFIED:20251203T082431Z
UID:10001054-1765560600-1765566000@www.lubin.pl
SUMMARY:Koncert "Pierwsza Gwiazdka" || NOD Lubin
DESCRIPTION:Wyjątkowy koncert świąteczny Narodowej Orkiestry Dętej! \n\nKoncert świąteczny „Pierwsza Gwiazdka” w hali widowiskowo-sportowej RCS Lubin to muzyczna podróż pełna ciepła\, wzruszeń i radości oczekiwania na Święta Bożego Narodzenia. Na scenie wystąpi Narodowa Orkiestra Dęta w Lubinie\, a towarzyszyć jej będą Chór Dziecięcy i Mieszany NOD oraz znakomici wokaliści: Anna Madej i Jan Piwowarczyk. Całość poprowadzi Tomasz Kaniewski. \n\nW programie usłyszymy najpiękniejsze kolędy\, znane utwory świąteczne i energetyczne aranżacje — od klasycznych melodii po współczesne przeboje\, m.in.:\n• A Home Alone Christmas\n• Jingle Bells Fantasy\n• Noel i Pierwsza gwiazda – TGD\n• Kolędy: Tryumfy Króla Niebieskiego\, Pójdźmy wszyscy do stajenki\, Gdy się Chrystus rodzi\, Bóg się rodzi\, Cicha noc\, Przybieżeli do Betlejem i wiele innych\n• Z kopyta kulig rwie – Skaldowie\n• Kolęda Łemkowska\n• Merry Christmas Everyone \n\nTo będzie wieczór\, w którym muzyka rozświetli zimowy czas.
URL:https://www.lubin.pl/wydarzenie/koncert-pierwsza-gwiazdka-nod-lubin/
LOCATION:Hala Widowiskowo – Sportowa RCS w Lubinie\, Odrodzenia 28b\, Lubin\, 59-300
ATTACH;FMTTYPE=image/png:https://www.lubin.pl/wp-content/uploads/2025/12/pierwszagwiazdka_fbtlo-e1764750255473.png
END:VEVENT
END:VCALENDAR