BEGIN:VCALENDAR
VERSION:2.0
PRODID:-//Lubin - Portal Miasta - ECPv6.10.2//NONSGML v1.0//EN
CALSCALE:GREGORIAN
METHOD:PUBLISH
X-WR-CALNAME:Lubin - Portal Miasta
X-ORIGINAL-URL:https://www.lubin.pl
X-WR-CALDESC:Wydarzenia dla Lubin - Portal Miasta
REFRESH-INTERVAL;VALUE=DURATION:PT1H
X-Robots-Tag:noindex
X-PUBLISHED-TTL:PT1H
BEGIN:VTIMEZONE
TZID:Europe/Warsaw
BEGIN:DAYLIGHT
TZOFFSETFROM:+0100
TZOFFSETTO:+0200
TZNAME:CEST
DTSTART:20250330T010000
END:DAYLIGHT
BEGIN:STANDARD
TZOFFSETFROM:+0200
TZOFFSETTO:+0100
TZNAME:CET
DTSTART:20251026T010000
END:STANDARD
END:VTIMEZONE
BEGIN:VEVENT
DTSTART;TZID=Europe/Warsaw:20251207T120000
DTEND;TZID=Europe/Warsaw:20251207T220000
DTSTAMP:20260419T232414
CREATED:20251126T113510Z
LAST-MODIFIED:20251202T083521Z
UID:10001050-1765108800-1765144800@www.lubin.pl
SUMMARY:Jarmark Bożonarodzeniowy w Lubinie
DESCRIPTION:Święta zaczynają się tam\, gdzie spotykamy się razem — na lubińskim Rynku! \nOd 5 do 10 grudnia zapraszamy na Jarmark Bożonarodzeniowy — sześć dni pełnych świątecznej radości. Kolorowe stoiska\, zimowe specjały\, koncerty i wspólna zabawa stworzą atmosferę\, która naprawdę zbliża. Czeka nas sześć dni pachnących piernikami\, pełnych świateł\, muzyki i atrakcji\, które wprowadzą wszystkich w najlepszy gwiazdkowy nastrój \nPrzez cały jarmark — codziennie od godz. 12:00 — czekają na Was:\n – kiermasz z rękodziełem i smakołykami\n – żywa szopka\n – karuzela wenecka\n – zimowe foodtrucki dla małych i dużych łasuchów \nA to dopiero początek! \nPierwsze trzy dni przyniosą dodatkową porcję atrakcji: \n\n  \n \n\nJarmark Bożonarodzeniowy w Lubinie to idealne miejsce\, żeby pospacerować między stoiskami\, poczuć magię świąt z rodziną i przyjaciółmi i złapać oddech przed grudniowym szaleństwem. \nWeźcie bliskich\, ciepłe rękawiczki i dużo dobrego humoru — świąteczny Lubin czeka!
URL:https://www.lubin.pl/wydarzenie/jarmark-bozonarodzeniowy-w-lubinie/2025-12-07/
LOCATION:Rynek\, Lubin\, 59-300
ATTACH;FMTTYPE=image/png:https://www.lubin.pl/wp-content/uploads/2025/11/JARMARK_FB_1200x628px.png
END:VEVENT
BEGIN:VEVENT
DTSTART;TZID=Europe/Warsaw:20251207T190000
DTEND;TZID=Europe/Warsaw:20251207T204500
DTSTAMP:20260419T232414
CREATED:20250808T092408Z
LAST-MODIFIED:20250808T092408Z
UID:10000969-1765134000-1765140300@www.lubin.pl
SUMMARY:Koncert "Męskie Brzmienia" || CK Muza
DESCRIPTION:Pierwszy w Polsce profesjonalny męski chór rozrywkowy zaprasza na niezapomniany koncert pełen nowych aranżacji polskich i światowych hitów. Na scenie znakomici wokaliści łączą rockowe przeboje\, klimatyczne ballady i muzykę filmową\, tworząc wyjątkowy spektakl. Czeka nas wieczór pełen różnorodnych brzmień\, który wciągnie Cię od pierwszych dźwięków! MĘSKIE BRZMIENIA łamią stereotypy\, ukazując szerokie spektrum męskiej ekspresji – od żywiołowej energii po spokojniejsze\, liryczne momenty. Spodziewaj się zaskoczeń\, świeżych aranżacji i niezapomnianego show\, które długo pozostanie w Twojej pamięci. Przyjdź i przekonaj się\, jak brzmi siła głosu i głębia emocji w męskim wydaniu! Zespół tworzy 15 wokalistów i 4 muzyków (klawisze\, perkusja\, gitara\, bas). \n\nduża sala\, bilety: 160 zł / 170 zł (w dniu koncertu) 
URL:https://www.lubin.pl/wydarzenie/koncert-meskie-brzmienia-ck-muza/
LOCATION:Centrum Kultury „Muza” w Lubinie\, ul. Armii Krajowej 1\, Lubin\, 59-300
ORGANIZER;CN="Centrum Kultury 'Muza' w Lubinie":MAILTO:sekretariat@ckmuza.pl
END:VEVENT
END:VCALENDAR