BEGIN:VCALENDAR
VERSION:2.0
PRODID:-//Lubin - Portal Miasta - ECPv6.10.2//NONSGML v1.0//EN
CALSCALE:GREGORIAN
METHOD:PUBLISH
X-WR-CALNAME:Lubin - Portal Miasta
X-ORIGINAL-URL:https://www.lubin.pl
X-WR-CALDESC:Wydarzenia dla Lubin - Portal Miasta
REFRESH-INTERVAL;VALUE=DURATION:PT1H
X-Robots-Tag:noindex
X-PUBLISHED-TTL:PT1H
BEGIN:VTIMEZONE
TZID:Europe/Warsaw
BEGIN:DAYLIGHT
TZOFFSETFROM:+0100
TZOFFSETTO:+0200
TZNAME:CEST
DTSTART:20250330T010000
END:DAYLIGHT
BEGIN:STANDARD
TZOFFSETFROM:+0200
TZOFFSETTO:+0100
TZNAME:CET
DTSTART:20251026T010000
END:STANDARD
END:VTIMEZONE
BEGIN:VEVENT
DTSTART;TZID=Europe/Warsaw:20251123T100000
DTEND;TZID=Europe/Warsaw:20251123T180000
DTSTAMP:20260421T115937
CREATED:20251114T081448Z
LAST-MODIFIED:20251114T084530Z
UID:10001029-1763892000-1763920800@www.lubin.pl
SUMMARY:Dragon Expo: Event Terrarystyczno-Botaniczny || Hala SP nr 14
DESCRIPTION:Poznaj wymagania i potrzeby zwierząt egzotycznych i odwiedź stoiska wystawców z całego kraju! Spotkaj niezwykłych pasjonatów i hodowców\, skorzystaj z ich wiedzy i doświadczenia! Dowiedz się jak opiekować się swoimi zwierzakami i wybierz najlepsze akcesoria do ich hodowli!  \nPodczas imprezy będzie można spotkać niezwykłych wystawców dzikiej fauny z całej Polski! Firmy zajmujące się profesjonalną hodowlą zwierząt egzotycznych na swoich stoiskach zaprezentują: gekony\, jaszczurki\, węże\, straszyki\, modliszki\, kameleony\, ptaszniki\, żaby czy skorpiony! \nZapraszamy zaciekawionych bogactwem natury\, lubiących dreszczyk emocji i wszystkich tych\, którzy od sierści wolą łuski. \n\n\n\nBilety do kupienia w kasach w dniu wydarzenia lub online poprzez stronę www.dragonexpo.pl \n\nNormalny – 20 zł\nUlgowy – 15 zł (emeryci\, renciści\, młodzież do 18-tego roku życia oraz osoby z orzeczeniem o niepełnosprawności)\nBezpłatnie – dzieci do 5 lat\n\n\n\nBiletów zakupionych online nie trzeba drukować. \n\nBilet uprawnia również do wstępu na:\n– Giełda Minerałów\, Biżuterii i Skamieniałości GeoExpo\n– Festiwal Ezoteryki i Medycyny Naturalnej EzoFest\n– Festiwal Rękodzieła Cudeńka
URL:https://www.lubin.pl/wydarzenie/dragon-expo-event-terrarystyczno-botaniczny-hala-sp-nr-14/2025-11-23/
LOCATION:Hala Sportowa SP nr 14\, Norwida 10\, Lubin\, 59-300
ATTACH;FMTTYPE=image/jpeg:https://www.lubin.pl/wp-content/uploads/2025/11/549624925_1118341117057119_2327858159370898850_n.jpg
END:VEVENT
BEGIN:VEVENT
DTSTART;TZID=Europe/Warsaw:20251123T100000
DTEND;TZID=Europe/Warsaw:20251123T180000
DTSTAMP:20260421T115937
CREATED:20251114T082113Z
LAST-MODIFIED:20251114T084438Z
UID:10001032-1763892000-1763920800@www.lubin.pl
SUMMARY:Cudeńka: Festiwal Rękodzieła || Hala SP nr 14
DESCRIPTION:Każda edycja to niepowtarzalna okazja\, by odkryć lokalnych artystów\, poznać nowe techniki i nawiązać inspirujące znajomości. Festiwal promuje rękodzieło jako wyjątkową formę sztuki\, celebrując piękno rzeczy tworzonych z sercem i dbałością o każdy detal. \nOdkryj świat pełen pasji i kreatywności! Festiwal Rękodzieła to nie tylko piękne przedmioty\, ale także wyjątkowe historie ludzi\, którzy je tworzą. Przyjdź\, aby czerpać inspirację\, znaleźć unikalne produkty i spędzić czas w atmosferze\, która pobudza wyobraźnię. \nZnajdziesz tutaj coś dla siebie – od niepowtarzalnych dekoracji\, przez ręcznie robioną biżuterię\, po oryginalne prezenty. Spotkaj twórców\, weź udział w warsztatach i przeżyj coś\, czego nie znajdziesz nigdzie indziej! \nBilety do kupienia w kasach w dniu wydarzenia lub online poprzez stronę www.cudenka.com \n\nNormalny – 20 zł\nUlgowy – 15 zł (emeryci\, renciści\, młodzież do 18-tego roku życia oraz osoby z orzeczeniem o niepełnosprawności)\nBezpłatnie – dzieci do 5 lat\n\nUWAGA \nBilet uprawnia do wstępu na wszystkie wydarzenia\, które odbędą się w hali w tym samym terminie:\n– EzoFest: Festiwal Ezoteryki i Medycyny Naturalnej\n– Dragon Expo: Event Terrarystyczny i Botaniczny Dragon Expo\n– GeoExpo: Giełda Minerałów\, Biżuterii i Skamieniałości
URL:https://www.lubin.pl/wydarzenie/cudenka-festiwal-rekodziela-hala-sp-nr-14-2/2025-11-23/
LOCATION:Hala Sportowa SP nr 14\, Norwida 10\, Lubin\, 59-300
ATTACH;FMTTYPE=image/jpeg:https://www.lubin.pl/wp-content/uploads/2025/11/548480061_122144943692645402_8191843050624376347_n.jpg
END:VEVENT
BEGIN:VEVENT
DTSTART;TZID=Europe/Warsaw:20251123T100000
DTEND;TZID=Europe/Warsaw:20251123T180000
DTSTAMP:20260421T115937
CREATED:20251114T082837Z
LAST-MODIFIED:20251114T084614Z
UID:10001035-1763892000-1763920800@www.lubin.pl
SUMMARY:GeoExpo: Giełda Minerałów\, Biżuterii i Skamieniałości || Hala SP nr 14
DESCRIPTION:Giełda Minerałów\, Biżuterii i Skamieniałości GeoExpo to wyjątkowe wydarzenie i prawdziwe święto kolekcjonerów oraz wielbicieli oryginalnej\, artystycznej biżuterii. \nWystawcy zaprezentują nie tylko minerały\, ale także skamieniałości\, autorską biżuterię\, meteoryty\, bursztyny\, kości dinozaurów oraz kamienie szlachetne. Tego typu unikatów nie spotkacie w żadnym innym miejscu. \nPodczas wydarzenia można skorzystać z wiedzy geologów\, dowiedzieć się szczegółów na temat własnych znalezisk jak również zdobyć wiedzę o pochodzeniu minerałów i powstawaniu skamieniałości! Jest to rzadka okazja by zobaczyć na własne oczy kawałek historii naszej planety i dotknąć kosmosu! \nBilety do kupienia w kasach w dniu wydarzenia lub online poprzez stronę www.geoexpo.eu \n\nNormalny – 20 zł\nUlgowy – 15 zł (emeryci\, renciści\, młodzież do 18-tego roku życia oraz osoby z orzeczeniem o niepełnosprawności)\nBezpłatnie – dzieci do 5 lat\n\nUWAGA \nBilet uprawnia do wstępu na wszystkie wydarzenia\, które odbędą się w hali w tym samym terminie:\n– EzoFest: Festiwal Ezoteryki i Medycyny Naturalnej\n– Dragon Expo: Event Terrarystyczny i Botaniczny Dragon Expo\n– Cudeńka – Festiwal Rękodzieła
URL:https://www.lubin.pl/wydarzenie/geoexpo-gielda-mineralow-bizuterii-i-skamienialosci-hala-sp-nr-14-2/2025-11-23/
LOCATION:Hala Sportowa SP nr 14\, Norwida 10\, Lubin\, 59-300
ATTACH;FMTTYPE=image/jpeg:https://www.lubin.pl/wp-content/uploads/2025/11/558292471_1257489849740667_6986289600609264323_n.jpg
END:VEVENT
BEGIN:VEVENT
DTSTART;TZID=Europe/Warsaw:20251123T100000
DTEND;TZID=Europe/Warsaw:20251123T180000
DTSTAMP:20260421T115937
CREATED:20251114T084400Z
LAST-MODIFIED:20251114T084400Z
UID:10001037-1763892000-1763920800@www.lubin.pl
SUMMARY:EzoFest: Festiwal Ezoteryki i Medycyny Naturalnej || Hala SP nr 14
DESCRIPTION:Festiwal Ezoteryki i Medycyny Naturalnej EzoFest to niezwykle energetyczna inicjatywa zrzeszająca znawców praktyk duchowych\, astrologii\, medycyny alternatywnej i terapeutów holistycznych skupiających się na osiągnięciu równowagi psychofizycznej u człowieka. Podczas tego wyjątkowego wydarzenia można spotkać certyfikowanych terapeutów z zakresu medytacji\, regresji\, aromaterapii i wielu innych dziedzin\, na które świat zdaje się coraz bardziej otwierać. \nPodczas Festiwalu można zakupić niezwykłe wyroby rękodzielnicze\, produkty naturalne oraz skorzystać z usług\, które pobudzają energię\, otwierają umysł i wprowadzają w stan harmonii. \nBilety do kupienia w kasach w dniu wydarzenia lub online poprzez stronę www.ezofest.pl \n\nNormalny – 20 zł\nUlgowy – 15 zł (emeryci\, renciści\, młodzież do 18-tego roku życia oraz osoby z orzeczeniem o niepełnosprawności)\nBezpłatnie – dzieci do 5 lat\n\nUWAGA \nBilet uprawnia do wstępu na wszystkie wydarzenia\, które odbędą się w hali w tym samym terminie:\n– GeoExpo: Giełda Minerałów\, Biżuterii i Skamieniałości\n– Dragon Expo: Event Terrarystyczny i Botaniczny Dragon Expo\n– Cudeńka – Festiwal Rękodzieła
URL:https://www.lubin.pl/wydarzenie/ezofest-festiwal-ezoteryki-i-medycyny-naturalnej-hala-sp-nr-14-2/2025-11-23/
LOCATION:Hala Sportowa SP nr 14\, Norwida 10\, Lubin\, 59-300
ATTACH;FMTTYPE=image/jpeg:https://www.lubin.pl/wp-content/uploads/2025/11/549136907_755810373942909_3448381900878557105_n.jpg
END:VEVENT
BEGIN:VEVENT
DTSTART;TZID=Europe/Warsaw:20251123T170000
DTEND;TZID=Europe/Warsaw:20251123T193000
DTSTAMP:20260421T115937
CREATED:20251006T091331Z
LAST-MODIFIED:20251113T073909Z
UID:10001003-1763917200-1763926200@www.lubin.pl
SUMMARY:Koncert Finałowy XXXIII Ogólnopolskiego Konkursu Wokalnego „Scena Prezentacji Młodych” 2025 || CK Muza
DESCRIPTION:Wielkie muzyczne emocje na żywo – już 23 listopada 2025 r. o godz. 17:00 w Restauracji MUZA odbędzie się koncert finałowy XXXIII Ogólnopolskiego Konkursu Wokalnego „Scena Prezentacji Młodych”. \nTo wyjątkowe wydarzenie\, w którym finaliści – młodzi wokaliści w wieku 14–20 lat – zaprezentują swoje talenty przed jury oraz publicznością. Podczas finału poznamy laureatów tegorocznej edycji\, a zwycięzca otrzyma Nagrodę Główną w wysokości 1000 zł oraz statuetkę MUZY autorstwa Roberta Tomaka. Publiczność również będzie miała okazję wyróżnić swojego faworyta\, przyznając Nagrodę Publiczności. \nW przerwie na obrady jury wystąpi zespół The MOHERS (Michał Stępień i Kuba Chomiak)\, umilając czas oczekiwania na werdykt. Część konkursowa (bez ogłoszenia wyników) będzie transmitowana na żywo na kanale YouTube Centrum Kultury „Muza”. \nKoncert finałowy „Sceny Prezentacji Młodych” to kulminacyjny moment jednego z najstarszych konkursów wokalnych w Polsce – okazja\, by na własne oczy zobaczyć\, jak rodzą się nowe muzyczne talenty. \nWSTĘP BEZPŁATNY
URL:https://www.lubin.pl/wydarzenie/koncert-finalowy-xxxiii-ogolnopolski-konkurs-wokalny-scena-prezentacji-mlodych-2025-ck-muza/
LOCATION:Centrum Kultury „Muza” w Lubinie\, ul. Armii Krajowej 1\, Lubin\, 59-300
ORGANIZER;CN="Centrum Kultury 'Muza' w Lubinie":MAILTO:sekretariat@ckmuza.pl
END:VEVENT
END:VCALENDAR