BEGIN:VCALENDAR
VERSION:2.0
PRODID:-//Lubin - Portal Miasta - ECPv6.10.2//NONSGML v1.0//EN
CALSCALE:GREGORIAN
METHOD:PUBLISH
X-WR-CALNAME:Lubin - Portal Miasta
X-ORIGINAL-URL:https://www.lubin.pl
X-WR-CALDESC:Wydarzenia dla Lubin - Portal Miasta
REFRESH-INTERVAL;VALUE=DURATION:PT1H
X-Robots-Tag:noindex
X-PUBLISHED-TTL:PT1H
BEGIN:VTIMEZONE
TZID:Europe/Warsaw
BEGIN:DAYLIGHT
TZOFFSETFROM:+0100
TZOFFSETTO:+0200
TZNAME:CEST
DTSTART:20250330T010000
END:DAYLIGHT
BEGIN:STANDARD
TZOFFSETFROM:+0200
TZOFFSETTO:+0100
TZNAME:CET
DTSTART:20251026T010000
END:STANDARD
END:VTIMEZONE
BEGIN:VEVENT
DTSTART;TZID=Europe/Warsaw:20251122T100000
DTEND;TZID=Europe/Warsaw:20251122T180000
DTSTAMP:20260421T115937
CREATED:20251114T081448Z
LAST-MODIFIED:20251114T084530Z
UID:10001028-1763805600-1763834400@www.lubin.pl
SUMMARY:Dragon Expo: Event Terrarystyczno-Botaniczny || Hala SP nr 14
DESCRIPTION:Poznaj wymagania i potrzeby zwierząt egzotycznych i odwiedź stoiska wystawców z całego kraju! Spotkaj niezwykłych pasjonatów i hodowców\, skorzystaj z ich wiedzy i doświadczenia! Dowiedz się jak opiekować się swoimi zwierzakami i wybierz najlepsze akcesoria do ich hodowli!  \nPodczas imprezy będzie można spotkać niezwykłych wystawców dzikiej fauny z całej Polski! Firmy zajmujące się profesjonalną hodowlą zwierząt egzotycznych na swoich stoiskach zaprezentują: gekony\, jaszczurki\, węże\, straszyki\, modliszki\, kameleony\, ptaszniki\, żaby czy skorpiony! \nZapraszamy zaciekawionych bogactwem natury\, lubiących dreszczyk emocji i wszystkich tych\, którzy od sierści wolą łuski. \n\n\n\nBilety do kupienia w kasach w dniu wydarzenia lub online poprzez stronę www.dragonexpo.pl \n\nNormalny – 20 zł\nUlgowy – 15 zł (emeryci\, renciści\, młodzież do 18-tego roku życia oraz osoby z orzeczeniem o niepełnosprawności)\nBezpłatnie – dzieci do 5 lat\n\n\n\nBiletów zakupionych online nie trzeba drukować. \n\nBilet uprawnia również do wstępu na:\n– Giełda Minerałów\, Biżuterii i Skamieniałości GeoExpo\n– Festiwal Ezoteryki i Medycyny Naturalnej EzoFest\n– Festiwal Rękodzieła Cudeńka
URL:https://www.lubin.pl/wydarzenie/dragon-expo-event-terrarystyczno-botaniczny-hala-sp-nr-14/2025-11-22/
LOCATION:Hala Sportowa SP nr 14\, Norwida 10\, Lubin\, 59-300
ATTACH;FMTTYPE=image/jpeg:https://www.lubin.pl/wp-content/uploads/2025/11/549624925_1118341117057119_2327858159370898850_n.jpg
END:VEVENT
BEGIN:VEVENT
DTSTART;TZID=Europe/Warsaw:20251122T100000
DTEND;TZID=Europe/Warsaw:20251122T180000
DTSTAMP:20260421T115937
CREATED:20251114T082113Z
LAST-MODIFIED:20251114T084438Z
UID:10001031-1763805600-1763834400@www.lubin.pl
SUMMARY:Cudeńka: Festiwal Rękodzieła || Hala SP nr 14
DESCRIPTION:Każda edycja to niepowtarzalna okazja\, by odkryć lokalnych artystów\, poznać nowe techniki i nawiązać inspirujące znajomości. Festiwal promuje rękodzieło jako wyjątkową formę sztuki\, celebrując piękno rzeczy tworzonych z sercem i dbałością o każdy detal. \nOdkryj świat pełen pasji i kreatywności! Festiwal Rękodzieła to nie tylko piękne przedmioty\, ale także wyjątkowe historie ludzi\, którzy je tworzą. Przyjdź\, aby czerpać inspirację\, znaleźć unikalne produkty i spędzić czas w atmosferze\, która pobudza wyobraźnię. \nZnajdziesz tutaj coś dla siebie – od niepowtarzalnych dekoracji\, przez ręcznie robioną biżuterię\, po oryginalne prezenty. Spotkaj twórców\, weź udział w warsztatach i przeżyj coś\, czego nie znajdziesz nigdzie indziej! \nBilety do kupienia w kasach w dniu wydarzenia lub online poprzez stronę www.cudenka.com \n\nNormalny – 20 zł\nUlgowy – 15 zł (emeryci\, renciści\, młodzież do 18-tego roku życia oraz osoby z orzeczeniem o niepełnosprawności)\nBezpłatnie – dzieci do 5 lat\n\nUWAGA \nBilet uprawnia do wstępu na wszystkie wydarzenia\, które odbędą się w hali w tym samym terminie:\n– EzoFest: Festiwal Ezoteryki i Medycyny Naturalnej\n– Dragon Expo: Event Terrarystyczny i Botaniczny Dragon Expo\n– GeoExpo: Giełda Minerałów\, Biżuterii i Skamieniałości
URL:https://www.lubin.pl/wydarzenie/cudenka-festiwal-rekodziela-hala-sp-nr-14-2/2025-11-22/
LOCATION:Hala Sportowa SP nr 14\, Norwida 10\, Lubin\, 59-300
ATTACH;FMTTYPE=image/jpeg:https://www.lubin.pl/wp-content/uploads/2025/11/548480061_122144943692645402_8191843050624376347_n.jpg
END:VEVENT
BEGIN:VEVENT
DTSTART;TZID=Europe/Warsaw:20251122T100000
DTEND;TZID=Europe/Warsaw:20251122T180000
DTSTAMP:20260421T115937
CREATED:20251114T082837Z
LAST-MODIFIED:20251114T084614Z
UID:10001034-1763805600-1763834400@www.lubin.pl
SUMMARY:GeoExpo: Giełda Minerałów\, Biżuterii i Skamieniałości || Hala SP nr 14
DESCRIPTION:Giełda Minerałów\, Biżuterii i Skamieniałości GeoExpo to wyjątkowe wydarzenie i prawdziwe święto kolekcjonerów oraz wielbicieli oryginalnej\, artystycznej biżuterii. \nWystawcy zaprezentują nie tylko minerały\, ale także skamieniałości\, autorską biżuterię\, meteoryty\, bursztyny\, kości dinozaurów oraz kamienie szlachetne. Tego typu unikatów nie spotkacie w żadnym innym miejscu. \nPodczas wydarzenia można skorzystać z wiedzy geologów\, dowiedzieć się szczegółów na temat własnych znalezisk jak również zdobyć wiedzę o pochodzeniu minerałów i powstawaniu skamieniałości! Jest to rzadka okazja by zobaczyć na własne oczy kawałek historii naszej planety i dotknąć kosmosu! \nBilety do kupienia w kasach w dniu wydarzenia lub online poprzez stronę www.geoexpo.eu \n\nNormalny – 20 zł\nUlgowy – 15 zł (emeryci\, renciści\, młodzież do 18-tego roku życia oraz osoby z orzeczeniem o niepełnosprawności)\nBezpłatnie – dzieci do 5 lat\n\nUWAGA \nBilet uprawnia do wstępu na wszystkie wydarzenia\, które odbędą się w hali w tym samym terminie:\n– EzoFest: Festiwal Ezoteryki i Medycyny Naturalnej\n– Dragon Expo: Event Terrarystyczny i Botaniczny Dragon Expo\n– Cudeńka – Festiwal Rękodzieła
URL:https://www.lubin.pl/wydarzenie/geoexpo-gielda-mineralow-bizuterii-i-skamienialosci-hala-sp-nr-14-2/2025-11-22/
LOCATION:Hala Sportowa SP nr 14\, Norwida 10\, Lubin\, 59-300
ATTACH;FMTTYPE=image/jpeg:https://www.lubin.pl/wp-content/uploads/2025/11/558292471_1257489849740667_6986289600609264323_n.jpg
END:VEVENT
BEGIN:VEVENT
DTSTART;TZID=Europe/Warsaw:20251122T100000
DTEND;TZID=Europe/Warsaw:20251122T180000
DTSTAMP:20260421T115937
CREATED:20251114T084400Z
LAST-MODIFIED:20251114T084400Z
UID:10001036-1763805600-1763834400@www.lubin.pl
SUMMARY:EzoFest: Festiwal Ezoteryki i Medycyny Naturalnej || Hala SP nr 14
DESCRIPTION:Festiwal Ezoteryki i Medycyny Naturalnej EzoFest to niezwykle energetyczna inicjatywa zrzeszająca znawców praktyk duchowych\, astrologii\, medycyny alternatywnej i terapeutów holistycznych skupiających się na osiągnięciu równowagi psychofizycznej u człowieka. Podczas tego wyjątkowego wydarzenia można spotkać certyfikowanych terapeutów z zakresu medytacji\, regresji\, aromaterapii i wielu innych dziedzin\, na które świat zdaje się coraz bardziej otwierać. \nPodczas Festiwalu można zakupić niezwykłe wyroby rękodzielnicze\, produkty naturalne oraz skorzystać z usług\, które pobudzają energię\, otwierają umysł i wprowadzają w stan harmonii. \nBilety do kupienia w kasach w dniu wydarzenia lub online poprzez stronę www.ezofest.pl \n\nNormalny – 20 zł\nUlgowy – 15 zł (emeryci\, renciści\, młodzież do 18-tego roku życia oraz osoby z orzeczeniem o niepełnosprawności)\nBezpłatnie – dzieci do 5 lat\n\nUWAGA \nBilet uprawnia do wstępu na wszystkie wydarzenia\, które odbędą się w hali w tym samym terminie:\n– GeoExpo: Giełda Minerałów\, Biżuterii i Skamieniałości\n– Dragon Expo: Event Terrarystyczny i Botaniczny Dragon Expo\n– Cudeńka – Festiwal Rękodzieła
URL:https://www.lubin.pl/wydarzenie/ezofest-festiwal-ezoteryki-i-medycyny-naturalnej-hala-sp-nr-14-2/2025-11-22/
LOCATION:Hala Sportowa SP nr 14\, Norwida 10\, Lubin\, 59-300
ATTACH;FMTTYPE=image/jpeg:https://www.lubin.pl/wp-content/uploads/2025/11/549136907_755810373942909_3448381900878557105_n.jpg
END:VEVENT
BEGIN:VEVENT
DTSTART;TZID=Europe/Warsaw:20251122T110000
DTEND;TZID=Europe/Warsaw:20251122T120000
DTSTAMP:20260421T115937
CREATED:20251113T073640Z
LAST-MODIFIED:20251113T073640Z
UID:10001026-1763809200-1763812800@www.lubin.pl
SUMMARY:Łemkowie w Centrum - Zwiedzanie zabytkowej cerkwi Św. Trójcy z wyjątkowym przewodnikiem
DESCRIPTION: W Lubinie znów spotkają się tradycja i nowoczesność! Centrum Działań Twórczych zaprasza na drugą edycję festiwalu „Łemkowie w Centrum” – wydarzenie przybliżające bogactwo kultury łemkowskiej w nowoczesnym wydaniu. W programie propozycje łączące folklor\, sztukę i design – od pokazów mody\, przez koncerty i wystawy\, po zwiedzanie zabytkowej cerkwi. Wstęp na wszystkie wydarzenia jest bezpłatny\, a organizatorzy zachęcają mieszkańców do wspólnego odkrywania bogactwa kultury Łemków mieszkających w regionie. \nZwiedzanie zabytkowej cerkwi z wyjątkowym przewodnikiem\nSobotni poranek zabierze nas w świat architektury i duchowości…\nCerkiew Prawosławna pw. Świętej Trójcy w Lubinie to ważny zabytek lokalnej kultury. Budynek powstał w 1877 roku jako kaplica protestancka\, a od 1959 roku służy miejscowej wspólnocie prawosławnej. Z czasem świątynia była remontowana i wzbogacana – m.in. zyskała bogaty ikonostas i charakterystyczne freski. Kapłanem parafii od 2006 roku jest ks. prot. Bogdan Repeła\, który osobiście oprowadzi uczestników po wnętrzu cerkwi. Opowie o tradycjach obrządku prawosławnego\, pokaże najcenniejsze ikony i przybliży dzieje tej wspólnoty. \nUwaga: na to wydarzenie obowiązują zapisy telefoniczne (tel. 767 560 015)\, liczba miejsc\nograniczona.
URL:https://www.lubin.pl/wydarzenie/lemkowie-w-centrum-zwiedzanie-zabytkowej-cerkwi-sw-trojcy-z-wyjatkowym-przewodnikiem/
END:VEVENT
BEGIN:VEVENT
DTSTART;TZID=Europe/Warsaw:20251122T120000
DTEND;TZID=Europe/Warsaw:20251122T143000
DTSTAMP:20260421T115937
CREATED:20251114T094235Z
LAST-MODIFIED:20251114T094235Z
UID:10001044-1763812800-1763821800@www.lubin.pl
SUMMARY:Spotkanie pracowników Dolnośląskiej Fabryki Instrumentów Lutniczych w Lubinie || ZOO Lubin
DESCRIPTION:22 listopada to dzień św. Cecylii\, patronki lutników\, chórzystów\, muzyków\, organistów i zespołów wokalno-muzycznych. \nTradycyjnie już w Lubinie ‒ tego dnia odbywa się spotkanie pracowników Dolnośląskiej Fabryki Instrumentów Lutniczych w Lubinie oraz lutników. Lutnicy na spotkanie zapraszają każdego\, kto jest zainteresowany historią DEFIL-u. \nDolnośląska Fabryka Instrumentów Lutniczych\, czyli DEFIL to ważna część historii naszego miasta. \nW tym roku spotkanie odbędzie się 22 listopada 2025 r. (piątek) w sali audiowizualnej w Ogrodzie Zoologicznym w Lubinie o godz. 13.00\, zaraz po mszy w kościele pw. Najświętszego Serca Pana Jezusa w Lubinie (tzw. mały kościół)\, która rozpocznie się o godzinie 12.00. \nHarmonogram spotkania: \n‒ godz. 12.00 ‒ uroczysta msza św. dla byłych pracowników Dolnośląskiej Fabryki Instrumentów Lutniczych w Lubinie oraz lutników\nmiejsce: kościół pw. Najświętszego Serca Pana Jezusa w Lubinie (tzw. mały kościół) \n‒ godz. 13.00 ‒ spotkanie byłych pracowników Dolnośląskiej Fabryki Instrumentów Lutniczych w Lubinie oraz lutników\nmiejsce: sala audiowizualna w Ogrodzie Zoologicznym w Lubinie \nW programie spotkania występ uczniów Szkoły Muzycznej I i II stopnia im. Franciszka Liszta w Głogowie oraz występ Dawida Krężela ― laureata „Szansy na sukces”.  
URL:https://www.lubin.pl/wydarzenie/spotkanie-pracownikow-dolnoslaskiej-fabryki-instrumentow-lutniczych-w-lubinie-zoo-lubin/
LOCATION:ZOO Lubin\, ul. Ignacego Paderewskiego 99\, Lubin\, 59-300
ATTACH;FMTTYPE=image/jpeg:https://www.lubin.pl/wp-content/uploads/2025/11/tlo-kopia.jpg
END:VEVENT
END:VCALENDAR