BEGIN:VCALENDAR
VERSION:2.0
PRODID:-//Lubin - Portal Miasta - ECPv6.10.2//NONSGML v1.0//EN
CALSCALE:GREGORIAN
METHOD:PUBLISH
X-ORIGINAL-URL:https://www.lubin.pl
X-WR-CALDESC:Wydarzenia dla Lubin - Portal Miasta
REFRESH-INTERVAL;VALUE=DURATION:PT1H
X-Robots-Tag:noindex
X-PUBLISHED-TTL:PT1H
BEGIN:VTIMEZONE
TZID:Europe/Warsaw
BEGIN:DAYLIGHT
TZOFFSETFROM:+0100
TZOFFSETTO:+0200
TZNAME:CEST
DTSTART:20250330T010000
END:DAYLIGHT
BEGIN:STANDARD
TZOFFSETFROM:+0200
TZOFFSETTO:+0100
TZNAME:CET
DTSTART:20251026T010000
END:STANDARD
END:VTIMEZONE
BEGIN:VEVENT
DTSTART;TZID=Europe/Warsaw:20251106T100000
DTEND;TZID=Europe/Warsaw:20251106T183000
DTSTAMP:20260419T162437
CREATED:20251027T121546Z
LAST-MODIFIED:20251027T121546Z
UID:10001018-1762423200-1762453800@www.lubin.pl
SUMMARY:III Lubiński Przegląd Filmów Ornitologicznych || ZOO Lubin
DESCRIPTION:Ogród Zoologiczny w Lubinie zaprasza do udziału w III Lubińskim Przeglądzie Filmów Ornitologicznych. Przegląd odbędzie się w sali audiowizualnej w Ogrodzie Zoologicznym w Lubinie\, w dniach 5-7 listopada 2025 r. Partnerem wydarzenia jest Studio Leśne w Bedoniu\, natomiast patronem OTOP – Ogólnopolskie Towarzystwo Ochrony Ptaków. \nRano zapraszamy grupy przedszkolne na poranki z Wróblem Ćwirkiem (zapisy telefoniczne\, wstęp bezpłatny)\, natomiast starszych uczestników napraszamy na popołudniowe prelekcje i seanse (bez zapisów\, wstęp bezpłatny). \n6 listopada 2025 (czwartek) – Edukacja przedszkolna z Wróblem Ćwirkiem \n(grupy przedszkolne\, zapisy telefoniczne: 734 170 991\, udział bezpłatny) \n10.00-10.45 – „Przygód kilka wróbla Ćwirka” \nodc. 30 – Czarna rodzinka \nodc. 32 – Kraksa pod chmurką \nodc. 34 – Towarzystwo na zimę \nPrelekcje popołudniowe \n(uczestnicy indywidualni\, bez zapisów\, udział bezpłatny) \n15.00 – Adam Zbyryt „Dlaczego ptaki osiedlają się w miastach?” \n17.00 – Tomasz Kłosowski „Jak bracia z braćmi” \nWydarzenie dodatkowe: wystawa fotografii przyrodniczej Tomasza Kłosowskiego\, hol siedziby zoo
URL:https://www.lubin.pl/wydarzenie/iii-lubinski-przeglad-filmow-ornitologicznych-zoo-lubin-2/
LOCATION:ZOO Lubin\, ul. Ignacego Paderewskiego 99\, Lubin\, 59-300
ATTACH;FMTTYPE=image/jpeg:https://www.lubin.pl/wp-content/uploads/2025/07/07.ZOO_LPFO.jpg
END:VEVENT
BEGIN:VEVENT
DTSTART;TZID=Europe/Warsaw:20251106T110000
DTEND;TZID=Europe/Warsaw:20251106T123000
DTSTAMP:20260419T162437
CREATED:20250808T085241Z
LAST-MODIFIED:20250808T085241Z
UID:10000962-1762426800-1762432200@www.lubin.pl
SUMMARY:Spektakl "Frankenstein" – Teatr AVATAR || CK Muza
DESCRIPTION:„Frankenstein” to spektakl inny niż dotychczasowe. Zanurzony w gotyckim klimacie powieści Mary S. Shelley\, porzuca popkulturowe schematy\, by na nowo opowiedzieć historię nie potwora i szalonego naukowca\, lecz człowieka i jego granic. Odbijające niepokoje i nadzieje choreografie taneczno-akrobatyczne\, przejmujące obrazy teatru cieni oraz mroczna scenografia przeniosą widzów do pełnego napięcia świata Frankensteina – świata\, w którym rodzą się pytania o człowieczeństwo\, samotność i odpowiedzialność za własne czyny. \nZa realizację nowego przedstawienia Teatru AVATAR odpowiada duet artystyczny: reżyser Kamil J. Przyboś oraz choreografka Ada Pankowska-Michalczyk – twórcy takich przedstawień jak „Dziewczynka z zapałkami”\, „Syrena”\, „Nowe Szaty Króla” czy „Opowieść Wigilijna”. \nSpektakl dla osób powyżej 15. roku życia \nduża sala\, bilety: 50 zł (ulgowy – młodzież od 15 lat)\, 60 zł (normalny)\, dla grup zorganizowanych na godz 11:00: 40 zł
URL:https://www.lubin.pl/wydarzenie/spektakl-frankenstein-teatr-avatar-ck-muza/2025-11-06/1/
LOCATION:Centrum Kultury „Muza” w Lubinie\, ul. Armii Krajowej 1\, Lubin\, 59-300
ORGANIZER;CN="Centrum Kultury 'Muza' w Lubinie":MAILTO:sekretariat@ckmuza.pl
END:VEVENT
BEGIN:VEVENT
DTSTART;TZID=Europe/Warsaw:20251106T180000
DTEND;TZID=Europe/Warsaw:20251106T193000
DTSTAMP:20260419T162437
CREATED:20250808T085241Z
LAST-MODIFIED:20250808T085241Z
UID:10000963-1762452000-1762457400@www.lubin.pl
SUMMARY:Spektakl "Frankenstein" – Teatr AVATAR || CK Muza
DESCRIPTION:„Frankenstein” to spektakl inny niż dotychczasowe. Zanurzony w gotyckim klimacie powieści Mary S. Shelley\, porzuca popkulturowe schematy\, by na nowo opowiedzieć historię nie potwora i szalonego naukowca\, lecz człowieka i jego granic. Odbijające niepokoje i nadzieje choreografie taneczno-akrobatyczne\, przejmujące obrazy teatru cieni oraz mroczna scenografia przeniosą widzów do pełnego napięcia świata Frankensteina – świata\, w którym rodzą się pytania o człowieczeństwo\, samotność i odpowiedzialność za własne czyny. \nZa realizację nowego przedstawienia Teatru AVATAR odpowiada duet artystyczny: reżyser Kamil J. Przyboś oraz choreografka Ada Pankowska-Michalczyk – twórcy takich przedstawień jak „Dziewczynka z zapałkami”\, „Syrena”\, „Nowe Szaty Króla” czy „Opowieść Wigilijna”. \nSpektakl dla osób powyżej 15. roku życia \nduża sala\, bilety: 50 zł (ulgowy – młodzież od 15 lat)\, 60 zł (normalny)\, dla grup zorganizowanych na godz 11:00: 40 zł
URL:https://www.lubin.pl/wydarzenie/spektakl-frankenstein-teatr-avatar-ck-muza/2025-11-06/2/
LOCATION:Centrum Kultury „Muza” w Lubinie\, ul. Armii Krajowej 1\, Lubin\, 59-300
ORGANIZER;CN="Centrum Kultury 'Muza' w Lubinie":MAILTO:sekretariat@ckmuza.pl
END:VEVENT
END:VCALENDAR