BEGIN:VCALENDAR
VERSION:2.0
PRODID:-//Lubin - Portal Miasta - ECPv6.10.2//NONSGML v1.0//EN
CALSCALE:GREGORIAN
METHOD:PUBLISH
X-ORIGINAL-URL:https://www.lubin.pl
X-WR-CALDESC:Wydarzenia dla Lubin - Portal Miasta
REFRESH-INTERVAL;VALUE=DURATION:PT1H
X-Robots-Tag:noindex
X-PUBLISHED-TTL:PT1H
BEGIN:VTIMEZONE
TZID:Europe/Warsaw
BEGIN:DAYLIGHT
TZOFFSETFROM:+0100
TZOFFSETTO:+0200
TZNAME:CEST
DTSTART:20250330T010000
END:DAYLIGHT
BEGIN:STANDARD
TZOFFSETFROM:+0200
TZOFFSETTO:+0100
TZNAME:CET
DTSTART:20251026T010000
END:STANDARD
END:VTIMEZONE
BEGIN:VEVENT
DTSTART;TZID=Europe/Warsaw:20251018T190000
DTEND;TZID=Europe/Warsaw:20251018T203000
DTSTAMP:20260421T145204
CREATED:20250808T082915Z
LAST-MODIFIED:20250808T082915Z
UID:10000955-1760814000-1760819400@www.lubin.pl
SUMMARY:Koncert "Paris! Najpiękniejsze piosenki francuskie" – Natalia Lubrano z zespołem || CK Muza
DESCRIPTION:Zapraszamy na muzyczne wędrówki paryskimi uliczkami z ponadczasowymi\, poetyckimi kompozycjami\, na których wychowało się już kilka pokoleń entuzjastów francuskiej piosenki. Wśród znanych szerokiej publiczności utworów\, usłyszymy te najpiękniejsze artystów takich jak: Edith Piaf\, Charles Aznavour\, Enzo Enzo\, Joe Dassin\, ZAZ czy Claude François. Program Natalii Lubrano z akompaniamentem Sceny 104 (piano\, akordeon\, bas\, perkusja) stanowi ukłon w stronę największych nazwisk tworzących obraz francuskiej muzyki. Tego wieczoru z pewnością nie zabraknie czułych emocji i wzruszeń\, a powrót do kultowych utworów znad Sekwany zachęci nas do romantycznej zadumy\, chwili uśmiechu czy wspaniałych wspomnień. \nNatalia Lubrano – wokalistka związana z wrocławską sceną muzyczną\, autorka tekstów i muzyki. Przez ponad dekadę mieszkała we Francji. Szerszej publiczności znana z V edycji programu „The Voice of Poland” oraz z X edycji „Must be the Music”. Ukończyła Państwową Szkołę Muzyczną I stopnia im. Grażyny Bacewicz we Wrocławiu oraz prywatną szkołę jazzu „Jazz à Tours” we Francji. Wystąpiła m. in. na Krajowym Festiwalu Polskiej Piosenki w Opolu\, Przeglądzie Piosenki Aktorskiej we Wrocławiu\, Festiwalu Ballady i Piosenki Filmowej w Toruniu. W 2012 roku nakładem wytwórni Kayax ukazała się autorska płyta wokalistki „R.E.S.P.E.C.T.” \n\nduża sala\, bilety: 70 zł / 80 zł (w dniu koncertu) 
URL:https://www.lubin.pl/wydarzenie/koncert-paris-najpiekniejsze-piosenki-francuskie-natalia-lubrano-z-zespolem-ck-muza/
LOCATION:Centrum Kultury „Muza” w Lubinie\, ul. Armii Krajowej 1\, Lubin\, 59-300
ORGANIZER;CN="Centrum Kultury 'Muza' w Lubinie":MAILTO:sekretariat@ckmuza.pl
END:VEVENT
END:VCALENDAR