BEGIN:VCALENDAR
VERSION:2.0
PRODID:-//Lubin - Portal Miasta - ECPv6.10.2//NONSGML v1.0//EN
CALSCALE:GREGORIAN
METHOD:PUBLISH
X-WR-CALNAME:Lubin - Portal Miasta
X-ORIGINAL-URL:https://www.lubin.pl
X-WR-CALDESC:Wydarzenia dla Lubin - Portal Miasta
REFRESH-INTERVAL;VALUE=DURATION:PT1H
X-Robots-Tag:noindex
X-PUBLISHED-TTL:PT1H
BEGIN:VTIMEZONE
TZID:Europe/Warsaw
BEGIN:DAYLIGHT
TZOFFSETFROM:+0100
TZOFFSETTO:+0200
TZNAME:CEST
DTSTART:20250330T010000
END:DAYLIGHT
BEGIN:STANDARD
TZOFFSETFROM:+0200
TZOFFSETTO:+0100
TZNAME:CET
DTSTART:20251026T010000
END:STANDARD
END:VTIMEZONE
BEGIN:VEVENT
DTSTART;TZID=Europe/Warsaw:20250921T120000
DTEND;TZID=Europe/Warsaw:20250921T180000
DTSTAMP:20260421T115937
CREATED:20250904T115720Z
LAST-MODIFIED:20250904T115720Z
UID:10000991-1758456000-1758477600@www.lubin.pl
SUMMARY:Kości zostały rzucone\, czyli 28. weekend z grami bez prądu || CK Muza
DESCRIPTION:Centrum Kultury „Muza” i Lubiński Klub Fantastyki „Ostatnie Przymierze” zapraszają na kolejny lubiński weekend z grami bez prądu. \nNa uczestników czekać będą gry planszowe\, bitewne\, RPG i karciane oraz warsztaty. \nDo dyspozycji będzie ponad 350 nowoczesnych gier planszowych\, wśród których każdy znajdzie coś dla siebie\, niezależnie od wieku i doświadczenia. W razie wątpliwości członkowie Lubińskiego Klubu Fantastyki „Ostatnie Przymierze” wytłumaczą zasady i pomogą wybrać grę. Będzie można wziąć udział w wyzwaniu planszówkowym. Członkowie LKF aktywnie grają się m. in. w WH40k\, Kill Team\, Conquest\, Bolt Action czy X-Winga. W trakcie całego weekendu będzie można wziąć udział w Grajzie\, czyli wyzwaniu planszówkowym oraz w turnieju bilarda holenderskiego. \nWięcej informacji znajdziecie TUTAJ
URL:https://www.lubin.pl/wydarzenie/kosci-zostaly-rzucone-czyli-28-weekend-z-grami-bez-pradu-ck-muza-2/2025-09-21/
LOCATION:Centrum Kultury „Muza” w Lubinie\, ul. Armii Krajowej 1\, Lubin\, 59-300
END:VEVENT
BEGIN:VEVENT
DTSTART;TZID=Europe/Warsaw:20250921T140000
DTEND;TZID=Europe/Warsaw:20250921T180000
DTSTAMP:20260421T115937
CREATED:20250905T102828Z
LAST-MODIFIED:20250905T102910Z
UID:10000994-1758463200-1758477600@www.lubin.pl
SUMMARY:Folkowe Pożegnanie Lata – Śpiewające Dinozaury || ZOO Lubin
DESCRIPTION:W wyjątkowej scenerii Ogrodu Zoologicznego w Lubinie odbędzie się barwne i radosne Folkowe Pożegnanie Lata – ŚPIEWAJĄCE DINOZAURY!\nTo już piąta edycja wydarzenia\, które na stałe wpisało się w kalendarz kulturalnych atrakcji naszego regionu. \nPod honorowym patronatem Starosty Powiatu Lubińskiego mieszkańcy i goście będą mogli wspólnie celebrować koniec lata w rytmie muzyki ludowej\, tańca i śmiechu. \nWydarzenie rozpocznie wyjątkowy występ przedszkolaków z Przedszkola Miejskiego nr 10 z Oddziałami Integracyjnymi w Lubinie\, którzy swoją energią i radością wprowadzą publiczność w doskonały nastrój. \n  \nNa scenie wystąpią znakomite zespoły folklorystyczne i wokalne: \n\nZespół Folklorystyczny „Lubin”\nZespół „Hosadyna od Lubina”\nZespół Folkowy „Tacy sami”\nZespół Ludowy „Gajkowianie”\nZespół „Osieczanki”\nKapela Ludowa „Kulinianie”\nZespół Śpiewaczy „Świdniczanie”\nZespół Folklorystyczny „Marzenie” ze Szklarek\nZespół „Luna Rosa”\nZespół Ludowy „Szymanowianie”\nZespół Ludowy „Radośni”\nZespół Ludowy „Podolanki”\n\nBędą tańce\, wspólne śpiewanie\, ogrom pozytywnej energii i mnóstwo dobrej zabawy – tak właśnie pożegnamy lato w Lubinie! \nNie zabraknie też atrakcji kulinarnych\, które przygotuje współorganizator wydarzenia – Zespół Folklorystyczny „Lubin”. Na miejscu będzie można zakupić pyszne domowe ciasta oraz tradycyjne smakołyki\, które idealnie dopełnią folkowego klimatu wydarzenia (płatność gotówką). \nOrganizatorzy:\nCentrum Działań Twórczych w Lubinie\, Ogród Zoologiczny w Lubinie\, Powiat Lubiński\,
URL:https://www.lubin.pl/wydarzenie/folkowe-pozegnanie-lata-spiewajace-dinozaury-zoo-lubin/
LOCATION:ZOO Lubin\, ul. Ignacego Paderewskiego 99\, Lubin\, 59-300
END:VEVENT
BEGIN:VEVENT
DTSTART;TZID=Europe/Warsaw:20250921T181800
DTEND;TZID=Europe/Warsaw:20250921T210000
DTSTAMP:20260421T115937
CREATED:20250612T070246Z
LAST-MODIFIED:20250612T071011Z
UID:10000865-1758478680-1758488400@www.lubin.pl
SUMMARY:X Bieg Papieski || RCS Lubin
DESCRIPTION: \n \n\n\nPrzed nami wyjątkowa\, dziesiąta już edycja Biegu Papieskiego. Spotykamy się 21 września 2025 roku na stadionie lekkoatletycznym\, który ponownie stanie się sercem tego sportowego wydarzenia.\n \n\nDo udziału zachęcamy wszystkich – zarówno doświadczonych biegaczy\, jak i tych\, którzy dopiero rozpoczynają swoją przygodę z bieganiem. Trasa jest dostępna dla każdego – niezbyt długa\, niezbyt wymagająca – a celem wydarzenia jest nie tylko promocja zdrowego stylu życia\, ale też integracja i dobra zabawa. \nDla klientów Medicover Sport specjalny rabat 20 zł!\nWyślij SMS o treści „BP1.Lub” na numer 661 000 556 by otrzymać specjalny kod. \nREGULAMIN I SZCZEGÓŁOWE INFORMACJE DOSTĘPNE SĄ TUTAJ \nZapisy na bieg główny TUTAJ \n\nZapisy na bieg dzieci i młodzieży TUTAJ
URL:https://www.lubin.pl/wydarzenie/x-bieg-papieski-rcs-lubin/
LOCATION:Stadion RCS Lubin\, Odrodzenia 28b\, Lubin\, 59-300
END:VEVENT
END:VCALENDAR