BEGIN:VCALENDAR
VERSION:2.0
PRODID:-//Lubin - Portal Miasta - ECPv6.10.2//NONSGML v1.0//EN
CALSCALE:GREGORIAN
METHOD:PUBLISH
X-WR-CALNAME:Lubin - Portal Miasta
X-ORIGINAL-URL:https://www.lubin.pl
X-WR-CALDESC:Wydarzenia dla Lubin - Portal Miasta
REFRESH-INTERVAL;VALUE=DURATION:PT1H
X-Robots-Tag:noindex
X-PUBLISHED-TTL:PT1H
BEGIN:VTIMEZONE
TZID:Europe/Warsaw
BEGIN:DAYLIGHT
TZOFFSETFROM:+0100
TZOFFSETTO:+0200
TZNAME:CEST
DTSTART:20250330T010000
END:DAYLIGHT
BEGIN:STANDARD
TZOFFSETFROM:+0200
TZOFFSETTO:+0100
TZNAME:CET
DTSTART:20251026T010000
END:STANDARD
END:VTIMEZONE
BEGIN:VEVENT
DTSTART;TZID=Europe/Warsaw:20250920T120000
DTEND;TZID=Europe/Warsaw:20250920T180000
DTSTAMP:20260421T115936
CREATED:20250904T115720Z
LAST-MODIFIED:20250904T115720Z
UID:10000990-1758369600-1758391200@www.lubin.pl
SUMMARY:Kości zostały rzucone\, czyli 28. weekend z grami bez prądu || CK Muza
DESCRIPTION:Centrum Kultury „Muza” i Lubiński Klub Fantastyki „Ostatnie Przymierze” zapraszają na kolejny lubiński weekend z grami bez prądu. \nNa uczestników czekać będą gry planszowe\, bitewne\, RPG i karciane oraz warsztaty. \nDo dyspozycji będzie ponad 350 nowoczesnych gier planszowych\, wśród których każdy znajdzie coś dla siebie\, niezależnie od wieku i doświadczenia. W razie wątpliwości członkowie Lubińskiego Klubu Fantastyki „Ostatnie Przymierze” wytłumaczą zasady i pomogą wybrać grę. Będzie można wziąć udział w wyzwaniu planszówkowym. Członkowie LKF aktywnie grają się m. in. w WH40k\, Kill Team\, Conquest\, Bolt Action czy X-Winga. W trakcie całego weekendu będzie można wziąć udział w Grajzie\, czyli wyzwaniu planszówkowym oraz w turnieju bilarda holenderskiego. \nWięcej informacji znajdziecie TUTAJ
URL:https://www.lubin.pl/wydarzenie/kosci-zostaly-rzucone-czyli-28-weekend-z-grami-bez-pradu-ck-muza-2/2025-09-20/
LOCATION:Centrum Kultury „Muza” w Lubinie\, ul. Armii Krajowej 1\, Lubin\, 59-300
END:VEVENT
BEGIN:VEVENT
DTSTART;TZID=Europe/Warsaw:20250920T140000
DTEND;TZID=Europe/Warsaw:20250920T153000
DTSTAMP:20260421T115936
CREATED:20250916T110334Z
LAST-MODIFIED:20250916T110334Z
UID:10000999-1758376800-1758382200@www.lubin.pl
SUMMARY:"Zwykły - Niezwykły" Przejazd rowerowy przez miasto!
DESCRIPTION:Już w sobotę 20 września 2025 Lubin ponownie stanie się rowerową stolicą regionu! W tym roku wracamy do serca miasta – na Rynek\, skąd wystartuje kolorowa kolumna rowerzystów. \n\nPrzejazd organizowany jest w ramach Europejskiego Tygodnia Zrównoważonego Transportu (16–22 września) oraz Europejskiego Dnia bez Samochodu (22 września). Ich celem jest promowanie ekologicznych\, zdrowych i alternatywnych form przemieszczania się – zamiast samochodów wybierzmy rower\, spacer czy komunikację miejską. \n\nProgram wydarzenia:\n 13:00 – zbiórka w Rynku\, wręczenie okolicznościowych koszulek\n 14:05 – start przejazdu ulicami miasta\n 14:40 – powrót uczestników do Rynku\n 14:50 – loteria fantowa z nagrodami\n 15:30 – zakończenie imprezy \n\nTrasa przejazdu:\nRynek – Mieszka I – al. Niepodległości – Paderewskiego – Sikorskiego – Odrodzenia – Kolejowa – 1 Maja – Marii Skłodowskiej-Curie – Kościuszki – Kilińskiego – Mieszka I – Rynek. \n\nTo będzie wyjątkowe wydarzenie\, w którym może wziąć udział każdy – niezależnie od wieku czy kondycji. Zabierz rodzinę\, znajomych i dołącz do rowerowej społeczności\, która tego dnia przejedzie przez Lubin w duchu wspólnej zabawy i ekologii!
URL:https://www.lubin.pl/wydarzenie/zwykly-niezwykly-przejazd-rowerowy-przez-miasto/
LOCATION:Rynek\, Lubin\, 59-300
END:VEVENT
END:VCALENDAR