BEGIN:VCALENDAR
VERSION:2.0
PRODID:-//Lubin - Portal Miasta - ECPv6.10.2//NONSGML v1.0//EN
CALSCALE:GREGORIAN
METHOD:PUBLISH
X-WR-CALNAME:Lubin - Portal Miasta
X-ORIGINAL-URL:https://www.lubin.pl
X-WR-CALDESC:Wydarzenia dla Lubin - Portal Miasta
REFRESH-INTERVAL;VALUE=DURATION:PT1H
X-Robots-Tag:noindex
X-PUBLISHED-TTL:PT1H
BEGIN:VTIMEZONE
TZID:Europe/Warsaw
BEGIN:DAYLIGHT
TZOFFSETFROM:+0100
TZOFFSETTO:+0200
TZNAME:CEST
DTSTART:20250330T010000
END:DAYLIGHT
BEGIN:STANDARD
TZOFFSETFROM:+0200
TZOFFSETTO:+0100
TZNAME:CET
DTSTART:20251026T010000
END:STANDARD
END:VTIMEZONE
BEGIN:VEVENT
DTSTART;TZID=Europe/Warsaw:20250917T120000
DTEND;TZID=Europe/Warsaw:20250917T130000
DTSTAMP:20260421T115938
CREATED:20250916T103819Z
LAST-MODIFIED:20250916T103819Z
UID:10000996-1758110400-1758114000@www.lubin.pl
SUMMARY:Obchody 86. rocznicy agresji sowieckiej na Polskę i Światowy Dzień Sybiraka
DESCRIPTION:W środę\, 17 września\, o godzinie 12:00 na cmentarzu komunalnym w Lubinie (stary cmentarz)\, pod Krzyżem Sybiru\, odbędą się uroczystości upamiętniające ofiary agresji sowieckiej na Polskę oraz wszystkich Sybiraków. \nTego samego dnia\, o godzinie 18:00\, w kościele pw. Matki Bożej Częstochowskiej w Lubinie odprawiona zostanie msza święta w intencji Ojczyzny.
URL:https://www.lubin.pl/wydarzenie/obchody-86-rocznicy-agresji-sowieckiej-na-polske-i-swiatowy-dzien-sybiraka/
END:VEVENT
BEGIN:VEVENT
DTSTART;TZID=Europe/Warsaw:20250917T190000
DTEND;TZID=Europe/Warsaw:20250917T203000
DTSTAMP:20260421T115938
CREATED:20250916T104529Z
LAST-MODIFIED:20250916T104529Z
UID:10000997-1758135600-1758141000@www.lubin.pl
SUMMARY:„Śladami Johanna Sebastiana Bacha” - koncert organowy prof. Lorenzo Ghielmi
DESCRIPTION:Zapraszamy na święto muzyki organowej\, Organowy Kurs Mistrzowski „U Martina Benjamina Liebeherra” \nMiędzy 16\, a 19 września młodzi adepci muzyki organowej z całej Polski zjadą do Lubina. Będą oni doskonalić swoje umiejętności u boku wybitnych profesorów. Na zakończenie poszczególnych kursów profesorowie wykonają Koncerty Mistrzowskie. \n17 września koncert „Śladami Johanna Sebastiana Bacha” zagra dla Państwa prof. Lorenzo Ghielmi – światowej sławy interpretator muzyki Bacha\, klawesynista i organista\, wykładowca w Mediolanie i Bazylei. To co wyróżnia ten koncert to fakt\, że zabrzmią w całości utwory\, których tylko fragmenty przetrwały do naszych czasów. Profesor Lorenzo Ghielmi wykorzysta nie tylko swój kunszt ale i wiedzę aby utrzymać styl i formę minionego okresu. Gratka nie tylko dla koneserów.
URL:https://www.lubin.pl/wydarzenie/sladami-johanna-sebastiana-bacha-koncert-organowy-prof-lorenzo-ghielmi/
LOCATION:Kościół pw. Matki Bożej Częstochowskiej w Lubinie\, ul. Hugo Kołłątaja 4\, Lubin\, 59-300\, Poland
END:VEVENT
END:VCALENDAR