BEGIN:VCALENDAR
VERSION:2.0
PRODID:-//Lubin - Portal Miasta - ECPv6.10.2//NONSGML v1.0//EN
CALSCALE:GREGORIAN
METHOD:PUBLISH
X-ORIGINAL-URL:https://www.lubin.pl
X-WR-CALDESC:Wydarzenia dla Lubin - Portal Miasta
REFRESH-INTERVAL;VALUE=DURATION:PT1H
X-Robots-Tag:noindex
X-PUBLISHED-TTL:PT1H
BEGIN:VTIMEZONE
TZID:Europe/Warsaw
BEGIN:DAYLIGHT
TZOFFSETFROM:+0100
TZOFFSETTO:+0200
TZNAME:CEST
DTSTART:20250330T010000
END:DAYLIGHT
BEGIN:STANDARD
TZOFFSETFROM:+0200
TZOFFSETTO:+0100
TZNAME:CET
DTSTART:20251026T010000
END:STANDARD
END:VTIMEZONE
BEGIN:VEVENT
DTSTART;TZID=Europe/Warsaw:20250913T120000
DTEND;TZID=Europe/Warsaw:20250913T160000
DTSTAMP:20260421T132642
CREATED:20250704T122446Z
LAST-MODIFIED:20250819T070340Z
UID:10000901-1757764800-1757779200@www.lubin.pl
SUMMARY:Bieg Dinusia || ZOO Lubin
DESCRIPTION:Ogród Zoologiczny w Lubinie\, wspólnie z Regionalnym Centrum Sportowym Sp. z o.o. oraz Stowarzyszeniem Turystyki Pieszej „Wędrowiec”\, zapraszają do udziału w 11. Biegu Dinusia. \n\nBieg przeznaczony jest dla najmłodszych amatorów biegania. Ma na celu promocję zdrowego stylu życia\, ze szczególnym uwzględnieniem Szlaku Zwierząt Wymarłych. Bieg Dinusia to również rodzinna zabawa oraz sposób na spędzenie wolnego czasu i propagowanie zdrowego\, aktywnego trybu życia. \n\nTrasa Biegu poprowadzona zostanie wśród figur na Szlaku Zwierząt Wymarłych\, na dystansach:\n– około 150 m – jedno okrążenie (dzieci w wieku od 3-6 lat)\n– około 300 m – dwa okrążenia (dzieci w wieku od 7-9 lat). \n\nDobrowolna opłata startowa od uczestnika wynosi minimum 30 zł.  \n\nCałość zebranych funduszy zostanie przekazana na cel charytatywny – rehabilitację chorego dziecka zamieszkującego miasto Lubin. \n\nPrzyjmowanie zgłoszeń odbywa się:\nOSOBIŚCIE w siedzibie ZOO Lubin (budynek przy bramie wejściowej od strony Sądu Rejonowego w Lubinie). Od poniedziałku do piątku w godzinach 8:00-17:00\, w sobotę oraz niedzielę w godzinach 13:00-15:00.\n \nlub\n \nINTERNETOWO poprzez wiadomość e-mail na adres: biegdinusia@gmail.com\nZapisując się internetowo w wiadomości należy przesłać:\n1) imię i nazwisko dziecka\, jego datę urodzenia\,\n2) imię i nazwisko oraz nr telefonu rodzica lub prawnego opiekuna\,\n3) potwierdzenie bankowe przelewu lub skan przekazu.\n \n W tytule przelewu: XI Bieg Dinusia – imię i nazwisko dziecka\nKonto do wpłat: BS Wschowa 74 8669 0001 2031 0312 1388 0005\n \nPo weryfikacji płatności\, dziecko zostanie przypisane do zadeklarowanego dystansu\, a następnie zostanie mu nadany numer startowy\, adekwatny do każdej kategorii wiekowej.\nZgłoszenia przyjmowane są tylko w terminie do 10 września 2025 r. lub po osiągnięciu limitu 300 osób. 
URL:https://www.lubin.pl/wydarzenie/bieg-dinusia-zoo-lubin/2025-09-13/
LOCATION:ZOO Lubin\, ul. Ignacego Paderewskiego 99\, Lubin\, 59-300
END:VEVENT
BEGIN:VEVENT
DTSTART;TZID=Europe/Warsaw:20250913T130000
DTEND;TZID=Europe/Warsaw:20250913T180000
DTSTAMP:20260421T132642
CREATED:20250904T111453Z
LAST-MODIFIED:20250904T111453Z
UID:10000984-1757768400-1757786400@www.lubin.pl
SUMMARY:Europejskie Dni Dziedzictwa 2025 - Plener Rzemieślniczy || Park Leśny
DESCRIPTION:W dniach 13 i 14 września 2025 roku w Parku Leśnym w Lubinie na Polanie Piaskowej odbędzie się Plener Rzemieślniczy „Wzory przeszłości. Rzemiosło Dolnego Śląska”\, organizowany przez Muzeum Historyczne w Lubinie w ramach Europejskich Dni Dziedzictwa. \nTytuł wydarzenia – „Wzory przeszłości” – odnosi się zarówno do dawnych ornamentów i zdobień charakterystycznych dla dolnośląskiego rękodzieła\, jak i do utrwalonych przez pokolenia wzorców pracy\, wiedzy i tradycji. Wzory te – obecne w przedmiotach codziennego użytku\, ale też w technikach\, gestach i rzemieślniczych rytuałach – odzwierciedlają tożsamość regionu i stanowią cenne dziedzictwo kulturowe Dolnego Śląska.  \nW programie znajdą się pokazy i warsztaty dawnych zawodów i technik rękodzielniczych\, m.in. garncarstwa\, kowalstwa\, witrażownictwa\, kaletnictwa i hafciarstwa. Uczestnicy zobaczą również proces tworzenia tkanin metodą blaudruku\, wypiek pierników w tradycyjnych drewnianych formach\, inscenizację życia codziennego w zagrodzie wiejskiej oraz degustację miodów przygotowaną przez bartnika. \nDla najmłodszych przygotowano grę terenową o dawnych zawodach.\nUdział w warsztatach wynosi 10 zł.
URL:https://www.lubin.pl/wydarzenie/europejskie-dni-dziedzictwa-2025-plener-rzemieslniczy-park-lesny/2025-09-13/
LOCATION:Park Leśny\, Lubin\, 59-300
END:VEVENT
BEGIN:VEVENT
DTSTART;TZID=Europe/Warsaw:20250913T190000
DTEND;TZID=Europe/Warsaw:20250913T213000
DTSTAMP:20260421T132642
CREATED:20250417T120525Z
LAST-MODIFIED:20250417T120525Z
UID:10000807-1757790000-1757799000@www.lubin.pl
SUMMARY:Led-Zeppelin Show by Zeppelinians – koncert
DESCRIPTION:Koncert z muzyką legendarnej grupy LED ZEPPELIN w wykonaniu zespołu Zeppelinians\, który jest obecnie uznawany za jeden z najlepszych tego typu w Europie. Zeppelinians powstał z miłości do muzyki LED ZEPPELIN. Założony w 2016 r. przez fanów oraz profesjonalnych muzyków. To czterech wyśmienitych instrumentalistów oraz zjawiskowy wokalista\, którym jest Maksymilian Kwapień (finalista 9. edycji The Voice of Poland). \nDziałalność zespołu została dostrzeżona m. in. przez jednego z najbardziej znanych i najdłużej pracujących redaktorów Polskiego Radia Piotra Kaczkowskiego\, za sprawą którego można było usłyszeć utwory LED ZEPPELIN w wykonaniu Zeppelinians na antenie Radiowej Trójki oraz Radia 3/5/7. Zespół można było również usłyszeć na antenie Polskiego Radia Gdańsk\, Radia Opole\, Radia Sygnały oraz w innych rozgłośniach radiowych. \nBilety dostępne w kasie MUZY oraz TUTAJ
URL:https://www.lubin.pl/wydarzenie/led-zeppelin-show-by-zeppelinians-koncert/
LOCATION:Centrum Kultury „Muza” w Lubinie\, ul. Armii Krajowej 1\, Lubin\, 59-300
ORGANIZER;CN="Centrum Kultury 'Muza' w Lubinie":MAILTO:sekretariat@ckmuza.pl
END:VEVENT
END:VCALENDAR