BEGIN:VCALENDAR
VERSION:2.0
PRODID:-//Lubin - Portal Miasta - ECPv6.10.2//NONSGML v1.0//EN
CALSCALE:GREGORIAN
METHOD:PUBLISH
X-ORIGINAL-URL:https://www.lubin.pl
X-WR-CALDESC:Wydarzenia dla Lubin - Portal Miasta
REFRESH-INTERVAL;VALUE=DURATION:PT1H
X-Robots-Tag:noindex
X-PUBLISHED-TTL:PT1H
BEGIN:VTIMEZONE
TZID:Europe/Warsaw
BEGIN:DAYLIGHT
TZOFFSETFROM:+0100
TZOFFSETTO:+0200
TZNAME:CEST
DTSTART:20250330T010000
END:DAYLIGHT
BEGIN:STANDARD
TZOFFSETFROM:+0200
TZOFFSETTO:+0100
TZNAME:CET
DTSTART:20251026T010000
END:STANDARD
END:VTIMEZONE
BEGIN:VEVENT
DTSTART;TZID=Europe/Warsaw:20250910T203000
DTEND;TZID=Europe/Warsaw:20250910T220000
DTSTAMP:20260421T132604
CREATED:20250910T090006Z
LAST-MODIFIED:20250910T090006Z
UID:10000995-1757536200-1757541600@www.lubin.pl
SUMMARY:MKS Zagłębie Lubin vs Piotrcovia Piotrków Trybunalski
DESCRIPTION:KGHM Zagłębie Lubin w 3. serii podejmować będzie Piotrcovię. Naprzeciw siebie staną zespoły\, które w pierwszych dwóch meczach odniosły po dwa zwycięstwa. \nMiedziowe po zdobyciu Superpucharu Polski zaczęły ligowe zmagania z przytupem. Lubinianki pewnie pokonały zespoły z Koszalina i Gliwic i obecnie plasują się na pierwszym miejscu w tabeli. \nDwa zwycięstwa ma na swoim koncie także Piotrcovia. Rywalki KGHM Zagłębia pokonały kolejno drużyny Galiczanki Lwów oraz Enea Gniezno. \nKup bilet TUTAJ!
URL:https://www.lubin.pl/wydarzenie/mks-zaglebie-lubin-vs-piotrcovia-piotrkow-trybunalski/
LOCATION:Hala Widowiskowo – Sportowa RCS w Lubinie\, Odrodzenia 28b\, Lubin\, 59-300
END:VEVENT
END:VCALENDAR