BEGIN:VCALENDAR
VERSION:2.0
PRODID:-//Lubin - Portal Miasta - ECPv6.10.2//NONSGML v1.0//EN
CALSCALE:GREGORIAN
METHOD:PUBLISH
X-WR-CALNAME:Lubin - Portal Miasta
X-ORIGINAL-URL:https://www.lubin.pl
X-WR-CALDESC:Wydarzenia dla Lubin - Portal Miasta
REFRESH-INTERVAL;VALUE=DURATION:PT1H
X-Robots-Tag:noindex
X-PUBLISHED-TTL:PT1H
BEGIN:VTIMEZONE
TZID:Europe/Warsaw
BEGIN:DAYLIGHT
TZOFFSETFROM:+0100
TZOFFSETTO:+0200
TZNAME:CEST
DTSTART:20250330T010000
END:DAYLIGHT
BEGIN:STANDARD
TZOFFSETFROM:+0200
TZOFFSETTO:+0100
TZNAME:CET
DTSTART:20251026T010000
END:STANDARD
END:VTIMEZONE
BEGIN:VEVENT
DTSTART;TZID=Europe/Warsaw:20250816T090000
DTEND;TZID=Europe/Warsaw:20250816T210000
DTSTAMP:20260419T232325
CREATED:20250808T101834Z
LAST-MODIFIED:20250808T101834Z
UID:10000972-1755334800-1755378000@www.lubin.pl
SUMMARY:Memoriał im. Henryka Kruglińskiego || MKS Zagłębie Lubin
DESCRIPTION:W turnieju w Lubinie\, oprócz gospodyń KGHM MKS Zagłębia Lubin\, wystąpią także inni przedstawiciele ORLEN Superligi Kobiet KPR Kobierzyce i MKS Piotrcovia Piotrków Trybunalski. Stawkę uzupełni czeski Banik Most. \nZespoły rywalizować będą w półfinałach\, których zwycięzcy zagrają o pierwsze\, a przegrani o trzecie miejsce. Mecze rozgrywane będą 2×25 min. \n16.08.2024 (sobota) \nGodz. 9:00 KGHM MKS Zagłębie Lubin – Piotrcovia \nGodz. 11:00 KPR Kobierzyce – DHK Banik Most \nGodz. 17:00 mecz o 3. Miejsce \nGodz. 19:00 Finał \n 
URL:https://www.lubin.pl/wydarzenie/memorial-im-henryka-kruglinskiego-mks-zaglebie-lubin/
LOCATION:Hala Widowiskowo – Sportowa RCS w Lubinie\, Odrodzenia 28b\, Lubin\, 59-300
END:VEVENT
BEGIN:VEVENT
DTSTART;TZID=Europe/Warsaw:20250816T150000
DTEND;TZID=Europe/Warsaw:20250816T220000
DTSTAMP:20260419T232325
CREATED:20250704T122044Z
LAST-MODIFIED:20250808T095340Z
UID:10000899-1755356400-1755381600@www.lubin.pl
SUMMARY:EkoKino || ZOO Lubin
DESCRIPTION:Już po raz czwarty w połowie sierpnia ZOO Lubin zaprasza na kino pod chmurką\, a dokładnie pod mamutem! \n\n\n„Ekokino – maraton filmów przyrodniczych” to bezpłatne wydarzenie\, gdzie podczas dwóch dni wyświetlane są filmy o tematyce przyrodniczej\, zarówno dla najmłodszych\, jak i starszych widzów. \n\n\nPartnerami wydarzenia są: Miasto Lubin\, Lasy Państwowe\, Leśne Studio Filmowej\, Ośrodek Rozwojowo-Wdrożeniowy Lasów Państwowych w Bedoniu. Wydarzenie od tego roku zostało objęte patronatem honorowym Dolnośląskiej Organizacji Turystycznej. \n\nMiejsce wydarzenia: polana przy mamucie\nWstęp BEZPŁATNY! \nWięcej informacjiTUTAJ
URL:https://www.lubin.pl/wydarzenie/ekokino-zoo-lubin/2025-08-16/
LOCATION:ZOO Lubin\, ul. Ignacego Paderewskiego 99\, Lubin\, 59-300
END:VEVENT
BEGIN:VEVENT
DTSTART;TZID=Europe/Warsaw:20250816T200000
DTEND;TZID=Europe/Warsaw:20250816T230000
DTSTAMP:20260419T232325
CREATED:20250704T121601Z
LAST-MODIFIED:20250808T095208Z
UID:10000897-1755374400-1755385200@www.lubin.pl
SUMMARY:Noc Dinozaurów || ZOO Lubin
DESCRIPTION:Ogród Zoologiczny w Lubinie zaprasza do udziału w Nocy Dinozaurów 2025 w dniach 16-17 sierpnia 2025! \n\nKażdego wieczoru oświetlonych będzie 5 figur na Szlaku Zwierząt Wymarłych – figura tyranozaura (codziennie) oraz każdego wieczoru 4 inne figury. \n\nWydarzeniem towarzyszącym jest „EkoKino – maraton filmów przyrodniczych” w kinie pod mamutem \nWięcej informacji TUTAJ
URL:https://www.lubin.pl/wydarzenie/noc-dinozaurow-zoo-lubin/2025-08-16/
LOCATION:ZOO Lubin\, ul. Ignacego Paderewskiego 99\, Lubin\, 59-300
END:VEVENT
END:VCALENDAR