BEGIN:VCALENDAR
VERSION:2.0
PRODID:-//Lubin - Portal Miasta - ECPv6.10.2//NONSGML v1.0//EN
CALSCALE:GREGORIAN
METHOD:PUBLISH
X-ORIGINAL-URL:https://www.lubin.pl
X-WR-CALDESC:Wydarzenia dla Lubin - Portal Miasta
REFRESH-INTERVAL;VALUE=DURATION:PT1H
X-Robots-Tag:noindex
X-PUBLISHED-TTL:PT1H
BEGIN:VTIMEZONE
TZID:Europe/Warsaw
BEGIN:DAYLIGHT
TZOFFSETFROM:+0100
TZOFFSETTO:+0200
TZNAME:CEST
DTSTART:20250330T010000
END:DAYLIGHT
BEGIN:STANDARD
TZOFFSETFROM:+0200
TZOFFSETTO:+0100
TZNAME:CET
DTSTART:20251026T010000
END:STANDARD
END:VTIMEZONE
BEGIN:VEVENT
DTSTART;TZID=Europe/Warsaw:20250814T180000
DTEND;TZID=Europe/Warsaw:20250814T235900
DTSTAMP:20260419T200109
CREATED:20250704T121045Z
LAST-MODIFIED:20250808T095449Z
UID:10000896-1755194400-1755215940@www.lubin.pl
SUMMARY:ZOObozowisko || ZOO Lubin
DESCRIPTION:ZOO Lubin zaprasza na wspólne nocowanie pod gołym niebem w obecności… dinozaurów. \nAkcja skierowana do młodych poszukiwaczy przygód\, którzy posiadają własny namiot oraz nie boją się zamienić swojego wygodnego łóżka na zieloną trawkę. Odkurzcie namioty lub pożyczcie go od rodziny/znajomych! \nNa wydarzenie obowiązują zapisy.\nLimit namiotów oraz osób ograniczony! \nWAŻNE\n– każdy uczestnik musi posiadać własny namiot\n– minimalny wiek uczestnika to 6 lat. Uczestnicy niepełnoletni mogą wziąć udział w wydarzeniu wyłącznie z opiekunem. Pod opieką opiekuna może być maksymalnie 3 dzieci w wieku powyżej 6 lat (czyli łącznie 4 osoby pod namiotem) \nZAPISY JUŻ ZAMKNIĘTE \nWięcej informacji TUTAJ
URL:https://www.lubin.pl/wydarzenie/zoobozowisko-zoo-lubin/
LOCATION:ZOO Lubin\, ul. Ignacego Paderewskiego 99\, Lubin\, 59-300
END:VEVENT
END:VCALENDAR