BEGIN:VCALENDAR
VERSION:2.0
PRODID:-//Lubin - Portal Miasta - ECPv6.10.2//NONSGML v1.0//EN
CALSCALE:GREGORIAN
METHOD:PUBLISH
X-ORIGINAL-URL:https://www.lubin.pl
X-WR-CALDESC:Wydarzenia dla Lubin - Portal Miasta
REFRESH-INTERVAL;VALUE=DURATION:PT1H
X-Robots-Tag:noindex
X-PUBLISHED-TTL:PT1H
BEGIN:VTIMEZONE
TZID:Europe/Warsaw
BEGIN:DAYLIGHT
TZOFFSETFROM:+0100
TZOFFSETTO:+0200
TZNAME:CEST
DTSTART:20250330T010000
END:DAYLIGHT
BEGIN:STANDARD
TZOFFSETFROM:+0200
TZOFFSETTO:+0100
TZNAME:CET
DTSTART:20251026T010000
END:STANDARD
END:VTIMEZONE
BEGIN:VEVENT
DTSTART;TZID=Europe/Warsaw:20250725T110000
DTEND;TZID=Europe/Warsaw:20250725T165000
DTSTAMP:20260420T030359
CREATED:20250724T072401Z
LAST-MODIFIED:20250724T072401Z
UID:10000916-1753441200-1753462200@www.lubin.pl
SUMMARY:Wakacje w ZOO
DESCRIPTION:Ogród Zoologiczny w Lubinie zaprasza do wzięcia udziału w wakacyjnym cyklu spotkań: Wakacje w ZOO. Edycja lipcowa odbędzie się w dniach 21-25 lipca 2025 w dwóch blokach godzinowych – przedpołudniowym i popołudniowym. \nW tym roku spotkania odbędą się w nowej strefie znajdującej się w siedzibie Ogrodu – w Małym Centrum Nauki SOWA. Aby skorzystać ze Strefy SOWA w ramach Wakacji w ZOO należy wcześniej zapisać się telefonicznie na wybrany dzień i godzinę. \n\nNie obowiązują ograniczenia wiekowe –  \nbezpłatny udział mogą wziąć wszyscy chętni\, jednak dzieci mogą uczestniczyć wyłącznie pod opieką dorosłych. \nGodziny wejść: 11.00\, 12.00\, 15.00 lub 16.00\nczas wizyty: 50 minut\nzapisy: telefoniczne\, tel. 734 170 991\nudział: bezpłatny\nlimit miejsc: 30 osób na każdą godzinę \nStrefa SOWA w Lubinie – to miejsce\, gdzie nauka spotyka zachwyt \nW sercu Lubina\, w Ogrodzie Zoologicznym\, powstało wyjątkowe miejsce! Tu nauka przestaje być szkolnym obowiązkiem\, a staje się fascynującą podróżą pełną eksperymentów\, zabawy i odkryć. SOWA w Lubinie – lokalne centrum nauki działa we współpracy z Centrum Nauki Kopernik i Ministerstwem Nauki i Szkolnictwa Wyższego. To przestrzeń stworzona z myślą o dzieciach\, młodzieży i dorosłych\, chcących zrozumieć świat poprzez działanie. \nSercem Strefy SOWA jest interaktywna wystawa – kilkanaście stacji badawczych\, przy których odwiedzający eksperymentują\, obserwują i… po prostu dobrze się bawią. Sprawdzają jakie kolory może mieć cień\, odkrywają tajniki animacji poklatkowej i trzeciej zasady dynamiki. Można posłuchać dźwięków nie uchem\, a łokciem lub sprawdzić czy mamy pamięć lepszą niż szympans. Nie ma wyznaczonej trasy zwiedzania ani narzuconego czasu – każdy zwiedza tak\, jak lubi. Zadaje pytania i szuka odpowiedzi – samodzielnie lub w grupie\, intuicyjnie i kreatywnie. \nStrefa Odkrywania\, Wyobraźni i Aktywności w Lubinie to coś więcej niż wystawa. To zaproszenie do wspólnego doświadczania – z dziećmi\, rodzicami\, dziadkami\, nauczycielami i przyjaciółmi. To przestrzeń\, w której nauka przestaje być teorią z podręczników\, a staje się opowieścią o świecie – żywą\, wciągającą\, pełną mądrej rozrywki i dobrej energii. Działanie Strefy SOWA opiera się na bliskiej współpracy z Centrum Nauki Kopernik\, które zapewnia programowe i promocyjne wsparcie lokalnym centrom nauki. Lubin właśnie dołączył do ogólnopolskiej sieci SOWA – dynamicznej wspólnoty\, która dziś liczy już 44 placówki\, a do końca roku będzie ich aż 50. Razem tworzymy miejsca\, które budzą ciekawość\, prowokują pytania i zachęcają do samodzielnego odkrywania świata. \nInicjatywa „SOWA – Strefa Odkrywania\, Wyobraźni i Aktywności” finansowana jest w ramach dotacji Ministra Nauki i Szkolnictwa Wyższego\, na podstawie umowy Nr 1/CNK-SOWA/2021 z dnia 2 marca 2021 r. w sprawie uruchomienia przez Centrum Nauki Kopernik 50 lokalnych Stref Odkrywania\, Wyobraźni i Aktywności (SOWA) w latach 2021-2028.
URL:https://www.lubin.pl/wydarzenie/wakacje-w-zoo-2/2025-07-25/
LOCATION:ZOO Lubin\, ul. Ignacego Paderewskiego 99\, Lubin\, 59-300
END:VEVENT
BEGIN:VEVENT
DTSTART;TZID=Europe/Warsaw:20250725T200000
DTEND;TZID=Europe/Warsaw:20250725T223000
DTSTAMP:20260420T030359
CREATED:20250704T095433Z
LAST-MODIFIED:20250704T095433Z
UID:10000894-1753473600-1753482600@www.lubin.pl
SUMMARY:Wieczorek z Narodową: Aleja Gwiazd
DESCRIPTION:Narodowa Orkiestra Dęta zaprasza na kolejny Wieczorek z Narodową – tym razem czeka nas sentymentalna podróż przez największe polskie przeboje sprzed lat. \nW koncercie zatytułowanym „Aleja Gwiazd” wystąpią goście Narodowej Orkiestry Dętej:\nKarolina Kram-Chojnacka (śpiew) wraz z zespołem w składzie:\nSeweryn Graniasty – saksofon\nMarcin Sawicki – piano\nKrzysztof Jarosz – gitara\nMateusz Woźniak – gitara basowa\nGniewomir Tomczyk – perkusja \nUsłyszymy takie hity jak „Aleja gwiazd”\, „Co mi Panie dasz”\, „Tyle słońca w całym mieście” i wiele innych piosenek\, które od lat królują w sercach słuchaczy. Czeka nas wieczór pod gołym niebem\, wśród leżaków\, świateł i dźwięków\, które przeniosą nas w czasie. \n\nBilety w cenie 30 zł dostępne są TUTAJ oraz w sekretariacie Narodowej Orkiestry Dętej.
URL:https://www.lubin.pl/wydarzenie/wieczorek-z-narodowa-aleja-gwiazd/
LOCATION:dziedziniec NOD\, ul. Mikołaja Pruzi 7 i 9\, Lubin\, 59-300
END:VEVENT
END:VCALENDAR