BEGIN:VCALENDAR
VERSION:2.0
PRODID:-//Lubin - Portal Miasta - ECPv6.10.2//NONSGML v1.0//EN
CALSCALE:GREGORIAN
METHOD:PUBLISH
X-ORIGINAL-URL:https://www.lubin.pl
X-WR-CALDESC:Wydarzenia dla Lubin - Portal Miasta
REFRESH-INTERVAL;VALUE=DURATION:PT1H
X-Robots-Tag:noindex
X-PUBLISHED-TTL:PT1H
BEGIN:VTIMEZONE
TZID:Europe/Warsaw
BEGIN:DAYLIGHT
TZOFFSETFROM:+0100
TZOFFSETTO:+0200
TZNAME:CEST
DTSTART:20250330T010000
END:DAYLIGHT
BEGIN:STANDARD
TZOFFSETFROM:+0200
TZOFFSETTO:+0100
TZNAME:CET
DTSTART:20251026T010000
END:STANDARD
END:VTIMEZONE
BEGIN:VEVENT
DTSTART;TZID=Europe/Warsaw:20250713T150000
DTEND;TZID=Europe/Warsaw:20250713T160000
DTSTAMP:20260420T112621
CREATED:20250513T132753Z
LAST-MODIFIED:20250513T132812Z
UID:10000831-1752418800-1752422400@www.lubin.pl
SUMMARY:Śmiesznoludki – Teatr Dzieci Miłość || Altana w Parku im. J. Piłsudskiego
DESCRIPTION:Wakacyjne spotkania teatralne w altanie to świetny pomysł na kreatywne spędzenie czasu ze swoim dzieckiem!  \nŚMIESZNOLUDKI to stworki większe od krasnoludków — na tyle\, aby dzieci mogły je zauważyć i zaprzyjaźnić się z nimi. ŚMIESZNOLUDKI uwielbiają podróżować i odkrywać nowe krainy\, a przede wszystkim istoty tam żyjące. Stworki\, pomimo różnic językowych i obyczajowych\, zaprzyjaźniają się podczas wspólnej zabawy\, do której wciągają również dzieciaki. Będzie wesoło – przybywajcie! \nTEATR DZIECI MIŁOŚĆ tworzą głównie zawodowi aktorzy – lalkarze: Katarzyna Pawłowska i Maciej Adamczyk\, znani także ze spektakli dla dorosłych jako Teatr Porywacze Ciał. Tworzą scenariusze i reżyserują swoje autorskie przedstawienia dla dzieci w różnym wieku\, podczas których m. in. zapraszają młodych widzów do zabawy czy współtworzenia na scenie. \nSpektakl dla dzieci od 3 roku życia \nScenariusz i reżyseria: Katarzyna Pawłowska i Maciej Adamczyk\nMuzyka: Blanka Kęstowicz\nObsada: Katarzyna Pawłowska\, Iga Weinkauf\, Maciej Adamczyk\, Paweł Federowicz \nWstęp wolny \nUWAGA! W razie niepogody spektakl zostanie przeniesiony do dużej sali w CK MUZA.
URL:https://www.lubin.pl/wydarzenie/smiesznoludki-teatr-dzieci-milosc-altana-w-parku-im-j-pilsudskiego/
LOCATION:Altana w Parku im. J. Piłsudskiego\, Lubin\, 59-300
ORGANIZER;CN="Centrum Kultury 'Muza' w Lubinie":MAILTO:sekretariat@ckmuza.pl
END:VEVENT
BEGIN:VEVENT
DTSTART;TZID=Europe/Warsaw:20250713T180000
DTEND;TZID=Europe/Warsaw:20250713T190000
DTSTAMP:20260420T112621
CREATED:20250516T103413Z
LAST-MODIFIED:20250516T103413Z
UID:10000851-1752429600-1752433200@www.lubin.pl
SUMMARY:Koncert "Tribute to Leonard Cohen" – Yanistan || Muzyczna Altana
DESCRIPTION:Centrum Kultury „Muza” zaprasza na kolejny koncert z cyklu Letnie koncerty w Muzycznej Altanie. \nLeonard Cohen – wybitny śpiewający poeta kanadyjski inspiruje wiele kolejnych pokoleń poetów\, bardów i twórców na całym świecie. Również w naszym kraju jest bardzo popularnym\, cenionym i lubianym artystą. Po jego pieśni sięgają najwięksi polscy pieśniarze\, bardowie\, śpiewający aktorzy i piosenkarze. \nPodczas koncertu w Altanie wystąpią wrocławscy muzycy tworzący zespół Yanistan – uznani pieśniarze: Janusz Kasprowicz – lider grupy Projekt Volodia\, mający za sobą setki koncertów na największych scenach w kraju\, wydanie ośmiu albumów oraz współpracę z wieloma uznanym artystami; Stanisław Marinczenko – „wielowymiarowy” muzyk\, multiinstrumentalista (gitary\, pianino\, akordeon\, mandolina\, harfa)\, aktywnie udzielający się w wielu gatunkach muzycznych\, poza piosenką literacką można usłyszeć jego dźwięki w klimatach irlandzkich i elektrogotyku oraz doskonały muzyk Bogdan Bińczak\, wywodzący się z jazzu tradycyjnego\, odnajdujący się w doskonale wielu gatunkach muzycznych. Wspiera muzyków grając na instrumentach perkusyjnych\, w melodyce\, a także w chórkach i wielogłosowych partiach wokalnych. \n\nAltana w Parku im. J. Piłsudskiego (za CK MUZA)\, wstęp wolny
URL:https://www.lubin.pl/wydarzenie/koncert-tribute-to-leonard-cohen-yanistan-muzyczna-altana/
LOCATION:Altana w Parku im. J. Piłsudskiego\, Lubin\, 59-300
ORGANIZER;CN="Centrum Kultury 'Muza' w Lubinie":MAILTO:sekretariat@ckmuza.pl
END:VEVENT
END:VCALENDAR