BEGIN:VCALENDAR
VERSION:2.0
PRODID:-//Lubin - Portal Miasta - ECPv6.10.2//NONSGML v1.0//EN
CALSCALE:GREGORIAN
METHOD:PUBLISH
X-ORIGINAL-URL:https://www.lubin.pl
X-WR-CALDESC:Wydarzenia dla Lubin - Portal Miasta
REFRESH-INTERVAL;VALUE=DURATION:PT1H
X-Robots-Tag:noindex
X-PUBLISHED-TTL:PT1H
BEGIN:VTIMEZONE
TZID:Europe/Warsaw
BEGIN:DAYLIGHT
TZOFFSETFROM:+0100
TZOFFSETTO:+0200
TZNAME:CEST
DTSTART:20250330T010000
END:DAYLIGHT
BEGIN:STANDARD
TZOFFSETFROM:+0200
TZOFFSETTO:+0100
TZNAME:CET
DTSTART:20251026T010000
END:STANDARD
END:VTIMEZONE
BEGIN:VEVENT
DTSTART;TZID=Europe/Warsaw:20250703T200000
DTEND;TZID=Europe/Warsaw:20250703T213000
DTSTAMP:20260420T130322
CREATED:20250621T070624Z
LAST-MODIFIED:20250621T070624Z
UID:10000890-1751572800-1751578200@www.lubin.pl
SUMMARY:„Faust” (1926) || Festiwal Kina Organowego w Lubinie
DESCRIPTION:Festial Kina Organowego w Lubinie to podróż do czasów\, gdy kino mówiło obrazem\, a emocje wygrywała muzyka na żywo. Przez trzy wieczory\, w magicznej przestrzeni kościoła\, królewskie organy Martina Benjamina Liebeherra zabrzmią w rytmie największych arcydzieł kina niemego. Zapraszamy na wyjątkowe seanse z muzyką na żywo\, słowem wstępnym i atmosferą dawnych lat. \n„Faust” (1926)\, reż. Friedrich Wilhelm Murnau\nMuzyka na żywo: Wolfgang Seifen\nSłowo wstępne: Ula Urzędowska \nNa otwarcie festiwalu – monumentalna opowieść o walce światła z ciemnością. „Faust” to perła niemieckiego ekspresjonizmu\, film z nowatorskimi efektami specjalnymi\, które do dziś budzą podziw. Reżyser Friedrich Murnau – laureat Oscara i twórca „Nosferatu” – stworzył dzieło\, które zachwyca rozmachem i mrokiem. W roli Mefista wystąpił Emil Jannings – pierwszy zdobywca Oscara dla najlepszego aktora.
URL:https://www.lubin.pl/wydarzenie/faust-1926-festiwal-kina-organowego-w-lubinie/
LOCATION:Kościół pw. Matki Bożej Częstochowskiej w Lubinie\, ul. Hugo Kołłątaja 4\, Lubin\, 59-300\, Poland
END:VEVENT
END:VCALENDAR