BEGIN:VCALENDAR
VERSION:2.0
PRODID:-//Lubin - Portal Miasta - ECPv6.10.2//NONSGML v1.0//EN
CALSCALE:GREGORIAN
METHOD:PUBLISH
X-WR-CALNAME:Lubin - Portal Miasta
X-ORIGINAL-URL:https://www.lubin.pl
X-WR-CALDESC:Wydarzenia dla Lubin - Portal Miasta
REFRESH-INTERVAL;VALUE=DURATION:PT1H
X-Robots-Tag:noindex
X-PUBLISHED-TTL:PT1H
BEGIN:VTIMEZONE
TZID:Europe/Warsaw
BEGIN:DAYLIGHT
TZOFFSETFROM:+0100
TZOFFSETTO:+0200
TZNAME:CEST
DTSTART:20250330T010000
END:DAYLIGHT
BEGIN:STANDARD
TZOFFSETFROM:+0200
TZOFFSETTO:+0100
TZNAME:CET
DTSTART:20251026T010000
END:STANDARD
END:VTIMEZONE
BEGIN:VEVENT
DTSTART;TZID=Europe/Warsaw:20250621T080000
DTEND;TZID=Europe/Warsaw:20250621T170000
DTSTAMP:20260420T180014
CREATED:20250516T104413Z
LAST-MODIFIED:20250618T090710Z
UID:10000886-1750492800-1750525200@www.lubin.pl
SUMMARY:Kości zostały rzucone\, czyli 27. lubiński weekend z grami bez prądu || CK Muza
DESCRIPTION:Centrum Kultury „Muza” i Lubiński Klub Fantastyki „Ostatnie Przymierze” zapraszają na kolejny lubiński weekend z grami bez prądu. \nNa uczestników czekać będą gry planszowe\, bitewne\, RPG i karciane. Do dyspozycji będzie ponad 300 nowoczesnych gier planszowych\, wśród których każdy znajdzie coś dla siebie\, niezależnie od wieku i doświadczenia. W razie wątpliwości członkowie Lubińskiego Klubu Fantastyki „Ostatnie Przymierze” wytłumaczą zasady i pomogą wybrać grę. Członkowie LKF aktywnie grają m. in. w WH40k\, Kill Team\, Conquest\, Bolt Action czy X-Winga. \nWięcej szczegółów dotyczących imprezy szukaj TUTAJ
URL:https://www.lubin.pl/wydarzenie/kosci-zostaly-rzucone-czyli-27-lubinski-weekend-z-grami-bez-pradu-ck-muza/2025-06-21/
LOCATION:Centrum Kultury „Muza” w Lubinie\, ul. Armii Krajowej 1\, Lubin\, 59-300
END:VEVENT
BEGIN:VEVENT
DTSTART;TZID=Europe/Warsaw:20250621T190000
DTEND;TZID=Europe/Warsaw:20250621T235900
DTSTAMP:20260420T180014
CREATED:20250521T065651Z
LAST-MODIFIED:20250521T065651Z
UID:10000855-1750532400-1750550340@www.lubin.pl
SUMMARY:FEN 59
DESCRIPTION:21 czerwca w Lubinie odbędzie się gala FEN 59. Organizacja podczas tego wydarzenia wyłoni aż 3 swoich mistrzów. \nW walce wieczoru Tomasz Ostrowski (5-1\, 3 KO\, 2 SUB) przystąpi do pierwszej obrony mistrzowskiego tytułu – naprzeciwko niego w klatce stanie bohater lokalnej publiczności\, Mateusz Janur (9-6\, 6 KO\, 1 SUB). W poprzedzającym to starcie pojedynku największa gwiazda FEN\, Damian Rzepecki (8-0\, 3 KO\, 5 SUB)\, skrzyżuje rękawice z Patrykiem Duńskim (12-6-1\, 6 KO\, 2 SUB). \nDo przejęcia tronu mistrzowskiego w kategorii piórkowej dojdzie również w trzecim starciu. Rozpędzony serią zwycięstw lubinianin Gracjan Miś (5-2\, 4 KO) podejmie Miłosza Kruka (5-1\, 2 KO\, 1 SUB). Będzie to rewanż za ich pojedynek z gali FEN 56.
URL:https://www.lubin.pl/wydarzenie/fen-59/
LOCATION:Hala Widowiskowo – Sportowa RCS w Lubinie\, Odrodzenia 28b\, Lubin\, 59-300
END:VEVENT
END:VCALENDAR