BEGIN:VCALENDAR
VERSION:2.0
PRODID:-//Lubin - Portal Miasta - ECPv6.10.2//NONSGML v1.0//EN
CALSCALE:GREGORIAN
METHOD:PUBLISH
X-ORIGINAL-URL:https://www.lubin.pl
X-WR-CALDESC:Wydarzenia dla Lubin - Portal Miasta
REFRESH-INTERVAL;VALUE=DURATION:PT1H
X-Robots-Tag:noindex
X-PUBLISHED-TTL:PT1H
BEGIN:VTIMEZONE
TZID:Europe/Warsaw
BEGIN:DAYLIGHT
TZOFFSETFROM:+0100
TZOFFSETTO:+0200
TZNAME:CEST
DTSTART:20250330T010000
END:DAYLIGHT
BEGIN:STANDARD
TZOFFSETFROM:+0200
TZOFFSETTO:+0100
TZNAME:CET
DTSTART:20251026T010000
END:STANDARD
END:VTIMEZONE
BEGIN:VEVENT
DTSTART;TZID=Europe/Warsaw:20250617T180000
DTEND;TZID=Europe/Warsaw:20250617T200000
DTSTAMP:20260420T180020
CREATED:20250612T082256Z
LAST-MODIFIED:20250612T082256Z
UID:10000875-1750183200-1750190400@www.lubin.pl
SUMMARY:Na głosy – koncert chóru dziecięco-młodzieżowego CK MUZA i chóru Concordia
DESCRIPTION:Koncert „Na głosy” to wyjątkowe wydarzenie wieńczące sezon artystyczny chórów działających przy CK MUZA. Na scenie zaprezentują się: chór dziecięcy\, chór młodzieżowy oraz chór dorosły Concordia. W programie koncertu znajdą się utwory z różnych gatunków – od muzyki ludowej\, przez popularne piosenki rozrywkowe\, aż po znane i lubiane dziecięce przeboje. \nPodczas występu artystom akompaniować będzie Mikołaj Potoczak. \nZapraszamy 17 czerwca 2025 (wtorek)\, godz. 18:00\nRestauracja MUZA\, wstęp wolny
URL:https://www.lubin.pl/wydarzenie/na-glosy-koncert-choru-dziecieco-mlodziezowego-ck-muza-i-choru-concordia/
LOCATION:Centrum Kultury „Muza” w Lubinie\, ul. Armii Krajowej 1\, Lubin\, 59-300
ORGANIZER;CN="Centrum Kultury 'Muza' w Lubinie":MAILTO:sekretariat@ckmuza.pl
END:VEVENT
END:VCALENDAR