BEGIN:VCALENDAR
VERSION:2.0
PRODID:-//Lubin - Portal Miasta - ECPv6.10.2//NONSGML v1.0//EN
CALSCALE:GREGORIAN
METHOD:PUBLISH
X-ORIGINAL-URL:https://www.lubin.pl
X-WR-CALDESC:Wydarzenia dla Lubin - Portal Miasta
REFRESH-INTERVAL;VALUE=DURATION:PT1H
X-Robots-Tag:noindex
X-PUBLISHED-TTL:PT1H
BEGIN:VTIMEZONE
TZID:Europe/Warsaw
BEGIN:DAYLIGHT
TZOFFSETFROM:+0100
TZOFFSETTO:+0200
TZNAME:CEST
DTSTART:20250330T010000
END:DAYLIGHT
BEGIN:STANDARD
TZOFFSETFROM:+0200
TZOFFSETTO:+0100
TZNAME:CET
DTSTART:20251026T010000
END:STANDARD
END:VTIMEZONE
BEGIN:VEVENT
DTSTART;TZID=Europe/Warsaw:20250616T170000
DTEND;TZID=Europe/Warsaw:20250616T190000
DTSTAMP:20260420T180020
CREATED:20250522T092147Z
LAST-MODIFIED:20250522T092147Z
UID:10000858-1750093200-1750100400@www.lubin.pl
SUMMARY:Od klasyki do rocka – koncert młodych adeptów muzyki CAE „ZG-Muzyk” || CK Muza
DESCRIPTION:To będzie wieczór pełen kontrastów\, talentów i pasji. W programie królować będzie perkusja i mocne uderzenie gitar elektrycznych\, które dostarczą solidnej dawki energii. Nie zabraknie jednak spokojniejszych momentów – usłyszymy nastrojowe prezentacje wokalne i delikatne dźwięki gitary klasycznej. \nZapraszamy miłośników muzyki do wspólnego świętowania – podsumowania tegorocznej pracy artystycznej CAE „ZG-Muzyk”. \nmała sala\, bilety: 30 zł
URL:https://www.lubin.pl/wydarzenie/od-klasyki-do-rocka-koncert-mlodych-adeptow-muzyki-cae-zg-muzyk-ck-muza/
LOCATION:Centrum Kultury „Muza” w Lubinie\, ul. Armii Krajowej 1\, Lubin\, 59-300
END:VEVENT
END:VCALENDAR