BEGIN:VCALENDAR
VERSION:2.0
PRODID:-//Lubin - Portal Miasta - ECPv6.10.2//NONSGML v1.0//EN
CALSCALE:GREGORIAN
METHOD:PUBLISH
X-ORIGINAL-URL:https://www.lubin.pl
X-WR-CALDESC:Wydarzenia dla Lubin - Portal Miasta
REFRESH-INTERVAL;VALUE=DURATION:PT1H
X-Robots-Tag:noindex
X-PUBLISHED-TTL:PT1H
BEGIN:VTIMEZONE
TZID:Europe/Warsaw
BEGIN:DAYLIGHT
TZOFFSETFROM:+0100
TZOFFSETTO:+0200
TZNAME:CEST
DTSTART:20250330T010000
END:DAYLIGHT
BEGIN:STANDARD
TZOFFSETFROM:+0200
TZOFFSETTO:+0100
TZNAME:CET
DTSTART:20251026T010000
END:STANDARD
END:VTIMEZONE
BEGIN:VEVENT
DTSTART;TZID=Europe/Warsaw:20251115T183000
DTEND;TZID=Europe/Warsaw:20251115T200000
DTSTAMP:20260420T203415
CREATED:20251103T110549Z
LAST-MODIFIED:20251114T094856Z
UID:10001024-1763231400-1763236800@www.lubin.pl
SUMMARY:EHF European League - III runda kwalifikacji: KGHM MKS Zagłębie Lubin vs. PGE MKS El-Volt Lublin
DESCRIPTION:Przed KGHM MKS Zagłębie Lubin druga\, rozstrzygająca odsłona „świętej wojny” w polskim szczypiorniaku na europejskich parkietach. Jako mistrzynie Polski\, KGHM MKS Zagłębie Lubin będą bronić pięciobramkowej zaliczki z pierwszego meczu przeciwko PGE El-Volt Lublin. Stawką dwumeczu jest awans do fazy grupowej EHF European League\, która rozpocznie się w styczniu. \nKup bilet TUTAJ
URL:https://www.lubin.pl/wydarzenie/ehf-european-league-iii-runda-kwalifikacji-kghm-mks-zaglebie-lubin-vs-pge-mks-el-volt-lublin/
LOCATION:Hala Widowiskowo – Sportowa RCS w Lubinie\, Odrodzenia 28b\, Lubin\, 59-300
ATTACH;FMTTYPE=image/jpeg:https://www.lubin.pl/wp-content/uploads/2025/11/1120x720_CuprumArena-LUBLIN.jpg
END:VEVENT
BEGIN:VEVENT
DTSTART;TZID=Europe/Warsaw:20251111T160000
DTEND;TZID=Europe/Warsaw:20251111T180000
DTSTAMP:20260420T203415
CREATED:20251103T091124Z
LAST-MODIFIED:20251103T101744Z
UID:10001020-1762876800-1762884000@www.lubin.pl
SUMMARY:Wspólne śpiewanie pieśni patriotycznych || Hala RCS
DESCRIPTION:Prezydent Miasta Lubina zaprasza na wspólne obchody Narodowego Święta Niepodległości! \n11 listopada spotkajmy się w Lubinie\, by razem uczcić ten wyjątkowy dzień — pełen historii\, wspólnoty i wzruszeń. \n Wspólne śpiewanie tradycyjnie już poprowadzi ks. Mariusz Jeżewicz wraz z Zespołem Muzycznym Salezjańskiego Liceum Ogólnokształcącego\, w towarzystwie przedszkolaków i młodzieży z lubińskich szkół. \nZapraszamy także na uroczyste obchody 11 listopada\, degustację grochówki i bigosu oraz na turniej strzelecki „10 strzałów dla Niepodległej”. \nŚwiętujmy razem — z sercem\, radością i dumą! 
URL:https://www.lubin.pl/wydarzenie/wspolne-spiewanie-piesni-patriotycznych-hala-rcs/
LOCATION:Hala Widowiskowo – Sportowa RCS w Lubinie\, Odrodzenia 28b\, Lubin\, 59-300
END:VEVENT
BEGIN:VEVENT
DTSTART;TZID=Europe/Warsaw:20251111T150000
DTEND;TZID=Europe/Warsaw:20251111T160000
DTSTAMP:20260420T203415
CREATED:20251103T095852Z
LAST-MODIFIED:20251103T101721Z
UID:10001022-1762873200-1762876800@www.lubin.pl
SUMMARY:Degustacja grochówki i bigosu || Hala RCS
DESCRIPTION:Zanim rozpoczniemy wspólne śpiewanie pieśni patriotycznych\, zachęcamy wszystkich mieszkańców Lubina do bezpłatnej degustacji grochówki i bigosu.  \nZapraszamy także na uroczyste obchody 11 listopada oraz na turniej strzelecki „10 strzałów dla Niepodległej”.
URL:https://www.lubin.pl/wydarzenie/degustacja-grochowki-i-bigosu-hala-rcs/
LOCATION:Hala Widowiskowo – Sportowa RCS w Lubinie\, Odrodzenia 28b\, Lubin\, 59-300
END:VEVENT
BEGIN:VEVENT
DTSTART;TZID=Europe/Warsaw:20251031T180000
DTEND;TZID=Europe/Warsaw:20251031T200000
DTSTAMP:20260420T203415
CREATED:20251027T094915Z
LAST-MODIFIED:20251027T105809Z
UID:10001015-1761933600-1761940800@www.lubin.pl
SUMMARY:ORLEN Superliga Kobiet: KGHM MKS Zagłębie Lubin vs. ENERGA Start Elbląg
DESCRIPTION:Już w najbliższy piątek\, 24 października\, w hali RCS w Lubinie czeka nas kolejne sportowe emocje! Panie z KGHM MKS Zagłębie Lubin zmierzą się z drużyną Energa Start Elbląg w walce o kolejne ligowe punkty. \nKUP BILET TUTAJ
URL:https://www.lubin.pl/wydarzenie/orlen-superliga-kobiet-kghm-mks-zaglebie-lubin-vs-energa-start-elblag/
LOCATION:Hala Widowiskowo – Sportowa RCS w Lubinie\, Odrodzenia 28b\, Lubin\, 59-300
END:VEVENT
BEGIN:VEVENT
DTSTART;TZID=Europe/Warsaw:20251026T100000
DTEND;TZID=Europe/Warsaw:20251026T220000
DTSTAMP:20260420T203415
CREATED:20251021T101316Z
LAST-MODIFIED:20251027T084315Z
UID:10001012-1761472800-1761516000@www.lubin.pl
SUMMARY:Mistrzostwa Polski PTT w tańcach standardowych || HALA RCS
DESCRIPTION:W niedzielę\, 26 października\, hala Regionalnego Centrum Sportowego w Lubinie zamieni się w prawdziwą stolicę tańca. Odbędą się tu Mistrzostwa Polski PTT w tańcach standardowych\, które zgromadzą najlepsze pary z całego kraju.  \nUdział weźmie około 300 par z całego kraju. Cała impreza potrwa od godziny 10:00 do 22:00\, a publiczność będzie mogła oglądać zmagania w różnych blokach tanecznych \nWstęp na wydarzenie jest bezpłatny\, jednak na wieczorną galę należy odebrać darmowe zaproszenia w hali RCS. \nLiczba wejściówek jest ograniczona!
URL:https://www.lubin.pl/wydarzenie/mistrzostwa-polski-ptt-w-tancach-standardowych-hala-rcs/
LOCATION:Hala Widowiskowo – Sportowa RCS w Lubinie\, Odrodzenia 28b\, Lubin\, 59-300
END:VEVENT
BEGIN:VEVENT
DTSTART;TZID=Europe/Warsaw:20251024T200000
DTEND;TZID=Europe/Warsaw:20251024T233000
DTSTAMP:20260420T203415
CREATED:20250404T093642Z
LAST-MODIFIED:20250404T093642Z
UID:10000793-1761336000-1761348600@www.lubin.pl
SUMMARY:Lubin Stand-up Festival™ 2025
DESCRIPTION:Już 24 października w Hali Widowiskowo – Sportowej w Lubinie wystąpi specjalnie dla Was czołówka polskich komików. \nNa scenie pojawią się: \n\nKacper Ruciński\nPiotrek Szumowski\nWiolka Walaszczyk\nPaweł Chałupka\nAdam Van Bendler\nBłażej Krajewski\nDarek Gadowski\nCzarek Sikora\nFalcon1\n\nPrzygotuj się na potężną porcję fenomenalnego humoru. \nBilety można kupić TUTAJ
URL:https://www.lubin.pl/wydarzenie/lubin-stand-up-festival-2025/
LOCATION:Hala Widowiskowo – Sportowa RCS w Lubinie\, Odrodzenia 28b\, Lubin\, 59-300
END:VEVENT
BEGIN:VEVENT
DTSTART;TZID=Europe/Warsaw:20251023T200000
DTEND;TZID=Europe/Warsaw:20251023T213000
DTSTAMP:20260420T203415
CREATED:20251013T084637Z
LAST-MODIFIED:20251013T084637Z
UID:10001009-1761249600-1761255000@www.lubin.pl
SUMMARY:ORLEN Superliga Mężczyzn: MKS Zagłębie Lubin vs Zepter KPR Legionowo
DESCRIPTION:
URL:https://www.lubin.pl/wydarzenie/orlen-superliga-mezczyzn-mks-zaglebie-lubin-vs-zepter-kpr-legionowo/
LOCATION:Hala Widowiskowo – Sportowa RCS w Lubinie\, Odrodzenia 28b\, Lubin\, 59-300
END:VEVENT
BEGIN:VEVENT
DTSTART;TZID=Europe/Warsaw:20251022T203000
DTEND;TZID=Europe/Warsaw:20251022T220000
DTSTAMP:20260420T203415
CREATED:20251013T084504Z
LAST-MODIFIED:20251022T064617Z
UID:10001008-1761165000-1761170400@www.lubin.pl
SUMMARY:ORLEN Superliga Kobiet: KGHM MKS Zagłebie Lubin vs KPR Gminy Kobierzyce
DESCRIPTION:Już w środę kibiców piłki ręcznej czeka kolejne emocjonujące starcie w hali RCS w Lubinie. W meczu 8. serii ORLEN Superligi Kobiet zmierzymy się z ubiegłorocznym brązowym medalistą – KPR Gminy Kobierzyce. \nKup bilet TUTAJ
URL:https://www.lubin.pl/wydarzenie/orlen-superliga-kobiet-kghm-mks-zaglebie-lubin-vs-kpr-gminy-kobierzyce-2/
LOCATION:Hala Widowiskowo – Sportowa RCS w Lubinie\, Odrodzenia 28b\, Lubin\, 59-300
END:VEVENT
BEGIN:VEVENT
DTSTART;TZID=Europe/Warsaw:20251019T100000
DTEND;TZID=Europe/Warsaw:20251019T130000
DTSTAMP:20260420T203415
CREATED:20251010T121519Z
LAST-MODIFIED:20251010T121519Z
UID:10001006-1760868000-1760878800@www.lubin.pl
SUMMARY:39. Bieg Barbórkowy o Lampkę Górniczą
DESCRIPTION:Jedno z najbardziej rozpoznawalnych wydarzeń sportowych w regionie powraca! 39. edycja Biegu Barbórkowego o „Lampkę Górniczą” to impreza z wieloletnią tradycją\, która łączy pasję do biegania z górniczym duchem naszego miasta.\nNa 10-kilometrowej trasie wyznaczonej ulicami Lubina rywalizować będą zarówno amatorzy\, jak i doświadczeni zawodnicy z całej Polski i zagranicy.
URL:https://www.lubin.pl/wydarzenie/39-bieg-barborkowy-o-lampke-gornicza/
LOCATION:Hala Widowiskowo – Sportowa RCS w Lubinie\, Odrodzenia 28b\, Lubin\, 59-300
END:VEVENT
BEGIN:VEVENT
DTSTART;TZID=Europe/Warsaw:20251012T150000
DTEND;TZID=Europe/Warsaw:20251012T163000
DTSTAMP:20260420T203415
CREATED:20251006T094121Z
LAST-MODIFIED:20251006T094121Z
UID:10001005-1760281200-1760286600@www.lubin.pl
SUMMARY:ORLEN Superliga Mężczyzn: MKS Zagłębie Lubin vs Industria Kielce
DESCRIPTION:KUP BILETY TUTAJ
URL:https://www.lubin.pl/wydarzenie/orlen-superliga-mezczyzn-mks-zaglebie-lubin-vs-industria-kielce/
LOCATION:Hala Widowiskowo – Sportowa RCS w Lubinie\, Odrodzenia 28b\, Lubin\, 59-300
END:VEVENT
BEGIN:VEVENT
DTSTART;TZID=Europe/Warsaw:20251008T203000
DTEND;TZID=Europe/Warsaw:20251008T220000
DTSTAMP:20260420T203415
CREATED:20251006T093246Z
LAST-MODIFIED:20251006T093619Z
UID:10001004-1759955400-1759960800@www.lubin.pl
SUMMARY:ORLEN Superliga Kobiet: KGHM MKS Zagłębie Lubin vs PGE MKS El-Volt Lublin
DESCRIPTION:Przed nami jedno z najbardziej wyczekiwanych wydarzeń tego sezonu! Już 8 października w hali RCS w Lubinie dojdzie do starcia dwóch czołowych drużyn ORLEN Superligi – KGHM MKS Zagłębie Lubin podejmie PGE MKS El-Volt Lublin. \nNa parkiecie zmierzą się zespoły\, które od lat należą do ścisłej czołówki krajowej piłki ręcznej. Ich rywalizacja zawsze dostarcza ogromnych emocji\, a mecze między tymi drużynami przyciągają tłumy kibiców spragnionych spektakularnych akcji i zwrotów wydarzeń. \nKUP BILETY TUTAJ
URL:https://www.lubin.pl/wydarzenie/orlen-superliga-kobiet-mks-zaglebie-lubin-vs-pge-mks-el-volt-lublin/
LOCATION:Hala Widowiskowo – Sportowa RCS w Lubinie\, Odrodzenia 28b\, Lubin\, 59-300
END:VEVENT
BEGIN:VEVENT
DTSTART;TZID=Europe/Warsaw:20251005T170000
DTEND;TZID=Europe/Warsaw:20251005T210000
DTSTAMP:20260420T203415
CREATED:20250404T092832Z
LAST-MODIFIED:20251001T111724Z
UID:10000792-1759683600-1759698000@www.lubin.pl
SUMMARY:Polska Noc Kabaretowa 2025
DESCRIPTION:W 2025 roku zapraszamy Was do królestwa uśmiechu! \nPrzygotujcie się na prawdziwą ucztę humoru\, bo na scenie wystąpią giganci polskiej sceny kabaretowej: Kabaret Skeczów Męczących\, Kabaret Nowaki\, Kabaret Młodych Panów\, Kabaret Smile\, Igor Kwiatkowski\, Kabaret K2\, Ewa Błachnio! A całość poprowadzi niepowtarzalny Bartosz Klauzinski. \nTa królewska obsada rozbawi Was do łez! \nZakładajcie korony uśmiechu i dołączcie do nas na największym kabaretowym wydarzeniu roku! Przekonajcie się sami\, jak wielką wartość ma uśmiech w Waszym życiu. \nBILETY DOSTĘPNE W KASIE SQUASH W HALI WIDOWISKOWO-SPORTOWEJ!
URL:https://www.lubin.pl/wydarzenie/polska-noc-kabaretowa-2025/
LOCATION:Hala Widowiskowo – Sportowa RCS w Lubinie\, Odrodzenia 28b\, Lubin\, 59-300
END:VEVENT
BEGIN:VEVENT
DTSTART;TZID=Europe/Warsaw:20250925T180000
DTEND;TZID=Europe/Warsaw:20250925T200000
DTSTAMP:20260420T203415
CREATED:20250916T120717Z
LAST-MODIFIED:20250916T120717Z
UID:10001000-1758823200-1758830400@www.lubin.pl
SUMMARY:Uroczysta inauguracja roku akademickiego Uniwersytetu Senioralnego
DESCRIPTION:Prezydent Miasta Lubina\, Robert Raczyński\, zaprasza seniorów oraz wszystkich mieszkańców na uroczyste rozpoczęcie nowego roku akademickiego Uniwersytetu Senioralnego. \n\nWieczór uświetni koncert „Symfonia Tysiąclecia” – niezwykła podróż przez najpiękniejsze polskie melodie\, które na zawsze zapisały się w naszej historii i wspólnej pamięci. Usłyszymy m.in. „Dumkę na dwa serca”\, temat z „Polskich dróg” czy „Poloneza” z „Pana Tadeusza”. \n\nPotęgę muzyki Narodowej Orkiestry Dętej pod batutą Justyny Chmielek-Korbut wzbogaci występ chóru oraz baletu Zespołu Pieśni i Tańca „Śląsk”\, a całość dopełnią emocjonujące wykonania solistów: Mateusza Ziółko\, Magdaleny Drozd\, Doroty Nowak\, Mai Skrzątek i Krystiana Psujka. \n\nTo będzie wieczór pełen muzyki\, wzruszeń i wspólnego świętowania – nie tylko dla studentów Uniwersytetu Senioralnego\, ale dla całej społeczności Lubina. \n\nData: 25 września 2025\nGodzina: 18:00 (otwarcie hali o godz. 17:00)\nHala Widowiskowo-Sportowa RCS\, Lubin\nWstęp wolny \n\nUniwersytet Senioralny w Lubinie działa już od 2007 roku z inicjatywy prezydenta miasta. Z roku na rok gromadzi coraz liczniejsze grono studentów-seniorów\, którzy dzięki zajęciom mogą nie tylko rozwijać swoje pasje i zdobywać nowe umiejętności – od języków obcych\, przez informatykę\, aż po zajęcia ruchowe – ale także poznawać nowych ludzi i czerpać radość z aktywności w gronie przyjaciół.
URL:https://www.lubin.pl/wydarzenie/uroczysta-inauguracja-roku-akademickiego-uniwersytetu-senioralnego/
LOCATION:Hala Widowiskowo – Sportowa RCS w Lubinie\, Odrodzenia 28b\, Lubin\, 59-300
END:VEVENT
BEGIN:VEVENT
DTSTART;TZID=Europe/Warsaw:20250910T203000
DTEND;TZID=Europe/Warsaw:20250910T220000
DTSTAMP:20260420T203415
CREATED:20250910T090006Z
LAST-MODIFIED:20250910T090006Z
UID:10000995-1757536200-1757541600@www.lubin.pl
SUMMARY:MKS Zagłębie Lubin vs Piotrcovia Piotrków Trybunalski
DESCRIPTION:KGHM Zagłębie Lubin w 3. serii podejmować będzie Piotrcovię. Naprzeciw siebie staną zespoły\, które w pierwszych dwóch meczach odniosły po dwa zwycięstwa. \nMiedziowe po zdobyciu Superpucharu Polski zaczęły ligowe zmagania z przytupem. Lubinianki pewnie pokonały zespoły z Koszalina i Gliwic i obecnie plasują się na pierwszym miejscu w tabeli. \nDwa zwycięstwa ma na swoim koncie także Piotrcovia. Rywalki KGHM Zagłębia pokonały kolejno drużyny Galiczanki Lwów oraz Enea Gniezno. \nKup bilet TUTAJ!
URL:https://www.lubin.pl/wydarzenie/mks-zaglebie-lubin-vs-piotrcovia-piotrkow-trybunalski/
LOCATION:Hala Widowiskowo – Sportowa RCS w Lubinie\, Odrodzenia 28b\, Lubin\, 59-300
END:VEVENT
BEGIN:VEVENT
DTSTART;TZID=Europe/Warsaw:20250906T180000
DTEND;TZID=Europe/Warsaw:20250906T200000
DTSTAMP:20260420T203415
CREATED:20250428T104100Z
LAST-MODIFIED:20250428T104100Z
UID:10000820-1757181600-1757188800@www.lubin.pl
SUMMARY:SOBEL | Napisz jak będziesz w Lubinie
DESCRIPTION:Sobel wraca na scenę z nową trasą koncertową promującą album „NAPISZ JAK BĘDZIESZ”. To kontynuacja jego muzycznej podróży\, ale w nowym\, świeższym wydaniu – bardziej inkluzywnym\, lżejszym brzmieniowo\, ale nadal głęboko emocjonalnym. \n\nWstęp od 15 roku życia \nOsoby mające mniej niż 15 lat mogą wejść wyłącznie z pełnoprawnym opiekunem. \n\n\nBilety dostępne TUTAJ \n\n 
URL:https://www.lubin.pl/wydarzenie/sobel-napisz-jak-bedziesz-w-lubinie/
LOCATION:Hala Widowiskowo – Sportowa RCS w Lubinie\, Odrodzenia 28b\, Lubin\, 59-300
END:VEVENT
BEGIN:VEVENT
DTSTART;TZID=Europe/Warsaw:20250816T090000
DTEND;TZID=Europe/Warsaw:20250816T210000
DTSTAMP:20260420T203415
CREATED:20250808T101834Z
LAST-MODIFIED:20250808T101834Z
UID:10000972-1755334800-1755378000@www.lubin.pl
SUMMARY:Memoriał im. Henryka Kruglińskiego || MKS Zagłębie Lubin
DESCRIPTION:W turnieju w Lubinie\, oprócz gospodyń KGHM MKS Zagłębia Lubin\, wystąpią także inni przedstawiciele ORLEN Superligi Kobiet KPR Kobierzyce i MKS Piotrcovia Piotrków Trybunalski. Stawkę uzupełni czeski Banik Most. \nZespoły rywalizować będą w półfinałach\, których zwycięzcy zagrają o pierwsze\, a przegrani o trzecie miejsce. Mecze rozgrywane będą 2×25 min. \n16.08.2024 (sobota) \nGodz. 9:00 KGHM MKS Zagłębie Lubin – Piotrcovia \nGodz. 11:00 KPR Kobierzyce – DHK Banik Most \nGodz. 17:00 mecz o 3. Miejsce \nGodz. 19:00 Finał \n 
URL:https://www.lubin.pl/wydarzenie/memorial-im-henryka-kruglinskiego-mks-zaglebie-lubin/
LOCATION:Hala Widowiskowo – Sportowa RCS w Lubinie\, Odrodzenia 28b\, Lubin\, 59-300
END:VEVENT
BEGIN:VEVENT
DTSTART;TZID=Europe/Warsaw:20250621T190000
DTEND;TZID=Europe/Warsaw:20250621T235900
DTSTAMP:20260420T203415
CREATED:20250521T065651Z
LAST-MODIFIED:20250521T065651Z
UID:10000855-1750532400-1750550340@www.lubin.pl
SUMMARY:FEN 59
DESCRIPTION:21 czerwca w Lubinie odbędzie się gala FEN 59. Organizacja podczas tego wydarzenia wyłoni aż 3 swoich mistrzów. \nW walce wieczoru Tomasz Ostrowski (5-1\, 3 KO\, 2 SUB) przystąpi do pierwszej obrony mistrzowskiego tytułu – naprzeciwko niego w klatce stanie bohater lokalnej publiczności\, Mateusz Janur (9-6\, 6 KO\, 1 SUB). W poprzedzającym to starcie pojedynku największa gwiazda FEN\, Damian Rzepecki (8-0\, 3 KO\, 5 SUB)\, skrzyżuje rękawice z Patrykiem Duńskim (12-6-1\, 6 KO\, 2 SUB). \nDo przejęcia tronu mistrzowskiego w kategorii piórkowej dojdzie również w trzecim starciu. Rozpędzony serią zwycięstw lubinianin Gracjan Miś (5-2\, 4 KO) podejmie Miłosza Kruka (5-1\, 2 KO\, 1 SUB). Będzie to rewanż za ich pojedynek z gali FEN 56.
URL:https://www.lubin.pl/wydarzenie/fen-59/
LOCATION:Hala Widowiskowo – Sportowa RCS w Lubinie\, Odrodzenia 28b\, Lubin\, 59-300
END:VEVENT
BEGIN:VEVENT
DTSTART;TZID=Europe/Warsaw:20250607T180000
DTEND;TZID=Europe/Warsaw:20250607T200000
DTSTAMP:20260420T203415
CREATED:20250428T090935Z
LAST-MODIFIED:20250428T090935Z
UID:10000819-1749319200-1749326400@www.lubin.pl
SUMMARY:IV edycja koncertu „Dzieci rodzicom” || Zespół Piosenki i Tańca „Gwarkowie”
DESCRIPTION:Już 7 czerwca o godzinie 18:00 w hali RCS odbędzie się czwarta edycja koncertu „Dzieci rodzicom”\, organizowana z okazji Dnia Matki\, Dnia Dziecka i Dnia Ojca. W tym roku wydarzenie będzie miało także szczególny charakter – świętujemy 40-lecie Zespołu Piosenki i Tańca „Gwarkowie”!\n\nNa scenie zobaczymy około 160 tancerek w nowych choreografiach i strojach\, a w jubileuszu wezmą udział także byłe tancerki\, które specjalnie na tę okazję przyjadą z różnych zakątków świata.\n\nWstęp na koncert jest bezpłatny – wejściówki można odebrać od 29 kwietnia w recepcji squasha w hali RCS.
URL:https://www.lubin.pl/wydarzenie/iv-edycja-koncertu-dzieci-rodzicom-zespol-piosenki-i-tanca-gwarkowie/
LOCATION:Hala Widowiskowo – Sportowa RCS w Lubinie\, Odrodzenia 28b\, Lubin\, 59-300
END:VEVENT
BEGIN:VEVENT
DTSTART;TZID=Europe/Warsaw:20250602T093000
DTEND;TZID=Europe/Warsaw:20250602T120000
DTSTAMP:20260420T203415
CREATED:20250602T054318Z
LAST-MODIFIED:20250602T054318Z
UID:10000861-1748856600-1748865600@www.lubin.pl
SUMMARY:Zmagania 6-latków || Regionalne Centrum Sportowe
DESCRIPTION:Z okazji Międzynarodowego Dnia Dziecka Regionalne Centrum Sportowe organizuje imprezę sportową adresowaną do dzieci z lubińskich przedszkoli. \nW zmaganiach mogą wziąć udział reprezentacje z każdego lubińskiego przedszkola. Drużyna  musi sie składać z 10 zawodników + 2  rezerwowych oraz 2 opiekunów.   \nW ramach Zmagań Sześciolatków dzieci biorą udział w specjalnie dla nich przygotowanych dyscyplinach sportowych. Po zakończonej rywalizacji następuje uroczystość wręczenia nagród. \nWszystkie przedszkola będą musiały jak najszybciej pokonać poniższe konkurencje: \n\nbieg przez hula-hop\nskakańce\ntoczenie piłki lekarskiej 2 kg\nsztafeta – bieg slalomem przekazanie pałeczki następnemu zawodnikowi\nbieg w workach\nbieg przez hula – hop – konkurencja obowiązkowa dla opiekunów!!!
URL:https://www.lubin.pl/wydarzenie/zmagania-6-latkow-regionalne-centrum-sportowe/
LOCATION:Hala Widowiskowo – Sportowa RCS w Lubinie\, Odrodzenia 28b\, Lubin\, 59-300
END:VEVENT
BEGIN:VEVENT
DTSTART;TZID=Europe/Warsaw:20250525T123000
DTEND;TZID=Europe/Warsaw:20250525T150000
DTSTAMP:20260420T203415
CREATED:20250513T064448Z
LAST-MODIFIED:20250513T064830Z
UID:10000827-1748176200-1748185200@www.lubin.pl
SUMMARY:ORLEN Superliga Kobiet: KGHM MKS Zagłębie Lubin vs. PGE MKS FunFloor Lublin
DESCRIPTION:
URL:https://www.lubin.pl/wydarzenie/orlen-superliga-kobiet-kghm-mks-zaglebie-lubin-vs-pge-mks-funfloor-lublin/
LOCATION:Hala Widowiskowo – Sportowa RCS w Lubinie\, Odrodzenia 28b\, Lubin\, 59-300
END:VEVENT
BEGIN:VEVENT
DTSTART;TZID=Europe/Warsaw:20250514T180000
DTEND;TZID=Europe/Warsaw:20250514T193000
DTSTAMP:20260420T203415
CREATED:20250513T062134Z
LAST-MODIFIED:20250513T062956Z
UID:10000826-1747245600-1747251000@www.lubin.pl
SUMMARY:ORLEN Superliga: MKS Zagłębie Lubin vs. Zepter KPR Legionowo
DESCRIPTION:
URL:https://www.lubin.pl/wydarzenie/orlen-superliga-mks-zaglebie-lubin-vs-zepter-kpr-legionowo/
LOCATION:Hala Widowiskowo – Sportowa RCS w Lubinie\, Odrodzenia 28b\, Lubin\, 59-300
END:VEVENT
BEGIN:VEVENT
DTSTART;TZID=Europe/Warsaw:20250509T080000
DTEND;TZID=Europe/Warsaw:20250509T170000
DTSTAMP:20260420T203415
CREATED:20250404T091651Z
LAST-MODIFIED:20250424T075138Z
UID:10000791-1746777600-1746810000@www.lubin.pl
SUMMARY:10 Tenorów - koncert || Hala widowiskowo-sportowa RCS
DESCRIPTION:„10 Tenorów” to wyjątkowe muzyczne widowisko\, które łączy siłę klasycznego śpiewu z energią największych przebojów muzyki rozrywkowej i filmowej. Dziesięciu utalentowanych tenorów z różnych zakątków Europy zabiera publiczność w emocjonalną podróż – od wzruszających arii operowych po porywające hity Queen\, Toma Jonesa czy Il Divo. To koncert pełen pasji\, humoru i potężnych głosów\, które poruszają serca i zostają w pamięci na długo. Idealna propozycja dla tych\, którzy kochają moc wokalu i piękne melodie w nowoczesnej oprawie. \nBilety dostępne w kasie squash hali RCS oraz ONLINE
URL:https://www.lubin.pl/wydarzenie/10-tenorow-koncert/
LOCATION:Hala Widowiskowo – Sportowa RCS w Lubinie\, Odrodzenia 28b\, Lubin\, 59-300
END:VEVENT
BEGIN:VEVENT
DTSTART;TZID=Europe/Warsaw:20250424T203000
DTEND;TZID=Europe/Warsaw:20250424T220000
DTSTAMP:20260420T203415
CREATED:20250417T122841Z
LAST-MODIFIED:20250424T063044Z
UID:10000812-1745526600-1745532000@www.lubin.pl
SUMMARY:ORLEN Superliga Kobiet: KGHM MKS Zagłębie Lubin vs. Urbis Gniezno
DESCRIPTION:W Hali Widowiskowo – Sportowej w Lubinie KGHM Zagłębie podejmie MKS URBIS Gniezno w ramach rundy finałowej ORLEN Superligi piłkarek ręcznych. Mecz odbędzie się 24 kwietnia o godz. 20:30. \nLubinianki po wizycie w Lublinie wracają na własny parkiet. Miedziowe przewodzą ligowej stawce\, ale muszą zachować czujność\, aby cieszyć się z kolejnego mistrzostwa Polski. \nZespół z Gniezna plasuje się na piątej pozycji i wciąż walczy o obronę czwartego miejsca z ubiegłego sezonu. \nKUP BILET TUTAJ
URL:https://www.lubin.pl/wydarzenie/orlen-superliga-kobiet-kghm-mks-zaglebie-lubin-vs-urbis-gniezno/
LOCATION:Hala Widowiskowo – Sportowa RCS w Lubinie\, Odrodzenia 28b\, Lubin\, 59-300
END:VEVENT
BEGIN:VEVENT
DTSTART;TZID=Europe/Warsaw:20250424T180000
DTEND;TZID=Europe/Warsaw:20250424T193000
DTSTAMP:20260420T203415
CREATED:20250417T122550Z
LAST-MODIFIED:20250424T063224Z
UID:10000811-1745517600-1745523000@www.lubin.pl
SUMMARY:ORLEN Superliga: MKS Zagłębie Lubin vs. Azoty Puławy
DESCRIPTION:Przed nami drugie spotkanie rundy spadkowej ORLEN Superligi. Piłkarze ręczni Zagłębia Lubin kolejny raz zagrają na parkiecie Hali Widowiskowo – Sportowej w Lubinie\, tym razem w czwartek 24 kwietnia o godz. 18:00 podejmować będą Azoty Puławy. \nObie drużyny sąsiadują ze sobą w tabeli i grają o zajęcie jak najwyższego miejsca na zakończenie sezonu. W rundzie zasadniczej w Puławach górą były Azoty\, w Lubinie wygrało Zagłębie. \nKUP BILET TUTAJ
URL:https://www.lubin.pl/wydarzenie/orlen-superliga-mks-zaglebie-lubin-vs-azoty-pulawy/
LOCATION:Hala Widowiskowo – Sportowa RCS w Lubinie\, Odrodzenia 28b\, Lubin\, 59-300
END:VEVENT
BEGIN:VEVENT
DTSTART;TZID=Europe/Warsaw:20250417T180000
DTEND;TZID=Europe/Warsaw:20250417T193000
DTSTAMP:20260420T203415
CREATED:20250416T090408Z
LAST-MODIFIED:20250416T090408Z
UID:10000801-1744912800-1744918200@www.lubin.pl
SUMMARY:ORLEN Superliga: KGHM MKS Zagłębie Lubin vs Piotrkowianin Piotrków Trybunalski
DESCRIPTION:Już w czwartek KGHM MKS Zagłębie Lubin zmierzy się z Piotrkowianinem w kolejnym starciu grupy spadkowej.  \nDo utrzymania brakuje nam tylko jednego punktu\, więc emocji na pewno nie zabraknie! \nKUP BILET TUTAJ
URL:https://www.lubin.pl/wydarzenie/orlen-superliga-kghm-mks-zaglebie-lubin-vs-piotrkowianin-piotrkow-trybunalski/
LOCATION:Hala Widowiskowo – Sportowa RCS w Lubinie\, Odrodzenia 28b\, Lubin\, 59-300
END:VEVENT
BEGIN:VEVENT
DTSTART;TZID=Europe/Warsaw:20250411T200000
DTEND;TZID=Europe/Warsaw:20250411T220000
DTSTAMP:20260420T203415
CREATED:20250225T220953Z
LAST-MODIFIED:20250404T085944Z
UID:10000738-1744401600-1744408800@www.lubin.pl
SUMMARY:"Złote Myśli" Daniel Midas - STAND UP
DESCRIPTION:Daniel Midas na żywo!  \nWyjątkowy występ Daniela Midasa\, mistrza sceny stand-upowej i autora niezapomnianych żartów! Przygotujcie się na wieczór pełen śmiechu i doskonałej zabawy! \nBilety do nabycia w kasie squash Hali Widowiskowo-Sportowej oraz online https://www.kupbilecik.pl/imprezy/150638/Lubin/Stand-up%3A+Daniel+Midas/
URL:https://www.lubin.pl/wydarzenie/daniel-midas-zlote-mysli-stand-up/
LOCATION:Hala Widowiskowo – Sportowa RCS w Lubinie\, Odrodzenia 28b\, Lubin\, 59-300
ATTACH;FMTTYPE=image/png:https://www.lubin.pl/wp-content/uploads/2025/02/Zrzut-ekranu-2025-02-25-230010.png
END:VEVENT
BEGIN:VEVENT
DTSTART;TZID=Europe/Warsaw:20250403T203000
DTEND;TZID=Europe/Warsaw:20250403T220000
DTSTAMP:20260420T203415
CREATED:20250401T080421Z
LAST-MODIFIED:20250401T080421Z
UID:10000781-1743712200-1743717600@www.lubin.pl
SUMMARY:ORLEN Superliga Kobiet: KGHM MKS Zagłębie Lubin vs KPR Gminy Kobierzyce.
DESCRIPTION:Przed nami kolejne derby Dolnego Śląska. W czwartek w hali RCS piłkarki ręczne KGHM MKS Zagłębie Lubin podejmować będą KPR Kobierzyce.\n \nLubinianki kroczą od zwycięstwa do zwycięstwa i pewnie przewodzą ligowej stawce. Miedziowe tylko raz zaznały goryczy porażki i mają sześć punktów przewagi nad rywalkami z Lublina.\n \nKPR ostatnia domowa porażka z Gnieznem skomplikował swoją sytuację w walce o złoty\, a nawet srebrny medal.\n \nKUB BILET TUTAJ
URL:https://www.lubin.pl/wydarzenie/orlen-superliga-kobiet-kghm-mks-zaglebie-lubin-vs-kpr-gminy-kobierzyce/
LOCATION:Hala Widowiskowo – Sportowa RCS w Lubinie\, Odrodzenia 28b\, Lubin\, 59-300
END:VEVENT
BEGIN:VEVENT
DTSTART;TZID=Europe/Warsaw:20250329T180000
DTEND;TZID=Europe/Warsaw:20250329T193000
DTSTAMP:20260420T203415
CREATED:20250328T131619Z
LAST-MODIFIED:20250328T131619Z
UID:10000780-1743271200-1743276600@www.lubin.pl
SUMMARY:ORLEN Superliga Mężczyzn: MKS Zagłębie Lubin vs. KGHM Chrobry Głogów
DESCRIPTION:W ramach ORLEN Superligi Mężczyzn\, szczypiorniści MKS Zagłębie Lubin podejmą drużynę KGHM Chrobry Głogów. Spotkania pomiędzy tymi zespołami zawsze dostarczają wielu emocji\, gdyż są to regionalne derby. Obie drużyny walczą o cenne punkty w ligowej tabeli\, co zapowiada zaciętą rywalizację.  \nKUP BILET TUTAJ!
URL:https://www.lubin.pl/wydarzenie/orlen-superliga-mezczyzn-mks-zaglebie-lubin-vs-kghm-chrobry-glogow/
LOCATION:Hala Widowiskowo – Sportowa RCS w Lubinie\, Odrodzenia 28b\, Lubin\, 59-300
END:VEVENT
BEGIN:VEVENT
DTSTART;TZID=Europe/Warsaw:20250329T150000
DTEND;TZID=Europe/Warsaw:20250329T163000
DTSTAMP:20260420T203415
CREATED:20250328T131346Z
LAST-MODIFIED:20250328T131704Z
UID:10000779-1743260400-1743265800@www.lubin.pl
SUMMARY:Ćwierćfinał ORLEN Pucharu Polski Kobiet: KGHM MKS Zagłębie Lubin vs. Energa Start Elbląg
DESCRIPTION:Piłkarki ręczne KGHM MKS Zagłębie Lubin zmierzą się z zespołem Energa Start Elbląg w ćwierćfinale ORLEN Pucharu Polski Kobiet. Lubinianki\, jako liderki ORLEN Superligi Kobiet\, będą faworytkami tego spotkania. Zwycięstwo zapewni im awans do półfinału rozgrywek.  \nKUP BILET TUTAJ!
URL:https://www.lubin.pl/wydarzenie/cwiercfinal-orlen-pucharu-polski-kobiet-kghm-mks-zaglebie-lubin-vs-energa-start-elblag/
LOCATION:Hala Widowiskowo – Sportowa RCS w Lubinie\, Odrodzenia 28b\, Lubin\, 59-300
END:VEVENT
BEGIN:VEVENT
DTSTART;TZID=Europe/Warsaw:20250326T203000
DTEND;TZID=Europe/Warsaw:20250326T220000
DTSTAMP:20260420T203415
CREATED:20250325T101642Z
LAST-MODIFIED:20250325T101812Z
UID:10000777-1743021000-1743026400@www.lubin.pl
SUMMARY:Mecz: MKS Zagłębie Lubin vs. Energa Start Elbląg
DESCRIPTION:W środę\, 26 marca\, o godzinie 20:30 w hali Regionalnego Centrum Sportowego w Lubinie panie z MKS Zagłębie Lubin rozegrają trzeci mecz rundy finałowej ORLEN Superligi Kobiet. Ich rywalem będzie czwarty zespół obecnego sezonu – Energa Start Elbląg. \nKUP BILET TUTAJ
URL:https://www.lubin.pl/wydarzenie/mecz-mks-zaglebie-lubin-vs-energa-start-elblag/
LOCATION:Hala Widowiskowo – Sportowa RCS w Lubinie\, Odrodzenia 28b\, Lubin\, 59-300
END:VEVENT
END:VCALENDAR