BEGIN:VCALENDAR
VERSION:2.0
PRODID:-//Lubin - Portal Miasta - ECPv6.10.2//NONSGML v1.0//EN
CALSCALE:GREGORIAN
METHOD:PUBLISH
X-ORIGINAL-URL:https://www.lubin.pl
X-WR-CALDESC:Wydarzenia dla Lubin - Portal Miasta
REFRESH-INTERVAL;VALUE=DURATION:PT1H
X-Robots-Tag:noindex
X-PUBLISHED-TTL:PT1H
BEGIN:VTIMEZONE
TZID:Europe/Warsaw
BEGIN:DAYLIGHT
TZOFFSETFROM:+0100
TZOFFSETTO:+0200
TZNAME:CEST
DTSTART:20250330T010000
END:DAYLIGHT
BEGIN:STANDARD
TZOFFSETFROM:+0200
TZOFFSETTO:+0100
TZNAME:CET
DTSTART:20251026T010000
END:STANDARD
END:VTIMEZONE
BEGIN:VEVENT
DTSTART;TZID=Europe/Warsaw:20250522T170000
DTEND;TZID=Europe/Warsaw:20250522T183000
DTSTAMP:20260421T162843
CREATED:20250516T062808Z
LAST-MODIFIED:20250516T062808Z
UID:10000841-1747933200-1747938600@www.lubin.pl
SUMMARY:"Ślady światła\, ślady cienia" - wernisaż wystawy Jarosława Kościelnego || Galeria Ratuszowa
DESCRIPTION:Muzeum Historyczne w Lubinie zaprasza na wernisaż oraz nową wystawę malarstwa i rysunku Jarosława Kościelnego.  \nWystawa prezentuje szeroki wachlarz twórczości artysty amatora\, samouka\, posługującego się głównie techniką malarstwa olejnego oraz rysunkiem węglem. W jego pracach obecne są zarówno realistyczne przedstawienia postaci i scen\, jak i obrazy o zabarwieniu symbolicznym czy onirycznym. \nTematyka ekspozycji obejmuje portret\, sceny marynistyczne\, motywy związane z tańcem klasycznym\, a także surrealistyczne kompozycje wykonane węglem. Mimo różnorodności tematycznej\, prace łączy dążenie do uchwycenia ruchu\, emocji i ulotnych momentów\, które wymykają się codziennemu spojrzeniu. Wystawa stanowi zaproszenie do osobistego kontaktu ze sztuką pełnej skupienia i refleksji. \nWystawę można oglądać w Galerii Ratuszowej od 22 maja do 6 lipca 2025 roku. \nWstęp bezpłatny
URL:https://www.lubin.pl/wydarzenie/slady-swiatla-slady-cienia-wernisaz-wystawy-jaroslawa-koscielnego-galeria-ratuszowa/
LOCATION:Galeria Ratuszowa\, Rynek 23\, Lubin\, 59-300
END:VEVENT
BEGIN:VEVENT
DTSTART;TZID=Europe/Warsaw:20250307T170000
DTEND;TZID=Europe/Warsaw:20250307T183000
DTSTAMP:20260421T162843
CREATED:20250305T112929Z
LAST-MODIFIED:20250305T114307Z
UID:10000756-1741366800-1741372200@www.lubin.pl
SUMMARY:Wernisaż wystawy malarstwa pt. „Piąty Żywioł” - Galeria Pałacyk
DESCRIPTION:Muzeum Historyczne w Lubinie zaprasza na wernisaż wystawy malarstwa pt. „Piąty Żywioł” – artystyczną opowieść o kobiecej sile\, energii i pasji. Ekspozycja przygotowana została z okazji Międzynarodowego Dnia Kobiet. Autorką prac jest Jolanta Jóźwiak\, mieszkanka Lubina. \nWystawa „Piąty Żywioł” to zbiór kilkunastu obrazów początkującej artystki z Lubina\, która poprzez tworzone przez siebie prace\, chce ukazać kobietę jako potęgę natury – nieokiełznaną a zarazem inspirującą. Zapraszamy do świata\, w którym sztuka oddaje hołd kobiecości – pełnej pasji\, mocy i nieograniczonego potencjału. \nWięcej informacji
URL:https://www.lubin.pl/wydarzenie/wernisaz-wystawy-malarstwa-pt-piaty-zywiol-galeria-palacyk/
LOCATION:Galeria Ratuszowa\, Rynek 23\, Lubin\, 59-300
END:VEVENT
END:VCALENDAR