BEGIN:VCALENDAR
VERSION:2.0
PRODID:-//Lubin - Portal Miasta - ECPv6.10.2//NONSGML v1.0//EN
CALSCALE:GREGORIAN
METHOD:PUBLISH
X-WR-CALNAME:Lubin - Portal Miasta
X-ORIGINAL-URL:https://www.lubin.pl
X-WR-CALDESC:Wydarzenia dla Lubin - Portal Miasta
REFRESH-INTERVAL;VALUE=DURATION:PT1H
X-Robots-Tag:noindex
X-PUBLISHED-TTL:PT1H
BEGIN:VTIMEZONE
TZID:Europe/Warsaw
BEGIN:DAYLIGHT
TZOFFSETFROM:+0100
TZOFFSETTO:+0200
TZNAME:CEST
DTSTART:20250330T010000
END:DAYLIGHT
BEGIN:STANDARD
TZOFFSETFROM:+0200
TZOFFSETTO:+0100
TZNAME:CET
DTSTART:20251026T010000
END:STANDARD
END:VTIMEZONE
BEGIN:VEVENT
DTSTART;TZID=Europe/Warsaw:20250706T180000
DTEND;TZID=Europe/Warsaw:20250706T190000
DTSTAMP:20260421T134543
CREATED:20250516T103858Z
LAST-MODIFIED:20250516T103858Z
UID:10000852-1751824800-1751828400@www.lubin.pl
SUMMARY:Koncert "W kręgu Krainy Łagodności" – Wszystkiego Najlepszego || Muzyczna Altana
DESCRIPTION:Na inaugurację letnich koncertów w „Muzycznej Altanie” Centrum Kultury „Muza” zaprasza na koncert zespołu „Wszystkiego Najlepszego”. \nTo grupa tworząca i wykonująca własne piosenki z klimatu Krainy Łagodności\, piosenki poetyckiej\, ballady i folku. Takie piosenki jak „Taradajka”\, „Jesienne oczekiwanie”\, „Łapka niedźwiadka”\, „Aniołowie Biali” i wiele innych można odnaleźć w wielu śpiewnikach. Zespół powstał lata temu i wyśpiewał wiele głównych nagród na najważniejszych festiwalach piosenki\, przeglądach poezji śpiewanej czy piosenki studenckiej m. in. kilkakrotnie na Yapie\, Bakcynaliach\, na Danielce\, na Giełdzie Piosenki w Szklarskiej Porębie\, na Bazunie\, Krakowskim Festiwalu Studenckim i wielu innych. \nPo latach przerwy wrócili wydając w 2017 r. płytę „Na przekór przyszłej korekcie”. Dwa lata później ukazała się kolejna „Wygnani Poeci”\, a w 2023 r. światło dzienne ujrzał trzeci album „Małe miasteczka”. Autorami większości tekstów są zaprzyjaźnieni twórcy: Krysia Bernd\, Aleksandra Bacińska\, Krzysztof Kasperczyk oraz założyciel zespołu i autor muzyki Maciej Rzeźnikowski. Zespół tworzy nowe piosenki i intensywnie koncertuje. Cechą charakterystyczną grupy jest wielogłos\, dopracowane aranżacje\, melodyjne kompozycje oraz poruszające teksty. \nAltana w Parku im. J. Piłsudskiego (za CK MUZA)\, wstęp wolny
URL:https://www.lubin.pl/wydarzenie/koncert-w-kregu-krainy-lagodnosci-wszystkiego-najlepszego-muzyczna-altana/
LOCATION:Altana w Parku im. J. Piłsudskiego\, Lubin\, 59-300
ORGANIZER;CN="Centrum Kultury 'Muza' w Lubinie":MAILTO:sekretariat@ckmuza.pl
END:VEVENT
END:VCALENDAR